{"text_format":"1","workbook":"xlsx","n_sheets":52,"sheets":["Сетка32","Сетка30","Сетка28","Сетка26","Сетка24","Сетка22","Сетка20","Сетка18","Сетка16","Сетка14","11. Сетка61,2","12. Сетка65,8","13. Сетка70,3","14. Сетка77,1","15. Сетка84","16. Сетка93","17. Сетка93+","Сетка12","Сетка10","Сетка8","Сетка6","Сетка4","Сетка3","Сетка2","Сетка0","1. Титульный","2. Содержание","3. СпСудей","4. ПВ 61,2","5. ПВ 65,8","6. ПВ 70,3","7. ПВ 77,1","8. ПВ 84","9. ПВ 93","10. ПВ 93+","Принцип сеток","18. ПР 61,2","19. ПР 65,8","20. ПР 70,3","21. ПР 77,1","22. ПР 84","23. ПР 93","24. ПР 93+","25. Командный","26. Итог чемпионата","Мандатка","Участники чемпионата","Исходные данные по чемпионату","Unvisible Servis","Unvisible Списки","Финалисты на второй день","Сетка32 Принцип жеребъёки"],"not_rendered":{"charts":0,"images":2,"macros":1,"external_links":1,"defined_names":87,"comments":1,"pivot_tables":0},"unopened":[],"bounds":{"document_bytes":16777216,"sheet_cells":100000,"rows_first":2000,"rows_last":500,"rows_between":2000,"halvings":0,"cell_chars":16384,"cell_head_chars":4096},"cells_cut":0,"cells_raw":0,"read":"whole","date_system":"1900"}

{"sheet":"Сетка32","index":0,"n_rows":105,"n_cols":38,"rows_kept":105,"cut":false,"hidden":true,"merged":[[1,2,1,36],[3,5,3,33],[3,36,4,36],[5,22,5,24],[14,6,15,6],[14,7,15,7],[14,30,15,30],[14,31,15,31],[16,6,17,7],[16,30,17,31],[10,6,11,7],[10,30,11,31],[12,6,13,6],[12,7,13,7],[12,30,13,30],[12,31,13,31],[13,9,14,10],[13,27,14,28],[26,30,27,30],[26,31,27,31],[28,6,29,7],[28,17,28,20],[28,30,29,31],[29,16,30,21],[19,12,20,13],[19,24,20,25],[22,6,23,7],[22,30,23,31],[24,6,25,6],[24,7,25,7],[24,30,25,30],[24,31,25,31],[25,9,26,10],[25,27,26,28],[31,15,32,16],[31,18,32,19],[31,21,32,22],[33,14,34,14],[33,15,34,15],[33,18,34,18],[33,19,34,19],[33,22,34,22],[26,6,27,6],[26,7,27,7],[37,27,38,28],[38,6,39,6],[38,7,39,7],[38,30,39,30],[38,31,39,31],[40,6,41,7],[40,30,41,31],[33,23,34,23],[34,6,35,7],[34,30,35,31],[35,16,35,21],[36,6,37,6],[36,7,37,7],[36,16,37,21],[36,30,37,30],[36,31,37,31],[37,9,38,10],[43,12,44,13],[43,24,44,25],[46,6,47,7],[46,30,47,31],[48,6,49,6],[48,7,49,7],[48,30,49,30],[48,31,49,31],[49,9,50,10],[49,27,50,28],[50,6,51,6],[50,7,51,7],[50,30,51,30],[50,31,51,31],[52,6,53,7],[52,30,53,31],[102,3,102,4],[103,3,103,4],[104,3,104,4],[78,17,78,26],[79,17,79,26],[80,17,80,26],[81,17,81,26],[55,1,55,4],[55,15,55,22],[55,24,55,25],[73,13,73,16],[74,13,74,16],[97,3,97,4],[98,3,98,4],[99,3,99,4],[86,3,86,4],[89,3,89,4],[90,3,90,4],[91,3,91,4],[92,3,92,4],[93,3,93,4],[67,3,67,4],[55,6,55,7],[55,9,55,10],[55,12,55,13],[73,35,73,36],[74,35,74,36],[94,3,94,4],[95,3,95,4],[96,3,96,4],[80,3,80,4],[81,3,81,4],[82,3,82,4],[83,3,83,4],[73,3,73,4],[74,3,74,4],[75,3,75,4],[75,17,75,26],[76,17,76,26],[77,17,77,26],[72,13,72,26],[73,17,73,26],[74,17,74,26],[19,2,20,2],[43,2,44,2],[19,36,20,36],[43,36,44,36],[55,33,55,36],[100,3,100,4],[101,3,101,4],[84,3,84,4],[85,3,85,4],[75,13,75,16],[76,13,76,16],[77,13,77,16],[78,13,78,16],[79,13,79,16],[80,13,80,16],[81,13,81,16],[68,3,68,4],[76,3,76,4],[79,3,79,4],[55,27,55,28],[55,30,55,31],[57,20,57,21],[61,3,61,4],[64,3,64,4]]}
[]
[null,null,{"$f":"'Исходные данные по чемпионату'!C3","v":"Чемпионат ХМАО-Югры по СБЕ (ММА) среди муж. 18лет и старше,первенство среди юношей 16-17лет"}]
[]
[null,null,null,null,null,"ПРОТОКОЛ СОРЕВНОВАНИЙ",null,null,null,null,null,null,null,null,null,null,null,null,null,null,null,null,null,null,null,null,null,null,null,null,null,null,null,null,null,null,{"$f":"'Исходные данные по чемпионату'!C6","v":"г. Ханты-Мансийск"}]
[]
[null,null,null,null,null,null,null,null,null,null,null,null,null,null,null,null,null,null,null,null,null,"Весовая категория до","65,8",null,null,"кг",null,null,null,null,null,null,null,null,null,null,{"$f":"'Исходные данные по чемпионату'!C4","v":"с16 по 19 февраля 2018г."}]
[]
[]
[null,"№","Спортсмен","Шлем","Команда",null,null,null,null,null,null,null,null,null,null,null,null,null,null,null,null,null,null,null,null,null,null,null,null,null,null,null,null,"№","Спортсмен","Шлем","Команда"]
[]
[null,1,{"$f":"IFERROR(VLOOKUP(CONCATENATE(B11,\" вес \",$W$6),'Участники чемпионата'!$A:$AA,13,0),\"\")","v":"Мамедов Руслан"},{"$f":"IF(IFERROR(VLOOKUP(CONCATENATE(B11,\" вес \",$W$6),'Участники чемпионата'!$A:$AA,25,0),\"\")=\"Шлем\",\"Ш\",\"\")","v":""},{"$f":"IFERROR(VLOOKUP(CONCATENATE(B11,\" вес \",$W$6),'Участники чемпионата'!$A:$AA,5,0),\"\")","v":"Скорпион (г. Лангепас)"},null,null,null,{"$f":"IFERROR(VLOOKUP(CONCATENATE(G11,\" вес \",$W$6),'Участники чемпионата'!$A:$AF,32,0),\"\")","v":""},null,null,null,null,null,null,null,null,null,null,null,null,null,null,null,null,null,null,null,null,{"$f":"IFERROR(VLOOKUP(CONCATENATE(AE11,\" вес \",$W$6),'Участники чемпионата'!$A:$AF,32,0),\"\")","v":""},null,null,null,2,{"$f":"IFERROR(VLOOKUP(CONCATENATE(AH11,\" вес \",$W$6),'Участники чемпионата'!$A:$AA,13,0),\"\")","v":"Бердиев Шахзод"},{"$f":"IF(IFERROR(VLOOKUP(CONCATENATE(AH11,\" вес \",$W$6),'Участники чемпионата'!$A:$AA,25,0),\"\")=\"Шлем\",\"Ш\",\"\")","v":"Ш"},{"$f":"IFERROR(VLOOKUP(CONCATENATE(AH11,\" вес \",$W$6),'Участники чемпионата'!$A:$AA,5,0),\"\")","v":"СДЮСШОР \"СПАРТАК\" (г.Нефтеюганск)"}]
[null,17,{"$f":"IFERROR(VLOOKUP(CONCATENATE(B12,\" вес \",$W$6),'Участники чемпионата'!$A:$AA,13,0),\"\")","v":""},{"$f":"IF(IFERROR(VLOOKUP(CONCATENATE(B12,\" вес \",$W$6),'Участники чемпионата'!$A:$AA,25,0),\"\")=\"Шлем\",\"Ш\",\"\")","v":""},{"$f":"IFERROR(VLOOKUP(CONCATENATE(B12,\" вес \",$W$6),'Участники чемпионата'!$A:$AA,5,0),\"\")","v":""},null,null,null,null,null,null,null,null,null,null,null,null,null,null,null,null,null,null,null,null,null,null,null,null,null,null,null,null,20,{"$f":"IFERROR(VLOOKUP(CONCATENATE(AH12,\" вес \",$W$6),'Участники чемпионата'!$A:$AA,13,0),\"\")","v":""},{"$f":"IF(IFERROR(VLOOKUP(CONCATENATE(AH12,\" вес \",$W$6),'Участники чемпионата'!$A:$AA,25,0),\"\")=\"Шлем\",\"Ш\",\"\")","v":""},{"$f":"IFERROR(VLOOKUP(CONCATENATE(AH12,\" вес \",$W$6),'Участники чемпионата'!$A:$AA,5,0),\"\")","v":""}]
[]
[null,null,null,null,null,null,null,null,null,null,null,{"$f":"IFERROR(VLOOKUP(CONCATENATE(J14,\" вес \",$W$6),'Участники чемпионата'!$A:$AF,32,0),\"\")","v":""},null,null,null,null,null,null,null,null,null,null,null,null,null,null,{"$f":"IFERROR(VLOOKUP(CONCATENATE(AB14,\" вес \",$W$6),'Участники чемпионата'!$A:$AF,32,0),\"\")","v":""}]
[]
[]
[null,5,{"$f":"IFERROR(VLOOKUP(CONCATENATE(B17,\" вес \",$W$6),'Участники чемпионата'!$A:$AA,13,0),\"\")","v":"Григоров Максим"},{"$f":"IF(IFERROR(VLOOKUP(CONCATENATE(B17,\" вес \",$W$6),'Участники чемпионата'!$A:$AA,25,0),\"\")=\"Шлем\",\"Ш\",\"\")","v":""},{"$f":"IFERROR(VLOOKUP(CONCATENATE(B17,\" вес \",$W$6),'Участники чемпионата'!$A:$AA,5,0),\"\")","v":"г. Ханты-Мансийск"},null,null,null,null,null,null,null,null,null,null,null,null,null,null,null,null,null,null,null,null,null,null,null,null,null,null,null,null,6,{"$f":"IFERROR(VLOOKUP(CONCATENATE(AH17,\" вес \",$W$6),'Участники чемпионата'!$A:$AA,13,0),\"\")","v":"Адыгешаов Расим"},{"$f":"IF(IFERROR(VLOOKUP(CONCATENATE(AH17,\" вес \",$W$6),'Участники чемпионата'!$A:$AA,25,0),\"\")=\"Шлем\",\"Ш\",\"\")","v":"Ш"},{"$f":"IFERROR(VLOOKUP(CONCATENATE(AH17,\" вес \",$W$6),'Участники чемпионата'!$A:$AA,5,0),\"\")","v":"г. Сургут"}]
[null,27,{"$f":"IFERROR(VLOOKUP(CONCATENATE(B18,\" вес \",$W$6),'Участники чемпионата'!$A:$AA,13,0),\"\")","v":""},{"$f":"IF(IFERROR(VLOOKUP(CONCATENATE(B18,\" вес \",$W$6),'Участники чемпионата'!$A:$AA,25,0),\"\")=\"Шлем\",\"Ш\",\"\")","v":""},{"$f":"IFERROR(VLOOKUP(CONCATENATE(B18,\" вес \",$W$6),'Участники чемпионата'!$A:$AA,5,0),\"\")","v":""},null,null,null,{"$f":"IFERROR(VLOOKUP(CONCATENATE(G17,\" вес \",$W$6),'Участники чемпионата'!$A:$AF,32,0),\"\")","v":""},null,null,null,null,null,null,null,null,null,null,null,null,null,null,null,null,null,null,null,null,{"$f":"IFERROR(VLOOKUP(CONCATENATE(AE17,\" вес \",$W$6),'Участники чемпионата'!$A:$AF,32,0),\"\")","v":""},null,null,null,22,{"$f":"IFERROR(VLOOKUP(CONCATENATE(AH18,\" вес \",$W$6),'Участники чемпионата'!$A:$AA,13,0),\"\")","v":""},{"$f":"IF(IFERROR(VLOOKUP(CONCATENATE(AH18,\" вес \",$W$6),'Участники чемпионата'!$A:$AA,25,0),\"\")=\"Шлем\",\"Ш\",\"\")","v":""},{"$f":"IFERROR(VLOOKUP(CONCATENATE(AH18,\" вес \",$W$6),'Участники чемпионата'!$A:$AA,5,0),\"\")","v":""}]
[]
[null,null,"A",null,null,null,null,null,null,null,null,null,null,null,{"$f":"IFERROR(VLOOKUP(CONCATENATE(M20,\" вес \",$W$6),'Участники чемпионата'!$A:$AF,32,0),\"\")","v":""},null,null,null,null,null,null,null,null,{"$f":"IFERROR(VLOOKUP(CONCATENATE(Y20,\" вес \",$W$6),'Участники чемпионата'!$A:$AF,32,0),\"\")","v":""},null,null,null,null,null,null,null,null,null,null,null,null,"C  "]
[]
[]
[null,9,{"$f":"IFERROR(VLOOKUP(CONCATENATE(B23,\" вес \",$W$6),'Участники чемпионата'!$A:$AA,13,0),\"\")","v":"Касумов  Али"},{"$f":"IF(IFERROR(VLOOKUP(CONCATENATE(B23,\" вес \",$W$6),'Участники чемпионата'!$A:$AA,25,0),\"\")=\"Шлем\",\"Ш\",\"\")","v":""},{"$f":"IFERROR(VLOOKUP(CONCATENATE(B23,\" вес \",$W$6),'Участники чемпионата'!$A:$AA,5,0),\"\")","v":"г. Сургут"},null,null,null,{"$f":"IFERROR(VLOOKUP(CONCATENATE(G23,\" вес \",$W$6),'Участники чемпионата'!$A:$AF,32,0),\"\")","v":""},null,null,null,null,null,null,null,null,null,null,null,null,null,null,null,null,null,null,null,null,{"$f":"IFERROR(VLOOKUP(CONCATENATE(AE23,\" вес \",$W$6),'Участники чемпионата'!$A:$AF,32,0),\"\")","v":""},null,null,null,10,{"$f":"IFERROR(VLOOKUP(CONCATENATE(AH23,\" вес \",$W$6),'Участники чемпионата'!$A:$AA,13,0),\"\")","v":"Магомедов Бурагим"},{"$f":"IF(IFERROR(VLOOKUP(CONCATENATE(AH23,\" вес \",$W$6),'Участники чемпионата'!$A:$AA,25,0),\"\")=\"Шлем\",\"Ш\",\"\")","v":""},{"$f":"IFERROR(VLOOKUP(CONCATENATE(AH23,\" вес \",$W$6),'Участники чемпионата'!$A:$AA,5,0),\"\")","v":"г. Нижневартовск"}]
[null,23,{"$f":"IFERROR(VLOOKUP(CONCATENATE(B24,\" вес \",$W$6),'Участники чемпионата'!$A:$AA,13,0),\"\")","v":""},{"$f":"IF(IFERROR(VLOOKUP(CONCATENATE(B24,\" вес \",$W$6),'Участники чемпионата'!$A:$AA,25,0),\"\")=\"Шлем\",\"Ш\",\"\")","v":""},{"$f":"IFERROR(VLOOKUP(CONCATENATE(B24,\" вес \",$W$6),'Участники чемпионата'!$A:$AA,5,0),\"\")","v":""},null,null,null,null,null,null,null,null,null,null,null,null,null,null,null,null,null,null,null,null,null,null,null,null,null,null,null,null,28,{"$f":"IFERROR(VLOOKUP(CONCATENATE(AH24,\" вес \",$W$6),'Участники чемпионата'!$A:$AA,13,0),\"\")","v":""},{"$f":"IF(IFERROR(VLOOKUP(CONCATENATE(AH24,\" вес \",$W$6),'Участники чемпионата'!$A:$AA,25,0),\"\")=\"Шлем\",\"Ш\",\"\")","v":""},{"$f":"IFERROR(VLOOKUP(CONCATENATE(AH24,\" вес \",$W$6),'Участники чемпионата'!$A:$AA,5,0),\"\")","v":""}]
[]
[]
[null,null,null,null,null,null,null,null,null,null,null,{"$f":"IFERROR(VLOOKUP(CONCATENATE(J26,\" вес \",$W$6),'Участники чемпионата'!$A:$AF,32,0),\"\")","v":""},null,null,null,null,null,null,null,null,null,null,null,null,null,null,{"$f":"IFERROR(VLOOKUP(CONCATENATE(AB26,\" вес \",$W$6),'Участники чемпионата'!$A:$AF,32,0),\"\")","v":""}]
[]
[null,13,{"$f":"IFERROR(VLOOKUP(CONCATENATE(B29,\" вес \",$W$6),'Участники чемпионата'!$A:$AA,13,0),\"\")","v":""},{"$f":"IF(IFERROR(VLOOKUP(CONCATENATE(B29,\" вес \",$W$6),'Участники чемпионата'!$A:$AA,25,0),\"\")=\"Шлем\",\"Ш\",\"\")","v":""},{"$f":"IFERROR(VLOOKUP(CONCATENATE(B29,\" вес \",$W$6),'Участники чемпионата'!$A:$AA,5,0),\"\")","v":""},null,null,null,null,null,null,null,null,null,null,null,null,"Чемпион",null,null,null,null,null,null,null,null,null,null,null,null,null,null,null,14,{"$f":"IFERROR(VLOOKUP(CONCATENATE(AH29,\" вес \",$W$6),'Участники чемпионата'!$A:$AA,13,0),\"\")","v":""},{"$f":"IF(IFERROR(VLOOKUP(CONCATENATE(AH29,\" вес \",$W$6),'Участники чемпионата'!$A:$AA,25,0),\"\")=\"Шлем\",\"Ш\",\"\")","v":""},{"$f":"IFERROR(VLOOKUP(CONCATENATE(AH29,\" вес \",$W$6),'Участники чемпионата'!$A:$AA,5,0),\"\")","v":""}]
[null,19,{"$f":"IFERROR(VLOOKUP(CONCATENATE(B30,\" вес \",$W$6),'Участники чемпионата'!$A:$AA,13,0),\"\")","v":""},{"$f":"IF(IFERROR(VLOOKUP(CONCATENATE(B30,\" вес \",$W$6),'Участники чемпионата'!$A:$AA,25,0),\"\")=\"Шлем\",\"Ш\",\"\")","v":""},{"$f":"IFERROR(VLOOKUP(CONCATENATE(B30,\" вес \",$W$6),'Участники чемпионата'!$A:$AA,5,0),\"\")","v":""},null,null,null,{"$f":"IFERROR(VLOOKUP(CONCATENATE(G29,\" вес \",$W$6),'Участники чемпионата'!$A:$AF,32,0),\"\")","v":""},null,null,null,null,null,null,null,{"$f":"IFERROR(VLOOKUP(CONCATENATE(S32,\" вес \",$W$6),'Участники чемпионата'!$A:$AA,7,0),\"\")","v":""},null,null,null,null,null,null,null,null,null,null,null,null,{"$f":"IFERROR(VLOOKUP(CONCATENATE(AE29,\" вес \",$W$6),'Участники чемпионата'!$A:$AF,32,0),\"\")","v":""},null,null,null,30,{"$f":"IFERROR(VLOOKUP(CONCATENATE(AH30,\" вес \",$W$6),'Участники чемпионата'!$A:$AA,13,0),\"\")","v":""},{"$f":"IF(IFERROR(VLOOKUP(CONCATENATE(AH30,\" вес \",$W$6),'Участники чемпионата'!$A:$AA,25,0),\"\")=\"Шлем\",\"Ш\",\"\")","v":""},{"$f":"IFERROR(VLOOKUP(CONCATENATE(AH30,\" вес \",$W$6),'Участники чемпионата'!$A:$AA,5,0),\"\")","v":""}]
[]
[null,null,null,null,null,null,null,null,null,null,null,null,null,null,{"$f":"IFERROR(VLOOKUP(CONCATENATE(P32,\" вес \",$W$6),'Участники чемпионата'!$A:$AF,32,0),\"\")","v":""},null,null,null,null,null,null,null,null,{"$f":"IFERROR(VLOOKUP(CONCATENATE(V32,\" вес \",$W$6),'Участники чемпионата'!$A:$AF,32,0),\"\")","v":""}]
[]
[]
[null,3,{"$f":"IFERROR(VLOOKUP(CONCATENATE(B35,\" вес \",$W$6),'Участники чемпионата'!$A:$AA,13,0),\"\")","v":"Рамазанов Джамал"},{"$f":"IF(IFERROR(VLOOKUP(CONCATENATE(B35,\" вес \",$W$6),'Участники чемпионата'!$A:$AA,25,0),\"\")=\"Шлем\",\"Ш\",\"\")","v":"Ш"},{"$f":"IFERROR(VLOOKUP(CONCATENATE(B35,\" вес \",$W$6),'Участники чемпионата'!$A:$AA,5,0),\"\")","v":"СДЮСШОР \"СПАРТАК\" (г.Нефтеюганск)"},null,null,null,{"$f":"IFERROR(VLOOKUP(CONCATENATE(G35,\" вес \",$W$6),'Участники чемпионата'!$A:$AF,32,0),\"\")","v":""},null,null,null,null,null,null,null,null,null,null,null,null,null,null,null,null,null,null,null,null,{"$f":"IFERROR(VLOOKUP(CONCATENATE(AE35,\" вес \",$W$6),'Участники чемпионата'!$A:$AF,32,0),\"\")","v":""},null,null,null,18,{"$f":"IFERROR(VLOOKUP(CONCATENATE(AH35,\" вес \",$W$6),'Участники чемпионата'!$A:$AA,13,0),\"\")","v":""},{"$f":"IF(IFERROR(VLOOKUP(CONCATENATE(AH35,\" вес \",$W$6),'Участники чемпионата'!$A:$AA,25,0),\"\")=\"Шлем\",\"Ш\",\"\")","v":""},{"$f":"IFERROR(VLOOKUP(CONCATENATE(AH35,\" вес \",$W$6),'Участники чемпионата'!$A:$AA,5,0),\"\")","v":""}]
[null,15,{"$f":"IFERROR(VLOOKUP(CONCATENATE(B36,\" вес \",$W$6),'Участники чемпионата'!$A:$AA,13,0),\"\")","v":""},{"$f":"IF(IFERROR(VLOOKUP(CONCATENATE(B36,\" вес \",$W$6),'Участники чемпионата'!$A:$AA,25,0),\"\")=\"Шлем\",\"Ш\",\"\")","v":""},{"$f":"IFERROR(VLOOKUP(CONCATENATE(B36,\" вес \",$W$6),'Участники чемпионата'!$A:$AA,5,0),\"\")","v":""},null,null,null,null,null,null,null,null,null,null,null,null,null,null,null,null,null,null,null,null,null,null,null,null,null,null,null,null,4,{"$f":"IFERROR(VLOOKUP(CONCATENATE(AH36,\" вес \",$W$6),'Участники чемпионата'!$A:$AA,13,0),\"\")","v":"Дадаев Мансур"},{"$f":"IF(IFERROR(VLOOKUP(CONCATENATE(AH36,\" вес \",$W$6),'Участники чемпионата'!$A:$AA,25,0),\"\")=\"Шлем\",\"Ш\",\"\")","v":"Ш"},{"$f":"IFERROR(VLOOKUP(CONCATENATE(AH36,\" вес \",$W$6),'Участники чемпионата'!$A:$AA,5,0),\"\")","v":"г. Ханты-Мансийск"}]
[]
[null,null,null,null,null,null,null,null,null,null,null,{"$f":"IFERROR(VLOOKUP(CONCATENATE(J38,\" вес \",$W$6),'Участники чемпионата'!$A:$AF,32,0),\"\")","v":""},null,null,null,null,null,null,null,null,null,null,null,null,null,null,{"$f":"IFERROR(VLOOKUP(CONCATENATE(AB38,\" вес \",$W$6),'Участники чемпионата'!$A:$AF,32,0),\"\")","v":""}]
[]
[]
[null,29,{"$f":"IFERROR(VLOOKUP(CONCATENATE(B41,\" вес \",$W$6),'Участники чемпионата'!$A:$AA,13,0),\"\")","v":""},{"$f":"IF(IFERROR(VLOOKUP(CONCATENATE(B41,\" вес \",$W$6),'Участники чемпионата'!$A:$AA,25,0),\"\")=\"Шлем\",\"Ш\",\"\")","v":""},{"$f":"IFERROR(VLOOKUP(CONCATENATE(B41,\" вес \",$W$6),'Участники чемпионата'!$A:$AA,5,0),\"\")","v":""},null,null,null,null,null,null,null,null,null,null,null,null,null,null,null,null,null,null,null,null,null,null,null,null,null,null,null,null,8,{"$f":"IFERROR(VLOOKUP(CONCATENATE(AH41,\" вес \",$W$6),'Участники чемпионата'!$A:$AA,13,0),\"\")","v":"Ильясов Гасан"},{"$f":"IF(IFERROR(VLOOKUP(CONCATENATE(AH41,\" вес \",$W$6),'Участники чемпионата'!$A:$AA,25,0),\"\")=\"Шлем\",\"Ш\",\"\")","v":"Ш"},{"$f":"IFERROR(VLOOKUP(CONCATENATE(AH41,\" вес \",$W$6),'Участники чемпионата'!$A:$AA,5,0),\"\")","v":"г. Сургут"}]
[null,11,{"$f":"IFERROR(VLOOKUP(CONCATENATE(B42,\" вес \",$W$6),'Участники чемпионата'!$A:$AA,13,0),\"\")","v":""},{"$f":"IF(IFERROR(VLOOKUP(CONCATENATE(B42,\" вес \",$W$6),'Участники чемпионата'!$A:$AA,25,0),\"\")=\"Шлем\",\"Ш\",\"\")","v":""},{"$f":"IFERROR(VLOOKUP(CONCATENATE(B42,\" вес \",$W$6),'Участники чемпионата'!$A:$AA,5,0),\"\")","v":""},null,null,null,{"$f":"IFERROR(VLOOKUP(CONCATENATE(G41,\" вес \",$W$6),'Участники чемпионата'!$A:$AF,32,0),\"\")","v":""},null,null,null,null,null,null,null,null,null,null,null,null,null,null,null,null,null,null,null,null,{"$f":"IFERROR(VLOOKUP(CONCATENATE(AE41,\" вес \",$W$6),'Участники чемпионата'!$A:$AF,32,0),\"\")","v":""},null,null,null,24,{"$f":"IFERROR(VLOOKUP(CONCATENATE(AH42,\" вес \",$W$6),'Участники чемпионата'!$A:$AA,13,0),\"\")","v":""},{"$f":"IF(IFERROR(VLOOKUP(CONCATENATE(AH42,\" вес \",$W$6),'Участники чемпионата'!$A:$AA,25,0),\"\")=\"Шлем\",\"Ш\",\"\")","v":""},{"$f":"IFERROR(VLOOKUP(CONCATENATE(AH42,\" вес \",$W$6),'Участники чемпионата'!$A:$AA,5,0),\"\")","v":""}]
[]
[null,null,"B",null,null,null,null,null,null,null,null,null,null,null,null,null,null,null,null,null,null,null,null,null,null,null,null,null,null,null,null,null,null,null,null,null,"D  "]
[null,null,null,null,null,null,null,null,null,null,null,null,null,null,{"$f":"IFERROR(VLOOKUP(CONCATENATE(M44,\" вес \",$W$6),'Участники чемпионата'!$A:$AF,32,0),\"\")","v":""},null,null,null,null,null,null,null,null,{"$f":"IFERROR(VLOOKUP(CONCATENATE(Y44,\" вес \",$W$6),'Участники чемпионата'!$A:$AF,32,0),\"\")","v":""}]
[]
[null,25,{"$f":"IFERROR(VLOOKUP(CONCATENATE(B47,\" вес \",$W$6),'Участники чемпионата'!$A:$AA,13,0),\"\")","v":""},{"$f":"IF(IFERROR(VLOOKUP(CONCATENATE(B47,\" вес \",$W$6),'Участники чемпионата'!$A:$AA,25,0),\"\")=\"Шлем\",\"Ш\",\"\")","v":""},{"$f":"IFERROR(VLOOKUP(CONCATENATE(B47,\" вес \",$W$6),'Участники чемпионата'!$A:$AA,5,0),\"\")","v":""},null,null,null,{"$f":"IFERROR(VLOOKUP(CONCATENATE(G47,\" вес \",$W$6),'Участники чемпионата'!$A:$AF,32,0),\"\")","v":""},null,null,null,null,null,null,null,null,null,null,null,null,null,null,null,null,null,null,null,null,{"$f":"IFERROR(VLOOKUP(CONCATENATE(AE47,\" вес \",$W$6),'Участники чемпионата'!$A:$AF,32,0),\"\")","v":""},null,null,null,26,{"$f":"IFERROR(VLOOKUP(CONCATENATE(AH47,\" вес \",$W$6),'Участники чемпионата'!$A:$AA,13,0),\"\")","v":""},{"$f":"IF(IFERROR(VLOOKUP(CONCATENATE(AH47,\" вес \",$W$6),'Участники чемпионата'!$A:$AA,25,0),\"\")=\"Шлем\",\"Ш\",\"\")","v":""},{"$f":"IFERROR(VLOOKUP(CONCATENATE(AH47,\" вес \",$W$6),'Участники чемпионата'!$A:$AA,5,0),\"\")","v":""}]
[null,7,{"$f":"IFERROR(VLOOKUP(CONCATENATE(B48,\" вес \",$W$6),'Участники чемпионата'!$A:$AA,13,0),\"\")","v":"Гаджиахмедов Магомед"},{"$f":"IF(IFERROR(VLOOKUP(CONCATENATE(B48,\" вес \",$W$6),'Участники чемпионата'!$A:$AA,25,0),\"\")=\"Шлем\",\"Ш\",\"\")","v":""},{"$f":"IFERROR(VLOOKUP(CONCATENATE(B48,\" вес \",$W$6),'Участники чемпионата'!$A:$AA,5,0),\"\")","v":"г. Сургут"},null,null,null,null,null,null,null,null,null,null,null,null,null,null,null,null,null,null,null,null,null,null,null,null,null,null,null,null,12,{"$f":"IFERROR(VLOOKUP(CONCATENATE(AH48,\" вес \",$W$6),'Участники чемпионата'!$A:$AA,13,0),\"\")","v":""},{"$f":"IF(IFERROR(VLOOKUP(CONCATENATE(AH48,\" вес \",$W$6),'Участники чемпионата'!$A:$AA,25,0),\"\")=\"Шлем\",\"Ш\",\"\")","v":""},{"$f":"IFERROR(VLOOKUP(CONCATENATE(AH48,\" вес \",$W$6),'Участники чемпионата'!$A:$AA,5,0),\"\")","v":""}]
[]
[]
[null,null,null,null,null,null,null,null,null,null,null,{"$f":"IFERROR(VLOOKUP(CONCATENATE(J50,\" вес \",$W$6),'Участники чемпионата'!$A:$AF,32,0),\"\")","v":""},null,null,null,null,null,null,null,null,null,null,null,null,null,null,{"$f":"IFERROR(VLOOKUP(CONCATENATE(AB50,\" вес \",$W$6),'Участники чемпионата'!$A:$AF,32,0),\"\")","v":""}]
[]
[null,21,{"$f":"IFERROR(VLOOKUP(CONCATENATE(B53,\" вес \",$W$6),'Участники чемпионата'!$A:$AA,13,0),\"\")","v":""},{"$f":"IF(IFERROR(VLOOKUP(CONCATENATE(B53,\" вес \",$W$6),'Участники чемпионата'!$A:$AA,25,0),\"\")=\"Шлем\",\"Ш\",\"\")","v":""},{"$f":"IFERROR(VLOOKUP(CONCATENATE(B53,\" вес \",$W$6),'Участники чемпионата'!$A:$AA,5,0),\"\")","v":""},null,null,null,null,null,null,null,null,null,null,null,null,null,null,null,null,null,null,null,null,null,null,null,null,null,null,null,null,16,{"$f":"IFERROR(VLOOKUP(CONCATENATE(AH53,\" вес \",$W$6),'Участники чемпионата'!$A:$AA,13,0),\"\")","v":""},{"$f":"IF(IFERROR(VLOOKUP(CONCATENATE(AH53,\" вес \",$W$6),'Участники чемпионата'!$A:$AA,25,0),\"\")=\"Шлем\",\"Ш\",\"\")","v":""},{"$f":"IFERROR(VLOOKUP(CONCATENATE(AH53,\" вес \",$W$6),'Участники чемпионата'!$A:$AA,5,0),\"\")","v":""}]
[null,31,{"$f":"IFERROR(VLOOKUP(CONCATENATE(B54,\" вес \",$W$6),'Участники чемпионата'!$A:$AA,13,0),\"\")","v":""},{"$f":"IF(IFERROR(VLOOKUP(CONCATENATE(B54,\" вес \",$W$6),'Участники чемпионата'!$A:$AA,25,0),\"\")=\"Шлем\",\"Ш\",\"\")","v":""},{"$f":"IFERROR(VLOOKUP(CONCATENATE(B54,\" вес \",$W$6),'Участники чемпионата'!$A:$AA,5,0),\"\")","v":""},null,null,null,{"$f":"IFERROR(VLOOKUP(CONCATENATE(G53,\" вес \",$W$6),'Участники чемпионата'!$A:$AF,32,0),\"\")","v":""},null,null,null,null,null,null,null,null,null,null,null,null,null,null,null,null,null,null,null,null,{"$f":"IFERROR(VLOOKUP(CONCATENATE(AE53,\" вес \",$W$6),'Участники чемпионата'!$A:$AF,32,0),\"\")","v":""},null,null,null,32,{"$f":"IFERROR(VLOOKUP(CONCATENATE(AH54,\" вес \",$W$6),'Участники чемпионата'!$A:$AA,13,0),\"\")","v":""},{"$f":"IF(IFERROR(VLOOKUP(CONCATENATE(AH54,\" вес \",$W$6),'Участники чемпионата'!$A:$AA,25,0),\"\")=\"Шлем\",\"Ш\",\"\")","v":""},{"$f":"IFERROR(VLOOKUP(CONCATENATE(AH54,\" вес \",$W$6),'Участники чемпионата'!$A:$AA,5,0),\"\")","v":""}]
[]
[null,"1/16",null,null,null,null,"1/8",null,null,"1/4",null,null,"1/2",null,null,"Финал",null,null,null,null,null,null,null,null,"1/2",null,null,"1/4",null,null,"1/8",null,null,"1/16"]
[]
[null,null,null,null,null,null,null,null,null,null,null,null,null,null,null,null,null,null,null,"Участников:",{"$f":"HLOOKUP(W6,Мандатка!$C$4:$I$5,2,0)","v":10}]
[]
[]
[null,null,"1 место"]
[null,{"$f":"IF(S32=\"\",\"\",S32)","v":""},{"$f":"IF(B62=\"\",\"\",IFERROR(VLOOKUP(CONCATENATE(B62,\" вес \",$W$6),'Участники чемпионата'!$A:$AA,13,0),\"\"))","v":""},{"$f":"IF(B62=\"\",\"\",IFERROR(VLOOKUP(CONCATENATE(B62,\" вес \",$W$6),'Участники чемпионата'!$A:$AA,5,0),\"\"))","v":""}]
[]
[null,null,"2 место"]
[null,{"$f":"IF(S32=\"\",\"\",IF(S32=V32,P32,V32))","v":""},{"$f":"IF(B65=\"\",\"\",IFERROR(VLOOKUP(CONCATENATE(B65,\" вес \",$W$6),'Участники чемпионата'!$A:$AA,13,0),\"\"))","v":""},{"$f":"IF(B65=\"\",\"\",IFERROR(VLOOKUP(CONCATENATE(B65,\" вес \",$W$6),'Участники чемпионата'!$A:$AA,5,0),\"\"))","v":""},null,null,null,null,null,null,null,null,null,null,null,null,null,null,null,null,null,null,null,null,null,null,null,null,null,null,null,null,null,"Главный судья соревнований",null,"/",{"$f":"IF(VLOOKUP(AH65,'Исходные данные по чемпионату'!B:C,2,0)=0,\"\",VLOOKUP(AH65,'Исходные данные по чемпионату'!B:C,2,0))","v":"Карташков К.В."},"/"]
[]
[null,null,"3 место"]
[null,{"$f":"IF(P32=\"\",\"\",IF(P32=M44,M20,M44))","v":""},{"$f":"IF(B68=\"\",\"\",IFERROR(VLOOKUP(CONCATENATE(B68,\" вес \",$W$6),'Участники чемпионата'!$A:$AA,13,0),\"\"))","v":""},{"$f":"IF(B68=\"\",\"\",IFERROR(VLOOKUP(CONCATENATE(B68,\" вес \",$W$6),'Участники чемпионата'!$A:$AA,5,0),\"\"))","v":""}]
[null,{"$f":"IF(V32=\"\",\"\",IF(V32=Y44,Y20,Y44))","v":""},{"$f":"IF(B69=\"\",\"\",IFERROR(VLOOKUP(CONCATENATE(B69,\" вес \",$W$6),'Участники чемпионата'!$A:$AA,13,0),\"\"))","v":""},{"$f":"IF(B69=\"\",\"\",IFERROR(VLOOKUP(CONCATENATE(B69,\" вес \",$W$6),'Участники чемпионата'!$A:$AA,5,0),\"\"))","v":""},null,null,null,null,null,null,null,null,null,null,null,null,null,null,null,null,null,null,null,null,null,null,null,null,null,null,null,null,null,"Главный секретарь",null,"/",{"$f":"IF(VLOOKUP(AH69,'Исходные данные по чемпионату'!B:C,2,0)=0,\"\",VLOOKUP(AH69,'Исходные данные по чемпионату'!B:C,2,0))","v":"Толстыгин А.Ю."},"/"]
[]
[null,null,null,null,null,null,null,null,null,null,null,null,null,null,null,null,null,null,null,null,null,null,null,null,null,null,null,null,null,null,null,null,null,null,null,null,null,0]
[]
[null,null,"5-8 места",null,null,null,null,null,null,null,null,null,null,"Результат боя описание",null,null,null,null,null,null,null,null,null,null,null,null,null,null,null,null,null,null,null,null,"Финалисты"]
[null,{"$f":"IF(M20=\"\",\"\",IF(OR(J14-M20=0),J26,J14))","v":""},{"$f":"IF(B74=\"\",\"\",IFERROR(VLOOKUP(CONCATENATE(B74,\" вес \",$W$6),'Участники чемпионата'!$A:$AA,13,0),\"\"))","v":""},{"$f":"IF(B74=\"\",\"\",IFERROR(VLOOKUP(CONCATENATE(B74,\" вес \",$W$6),'Участники чемпионата'!$A:$AA,5,0),\"\"))","v":""},null,null,null,null,null,null,null,null,null,{"$f":"'Unvisible Списки'!C9","v":"(ПО)"},null,null,null,{"$f":"'Unvisible Списки'!C27","v":"по очкам"},null,null,null,null,null,null,null,null,null,null,null,null,null,null,null,{"$f":"IF(P32=\"\",\"\",P32)","v":""},{"$f":"IFERROR(VLOOKUP(CONCATENATE(AH74,\" вес \",$W$6),'Участники чемпионата'!$A:$AA,13,0),\"\")","v":""},{"$f":"IFERROR(VLOOKUP(CONCATENATE(AH74,\" вес \",$W$6),'Участники чемпионата'!$A:$AA,5,0),\"\")","v":""}]
[null,{"$f":"IF(M44=\"\",\"\",IF(OR(J38-M44=0),J50,J38))","v":""},{"$f":"IF(B75=\"\",\"\",IFERROR(VLOOKUP(CONCATENATE(B75,\" вес \",$W$6),'Участники чемпионата'!$A:$AA,13,0),\"\"))","v":""},{"$f":"IF(B75=\"\",\"\",IFERROR(VLOOKUP(CONCATENATE(B75,\" вес \",$W$6),'Участники чемпионата'!$A:$AA,5,0),\"\"))","v":""},null,null,null,null,null,null,null,null,null,{"$f":"'Unvisible Списки'!C10","v":"(КО)"},null,null,null,{"$f":"'Unvisible Списки'!C28","v":"нокаут"},null,null,null,null,null,null,null,null,null,null,null,null,null,null,null,{"$f":"IF(V32=\"\",\"\",V32)","v":""},{"$f":"IFERROR(VLOOKUP(CONCATENATE(AH75,\" вес \",$W$6),'Участники чемпионата'!$A:$AA,13,0),\"\")","v":""},{"$f":"IFERROR(VLOOKUP(CONCATENATE(AH75,\" вес \",$W$6),'Участники чемпионата'!$A:$AA,5,0),\"\")","v":""}]
[null,{"$f":"IF(Y20=\"\",\"\",IF(OR(AB14-Y20=0),AB26,AB14))","v":""},{"$f":"IF(B76=\"\",\"\",IFERROR(VLOOKUP(CONCATENATE(B76,\" вес \",$W$6),'Участники чемпионата'!$A:$AA,13,0),\"\"))","v":""},{"$f":"IF(B76=\"\",\"\",IFERROR(VLOOKUP(CONCATENATE(B76,\" вес \",$W$6),'Участники чемпионата'!$A:$AA,5,0),\"\"))","v":""},null,null,null,null,null,null,null,null,null,{"$f":"'Unvisible Списки'!C11","v":"(БЛ)"},null,null,null,{"$f":"'Unvisible Списки'!C29","v":"болевой/удушающий"}]
[null,{"$f":"IF(Y44=\"\",\"\",IF(OR(AB38-Y44=0),AB50,AB38))","v":""},{"$f":"IF(B77=\"\",\"\",IFERROR(VLOOKUP(CONCATENATE(B77,\" вес \",$W$6),'Участники чемпионата'!$A:$AA,13,0),\"\"))","v":""},{"$f":"IF(B77=\"\",\"\",IFERROR(VLOOKUP(CONCATENATE(B77,\" вес \",$W$6),'Участники чемпионата'!$A:$AA,5,0),\"\"))","v":""},null,null,null,null,null,null,null,null,null,{"$f":"'Unvisible Списки'!C12","v":"(ТКО)"},null,null,null,{"$f":"'Unvisible Списки'!C30","v":"технический нокаут"}]
[null,null,null,null,null,null,null,null,null,null,null,null,null,{"$f":"'Unvisible Списки'!C13","v":"(СН)"},null,null,null,{"$f":"'Unvisible Списки'!C31","v":"снятие врачом"}]
[null,null,"9-16 места",null,null,null,null,null,null,null,null,null,null,{"$f":"'Unvisible Списки'!C14","v":"(ОТК)"},null,null,null,{"$f":"'Unvisible Списки'!C32","v":"отказ продолжать бой"}]
[null,{"$f":"IF(J14=\"\",\"\",IF(OR(G11-J14=0),G17,G11))","v":""},{"$f":"IF(B80=\"\",\"\",IFERROR(VLOOKUP(CONCATENATE(B80,\" вес \",$W$6),'Участники чемпионата'!$A:$AA,13,0),\"\"))","v":""},{"$f":"IF(B80=\"\",\"\",IFERROR(VLOOKUP(CONCATENATE(B80,\" вес \",$W$6),'Участники чемпионата'!$A:$AA,5,0),\"\"))","v":""},null,null,null,null,null,null,null,null,null,{"$f":"'Unvisible Списки'!C15","v":"(ДСК)"},null,null,null,{"$f":"'Unvisible Списки'!C33","v":"Дисквалификация"}]
[null,{"$f":"IF(J26=\"\",\"\",IF(OR(G23-J26=0),G29,G23))","v":""},{"$f":"IF(B81=\"\",\"\",IFERROR(VLOOKUP(CONCATENATE(B81,\" вес \",$W$6),'Участники чемпионата'!$A:$AA,13,0),\"\"))","v":""},{"$f":"IF(B81=\"\",\"\",IFERROR(VLOOKUP(CONCATENATE(B81,\" вес \",$W$6),'Участники чемпионата'!$A:$AA,5,0),\"\"))","v":""},null,null,null,null,null,null,null,null,null,{"$f":"'Unvisible Списки'!C16","v":"(РГСК)"},null,null,null,{"$f":"'Unvisible Списки'!C34","v":"решение главного судьи СК"}]
[null,{"$f":"IF(J38=\"\",\"\",IF(OR(G35-J38=0),G41,G35))","v":""},{"$f":"IF(B82=\"\",\"\",IFERROR(VLOOKUP(CONCATENATE(B82,\" вес \",$W$6),'Участники чемпионата'!$A:$AA,13,0),\"\"))","v":""},{"$f":"IF(B82=\"\",\"\",IFERROR(VLOOKUP(CONCATENATE(B82,\" вес \",$W$6),'Участники чемпионата'!$A:$AA,5,0),\"\"))","v":""},null,null,null,null,null,null,null,null,null,{"$f":"'Unvisible Списки'!C17","v":"(НЯ)"},null,null,null,{"$f":"'Unvisible Списки'!C35","v":"неявка"}]
[null,{"$f":"IF(J50=\"\",\"\",IF(OR(G47-J50=0),G53,G47))","v":""},{"$f":"IF(B83=\"\",\"\",IFERROR(VLOOKUP(CONCATENATE(B83,\" вес \",$W$6),'Участники чемпионата'!$A:$AA,13,0),\"\"))","v":""},{"$f":"IF(B83=\"\",\"\",IFERROR(VLOOKUP(CONCATENATE(B83,\" вес \",$W$6),'Участники чемпионата'!$A:$AA,5,0),\"\"))","v":""}]
[null,{"$f":"IF(AB14=\"\",\"\",IF(OR(AE11-AB14=0),AE17,AE11))","v":""},{"$f":"IF(B84=\"\",\"\",IFERROR(VLOOKUP(CONCATENATE(B84,\" вес \",$W$6),'Участники чемпионата'!$A:$AA,13,0),\"\"))","v":""},{"$f":"IF(B84=\"\",\"\",IFERROR(VLOOKUP(CONCATENATE(B84,\" вес \",$W$6),'Участники чемпионата'!$A:$AA,5,0),\"\"))","v":""}]
[null,{"$f":"IF(AB26=\"\",\"\",IF(OR(AE23-AB26=0),AE29,AE23))","v":""},{"$f":"IF(B85=\"\",\"\",IFERROR(VLOOKUP(CONCATENATE(B85,\" вес \",$W$6),'Участники чемпионата'!$A:$AA,13,0),\"\"))","v":""},{"$f":"IF(B85=\"\",\"\",IFERROR(VLOOKUP(CONCATENATE(B85,\" вес \",$W$6),'Участники чемпионата'!$A:$AA,5,0),\"\"))","v":""}]
[null,{"$f":"IF(AB38=\"\",\"\",IF(OR(AE35-AB38=0),AE41,AE35))","v":""},{"$f":"IF(B86=\"\",\"\",IFERROR(VLOOKUP(CONCATENATE(B86,\" вес \",$W$6),'Участники чемпионата'!$A:$AA,13,0),\"\"))","v":""},{"$f":"IF(B86=\"\",\"\",IFERROR(VLOOKUP(CONCATENATE(B86,\" вес \",$W$6),'Участники чемпионата'!$A:$AA,5,0),\"\"))","v":""}]
[null,{"$f":"IF(AB50=\"\",\"\",IF(OR(AE47-AB50=0),AE53,AE47))","v":""},{"$f":"IF(B87=\"\",\"\",IFERROR(VLOOKUP(CONCATENATE(B87,\" вес \",$W$6),'Участники чемпионата'!$A:$AA,13,0),\"\"))","v":""},{"$f":"IF(B87=\"\",\"\",IFERROR(VLOOKUP(CONCATENATE(B87,\" вес \",$W$6),'Участники чемпионата'!$A:$AA,5,0),\"\"))","v":""}]
[]
[null,null,"17-32 места"]
[null,{"$f":"IF(G11=\"\",\"\",IF(OR(B11-G11=0),B12,B11))","v":""},{"$f":"IF(B90=\"\",\"\",IFERROR(VLOOKUP(CONCATENATE(B90,\" вес \",$W$6),'Участники чемпионата'!$A:$AA,13,0),\"\"))","v":""},{"$f":"IF(B90=\"\",\"\",IFERROR(VLOOKUP(CONCATENATE(B90,\" вес \",$W$6),'Участники чемпионата'!$A:$AA,5,0),\"\"))","v":""}]
[null,{"$f":"IF(G17=\"\",\"\",IF(OR(B17-G17=0),B18,B17))","v":""},{"$f":"IF(B91=\"\",\"\",IFERROR(VLOOKUP(CONCATENATE(B91,\" вес \",$W$6),'Участники чемпионата'!$A:$AA,13,0),\"\"))","v":""},{"$f":"IF(B91=\"\",\"\",IFERROR(VLOOKUP(CONCATENATE(B91,\" вес \",$W$6),'Участники чемпионата'!$A:$AA,5,0),\"\"))","v":""}]
[null,{"$f":"IF(G23=\"\",\"\",IF(OR(B23-G23=0),B24,B23))","v":""},{"$f":"IF(B92=\"\",\"\",IFERROR(VLOOKUP(CONCATENATE(B92,\" вес \",$W$6),'Участники чемпионата'!$A:$AA,13,0),\"\"))","v":""},{"$f":"IF(B92=\"\",\"\",IFERROR(VLOOKUP(CONCATENATE(B92,\" вес \",$W$6),'Участники чемпионата'!$A:$AA,5,0),\"\"))","v":""}]
[null,{"$f":"IF(G29=\"\",\"\",IF(G29=\"\",\"\",IF(OR(B29-G29=0),B30,B29)))","v":""},{"$f":"IF(B93=\"\",\"\",IFERROR(VLOOKUP(CONCATENATE(B93,\" вес \",$W$6),'Участники чемпионата'!$A:$AA,13,0),\"\"))","v":""},{"$f":"IF(B93=\"\",\"\",IFERROR(VLOOKUP(CONCATENATE(B93,\" вес \",$W$6),'Участники чемпионата'!$A:$AA,5,0),\"\"))","v":""}]
[null,{"$f":"IF(G35=\"\",\"\",IF(OR(B35-G35=0),B36,B35))","v":""},{"$f":"IF(B94=\"\",\"\",IFERROR(VLOOKUP(CONCATENATE(B94,\" вес \",$W$6),'Участники чемпионата'!$A:$AA,13,0),\"\"))","v":""},{"$f":"IF(B94=\"\",\"\",IFERROR(VLOOKUP(CONCATENATE(B94,\" вес \",$W$6),'Участники чемпионата'!$A:$AA,5,0),\"\"))","v":""}]
[null,{"$f":"IF(G41=\"\",\"\",IF(OR(B41-G41=0),B42,B41))","v":""},{"$f":"IF(B95=\"\",\"\",IFERROR(VLOOKUP(CONCATENATE(B95,\" вес \",$W$6),'Участники чемпионата'!$A:$AA,13,0),\"\"))","v":""},{"$f":"IF(B95=\"\",\"\",IFERROR(VLOOKUP(CONCATENATE(B95,\" вес \",$W$6),'Участники чемпионата'!$A:$AA,5,0),\"\"))","v":""}]
[null,{"$f":"IF(G47=\"\",\"\",IF(OR(B47-G47=0),B48,B47))","v":""},{"$f":"IF(B96=\"\",\"\",IFERROR(VLOOKUP(CONCATENATE(B96,\" вес \",$W$6),'Участники чемпионата'!$A:$AA,13,0),\"\"))","v":""},{"$f":"IF(B96=\"\",\"\",IFERROR(VLOOKUP(CONCATENATE(B96,\" вес \",$W$6),'Участники чемпионата'!$A:$AA,5,0),\"\"))","v":""}]
[null,{"$f":"IF(G53=\"\",\"\",IF(OR(B53-G53=0),B54,B53))","v":""},{"$f":"IF(B97=\"\",\"\",IFERROR(VLOOKUP(CONCATENATE(B97,\" вес \",$W$6),'Участники чемпионата'!$A:$AA,13,0),\"\"))","v":""},{"$f":"IF(B97=\"\",\"\",IFERROR(VLOOKUP(CONCATENATE(B97,\" вес \",$W$6),'Участники чемпионата'!$A:$AA,5,0),\"\"))","v":""}]
[null,{"$f":"IF(AE11=\"\",\"\",IF(OR(AH11-AE11=0),AH12,AH11))","v":""},{"$f":"IF(B98=\"\",\"\",IFERROR(VLOOKUP(CONCATENATE(B98,\" вес \",$W$6),'Участники чемпионата'!$A:$AA,13,0),\"\"))","v":""},{"$f":"IF(B98=\"\",\"\",IFERROR(VLOOKUP(CONCATENATE(B98,\" вес \",$W$6),'Участники чемпионата'!$A:$AA,5,0),\"\"))","v":""}]
[null,{"$f":"IF(AE17=\"\",\"\",IF(OR(AH17-AE17=0),AH18,AH17))","v":""},{"$f":"IF(B99=\"\",\"\",IFERROR(VLOOKUP(CONCATENATE(B99,\" вес \",$W$6),'Участники чемпионата'!$A:$AA,13,0),\"\"))","v":""},{"$f":"IF(B99=\"\",\"\",IFERROR(VLOOKUP(CONCATENATE(B99,\" вес \",$W$6),'Участники чемпионата'!$A:$AA,5,0),\"\"))","v":""}]
[null,{"$f":"IF(AE23=\"\",\"\",IF(OR(AH23-AE23=0),AH24,AH23))","v":""},{"$f":"IF(B100=\"\",\"\",IFERROR(VLOOKUP(CONCATENATE(B100,\" вес \",$W$6),'Участники чемпионата'!$A:$AA,13,0),\"\"))","v":""},{"$f":"IF(B100=\"\",\"\",IFERROR(VLOOKUP(CONCATENATE(B100,\" вес \",$W$6),'Участники чемпионата'!$A:$AA,5,0),\"\"))","v":""}]
[null,{"$f":"IF(AE29=\"\",\"\",IF(OR(AH29-AE29=0),AH30,AH29))","v":""},{"$f":"IF(B101=\"\",\"\",IFERROR(VLOOKUP(CONCATENATE(B101,\" вес \",$W$6),'Участники чемпионата'!$A:$AA,13,0),\"\"))","v":""},{"$f":"IF(B101=\"\",\"\",IFERROR(VLOOKUP(CONCATENATE(B101,\" вес \",$W$6),'Участники чемпионата'!$A:$AA,5,0),\"\"))","v":""}]
[null,{"$f":"IF(AE35=\"\",\"\",IF(OR(AH35-AE35=0),AH36,AH35))","v":""},{"$f":"IF(B102=\"\",\"\",IFERROR(VLOOKUP(CONCATENATE(B102,\" вес \",$W$6),'Участники чемпионата'!$A:$AA,13,0),\"\"))","v":""},{"$f":"IF(B102=\"\",\"\",IFERROR(VLOOKUP(CONCATENATE(B102,\" вес \",$W$6),'Участники чемпионата'!$A:$AA,5,0),\"\"))","v":""}]
[null,{"$f":"IF(AE41=\"\",\"\",IF(OR(AH41-AE41=0),AH42,AH41))","v":""},{"$f":"IF(B103=\"\",\"\",IFERROR(VLOOKUP(CONCATENATE(B103,\" вес \",$W$6),'Участники чемпионата'!$A:$AA,13,0),\"\"))","v":""},{"$f":"IF(B103=\"\",\"\",IFERROR(VLOOKUP(CONCATENATE(B103,\" вес \",$W$6),'Участники чемпионата'!$A:$AA,5,0),\"\"))","v":""}]
[null,{"$f":"IF(AE47=\"\",\"\",IF(OR(AH47-AE47=0),AH48,AH47))","v":""},{"$f":"IF(B104=\"\",\"\",IFERROR(VLOOKUP(CONCATENATE(B104,\" вес \",$W$6),'Участники чемпионата'!$A:$AA,13,0),\"\"))","v":""},{"$f":"IF(B104=\"\",\"\",IFERROR(VLOOKUP(CONCATENATE(B104,\" вес \",$W$6),'Участники чемпионата'!$A:$AA,5,0),\"\"))","v":""}]
[null,{"$f":"IF(AE53=\"\",\"\",IF(OR(AH53-AE53=0),AH54,AH53))","v":""},{"$f":"IF(B105=\"\",\"\",IFERROR(VLOOKUP(CONCATENATE(B105,\" вес \",$W$6),'Участники чемпионата'!$A:$AA,13,0),\"\"))","v":""},{"$f":"IF(B105=\"\",\"\",IFERROR(VLOOKUP(CONCATENATE(B105,\" вес \",$W$6),'Участники чемпионата'!$A:$AA,5,0),\"\"))","v":""}]

{"sheet":"Сетка30","index":1,"n_rows":105,"n_cols":38,"rows_kept":105,"cut":false,"hidden":true,"merged":[[1,2,1,36],[3,5,3,33],[3,36,4,36],[5,22,5,24],[10,6,11,7],[10,30,11,31],[16,6,17,7],[16,30,17,31],[19,2,20,2],[19,12,20,13],[19,24,20,25],[19,36,20,36],[12,6,13,6],[12,7,13,7],[12,30,13,30],[12,31,13,31],[13,9,14,10],[13,27,14,28],[14,6,15,6],[14,7,15,7],[14,30,15,30],[14,31,15,31],[26,31,27,31],[28,6,29,7],[28,17,28,20],[28,30,29,31],[29,16,30,21],[22,6,23,7],[22,30,23,31],[24,6,25,6],[24,7,25,7],[24,30,25,30],[24,31,25,31],[25,9,26,10],[25,27,26,28],[26,6,27,6],[26,7,27,7],[31,15,32,16],[31,18,32,19],[31,21,32,22],[33,14,34,14],[33,15,34,15],[33,18,34,18],[33,19,34,19],[33,22,34,22],[26,30,27,30],[33,23,34,23],[34,6,35,7],[34,30,35,31],[35,16,35,21],[36,6,37,6],[36,7,37,7],[36,16,37,21],[36,30,37,30],[36,31,37,31],[37,9,38,10],[43,2,44,2],[43,12,44,13],[43,24,44,25],[43,36,44,36],[46,6,47,7],[46,30,47,31],[37,27,38,28],[38,6,39,6],[38,7,39,7],[38,30,39,30],[38,31,39,31],[40,6,41,7],[40,30,41,31],[48,6,49,6],[48,7,49,7],[48,30,49,30],[48,31,49,31],[49,9,50,10],[49,27,50,28],[50,6,51,6],[50,7,51,7],[50,30,51,30],[50,31,51,31],[52,6,53,7],[52,30,53,31],[55,1,55,4],[55,6,55,7],[55,9,55,10],[55,12,55,13],[55,15,55,22],[55,24,55,25],[55,27,55,28],[55,30,55,31],[73,35,73,36],[74,3,74,4],[74,13,74,16],[74,17,74,26],[74,35,74,36],[55,33,55,36],[57,20,57,21],[61,3,61,4],[64,3,64,4],[67,3,67,4],[68,3,68,4],[75,3,75,4],[75,13,75,16],[75,17,75,26],[76,3,76,4],[76,13,76,16],[76,17,76,26],[72,13,72,26],[73,3,73,4],[73,13,73,16],[73,17,73,26],[80,3,80,4],[80,13,80,16],[80,17,80,26],[81,3,81,4],[81,13,81,16],[81,17,81,26],[77,13,77,16],[77,17,77,26],[78,13,78,16],[78,17,78,26],[79,3,79,4],[79,13,79,16],[79,17,79,26],[90,3,90,4],[91,3,91,4],[92,3,92,4],[93,3,93,4],[94,3,94,4],[95,3,95,4],[82,3,82,4],[83,3,83,4],[84,3,84,4],[85,3,85,4],[86,3,86,4],[89,3,89,4],[102,3,102,4],[103,3,103,4],[104,3,104,4],[96,3,96,4],[97,3,97,4],[98,3,98,4],[99,3,99,4],[100,3,100,4],[101,3,101,4]]}
[]
[null,null,{"$f":"'Исходные данные по чемпионату'!C3","v":"Чемпионат ХМАО-Югры по СБЕ (ММА) среди муж. 18лет и старше,первенство среди юношей 16-17лет"}]
[]
[null,null,null,null,null,"ПРОТОКОЛ СОРЕВНОВАНИЙ",null,null,null,null,null,null,null,null,null,null,null,null,null,null,null,null,null,null,null,null,null,null,null,null,null,null,null,null,null,null,{"$f":"'Исходные данные по чемпионату'!C6","v":"г. Ханты-Мансийск"}]
[]
[null,null,null,null,null,null,null,null,null,null,null,null,null,null,null,null,null,null,null,null,null,"Весовая категория до","65,8",null,null,"кг",null,null,null,null,null,null,null,null,null,null,{"$f":"'Исходные данные по чемпионату'!C4","v":"с16 по 19 февраля 2018г."}]
[]
[]
[null,"№","Спортсмен","Шлем","Команда",null,null,null,null,null,null,null,null,null,null,null,null,null,null,null,null,null,null,null,null,null,null,null,null,null,null,null,null,"№","Спортсмен","Шлем","Команда"]
[]
[null,1,{"$f":"IFERROR(VLOOKUP(CONCATENATE(B11,\" вес \",$W$6),'Участники чемпионата'!$A:$AA,13,0),\"\")","v":"Мамедов Руслан"},{"$f":"IF(IFERROR(VLOOKUP(CONCATENATE(B11,\" вес \",$W$6),'Участники чемпионата'!$A:$AA,25,0),\"\")=\"Шлем\",\"Ш\",\"\")","v":""},{"$f":"IFERROR(VLOOKUP(CONCATENATE(B11,\" вес \",$W$6),'Участники чемпионата'!$A:$AA,5,0),\"\")","v":"Скорпион (г. Лангепас)"},null,null,null,{"$f":"IFERROR(VLOOKUP(CONCATENATE(G11,\" вес \",$W$6),'Участники чемпионата'!$A:$AF,32,0),\"\")","v":""},null,null,null,null,null,null,null,null,null,null,null,null,null,null,null,null,null,null,null,null,{"$f":"IFERROR(VLOOKUP(CONCATENATE(AE11,\" вес \",$W$6),'Участники чемпионата'!$A:$AF,32,0),\"\")","v":""},null,null,null,2,{"$f":"IFERROR(VLOOKUP(CONCATENATE(AH11,\" вес \",$W$6),'Участники чемпионата'!$A:$AA,13,0),\"\")","v":"Бердиев Шахзод"},{"$f":"IF(IFERROR(VLOOKUP(CONCATENATE(AH11,\" вес \",$W$6),'Участники чемпионата'!$A:$AA,25,0),\"\")=\"Шлем\",\"Ш\",\"\")","v":"Ш"},{"$f":"IFERROR(VLOOKUP(CONCATENATE(AH11,\" вес \",$W$6),'Участники чемпионата'!$A:$AA,5,0),\"\")","v":"СДЮСШОР \"СПАРТАК\" (г.Нефтеюганск)"}]
[null,15,{"$f":"IFERROR(VLOOKUP(CONCATENATE(B12,\" вес \",$W$6),'Участники чемпионата'!$A:$AA,13,0),\"\")","v":""},{"$f":"IF(IFERROR(VLOOKUP(CONCATENATE(B12,\" вес \",$W$6),'Участники чемпионата'!$A:$AA,25,0),\"\")=\"Шлем\",\"Ш\",\"\")","v":""},{"$f":"IFERROR(VLOOKUP(CONCATENATE(B12,\" вес \",$W$6),'Участники чемпионата'!$A:$AA,5,0),\"\")","v":""},null,null,null,null,null,null,null,null,null,null,null,null,null,null,null,null,null,null,null,null,null,null,null,null,null,null,null,null,18,{"$f":"IFERROR(VLOOKUP(CONCATENATE(AH12,\" вес \",$W$6),'Участники чемпионата'!$A:$AA,13,0),\"\")","v":""},{"$f":"IF(IFERROR(VLOOKUP(CONCATENATE(AH12,\" вес \",$W$6),'Участники чемпионата'!$A:$AA,25,0),\"\")=\"Шлем\",\"Ш\",\"\")","v":""},{"$f":"IFERROR(VLOOKUP(CONCATENATE(AH12,\" вес \",$W$6),'Участники чемпионата'!$A:$AA,5,0),\"\")","v":""}]
[]
[null,null,null,null,null,null,null,null,null,null,null,{"$f":"IFERROR(VLOOKUP(CONCATENATE(J14,\" вес \",$W$6),'Участники чемпионата'!$A:$AF,32,0),\"\")","v":""},null,null,null,null,null,null,null,null,null,null,null,null,null,null,{"$f":"IFERROR(VLOOKUP(CONCATENATE(AB14,\" вес \",$W$6),'Участники чемпионата'!$A:$AF,32,0),\"\")","v":""}]
[]
[]
[null,null,null,null,null,null,5,null,null,null,null,null,null,null,null,null,null,null,null,null,null,null,null,null,null,null,null,null,null,null,null,null,null,26,{"$f":"IFERROR(VLOOKUP(CONCATENATE(AH17,\" вес \",$W$6),'Участники чемпионата'!$A:$AA,13,0),\"\")","v":""},{"$f":"IF(IFERROR(VLOOKUP(CONCATENATE(AH17,\" вес \",$W$6),'Участники чемпионата'!$A:$AA,25,0),\"\")=\"Шлем\",\"Ш\",\"\")","v":""},{"$f":"IFERROR(VLOOKUP(CONCATENATE(AH17,\" вес \",$W$6),'Участники чемпионата'!$A:$AA,5,0),\"\")","v":""}]
[null,5,{"$f":"IFERROR(VLOOKUP(CONCATENATE(B18,\" вес \",$W$6),'Участники чемпионата'!$A:$AA,13,0),\"\")","v":"Григоров Максим"},{"$f":"IF(IFERROR(VLOOKUP(CONCATENATE(B18,\" вес \",$W$6),'Участники чемпионата'!$A:$AA,25,0),\"\")=\"Шлем\",\"Ш\",\"\")","v":""},{"$f":"IFERROR(VLOOKUP(CONCATENATE(B18,\" вес \",$W$6),'Участники чемпионата'!$A:$AA,5,0),\"\")","v":"г. Ханты-Мансийск"},null,null,null,{"$f":"IFERROR(VLOOKUP(CONCATENATE(G17,\" вес \",$W$6),'Участники чемпионата'!$A:$AF,32,0),\"\")","v":"Григоров "},null,null,null,null,null,null,null,null,null,null,null,null,null,null,null,null,null,null,null,null,{"$f":"IFERROR(VLOOKUP(CONCATENATE(AE17,\" вес \",$W$6),'Участники чемпионата'!$A:$AF,32,0),\"\")","v":""},null,null,null,16,{"$f":"IFERROR(VLOOKUP(CONCATENATE(AH18,\" вес \",$W$6),'Участники чемпионата'!$A:$AA,13,0),\"\")","v":""},{"$f":"IF(IFERROR(VLOOKUP(CONCATENATE(AH18,\" вес \",$W$6),'Участники чемпионата'!$A:$AA,25,0),\"\")=\"Шлем\",\"Ш\",\"\")","v":""},{"$f":"IFERROR(VLOOKUP(CONCATENATE(AH18,\" вес \",$W$6),'Участники чемпионата'!$A:$AA,5,0),\"\")","v":""}]
[]
[null,null,"A",null,null,null,null,null,null,null,null,null,null,null,{"$f":"IFERROR(VLOOKUP(CONCATENATE(M20,\" вес \",$W$6),'Участники чемпионата'!$A:$AF,32,0),\"\")","v":""},null,null,null,null,null,null,null,null,{"$f":"IFERROR(VLOOKUP(CONCATENATE(Y20,\" вес \",$W$6),'Участники чемпионата'!$A:$AF,32,0),\"\")","v":""},null,null,null,null,null,null,null,null,null,null,null,null,"C  "]
[]
[]
[null,25,{"$f":"IFERROR(VLOOKUP(CONCATENATE(B23,\" вес \",$W$6),'Участники чемпионата'!$A:$AA,13,0),\"\")","v":""},{"$f":"IF(IFERROR(VLOOKUP(CONCATENATE(B23,\" вес \",$W$6),'Участники чемпионата'!$A:$AA,25,0),\"\")=\"Шлем\",\"Ш\",\"\")","v":""},{"$f":"IFERROR(VLOOKUP(CONCATENATE(B23,\" вес \",$W$6),'Участники чемпионата'!$A:$AA,5,0),\"\")","v":""},null,null,null,{"$f":"IFERROR(VLOOKUP(CONCATENATE(G23,\" вес \",$W$6),'Участники чемпионата'!$A:$AF,32,0),\"\")","v":""},null,null,null,null,null,null,null,null,null,null,null,null,null,null,null,null,null,null,null,null,{"$f":"IFERROR(VLOOKUP(CONCATENATE(AE23,\" вес \",$W$6),'Участники чемпионата'!$A:$AF,32,0),\"\")","v":""},null,null,null,10,{"$f":"IFERROR(VLOOKUP(CONCATENATE(AH23,\" вес \",$W$6),'Участники чемпионата'!$A:$AA,13,0),\"\")","v":"Магомедов Бурагим"},{"$f":"IF(IFERROR(VLOOKUP(CONCATENATE(AH23,\" вес \",$W$6),'Участники чемпионата'!$A:$AA,25,0),\"\")=\"Шлем\",\"Ш\",\"\")","v":""},{"$f":"IFERROR(VLOOKUP(CONCATENATE(AH23,\" вес \",$W$6),'Участники чемпионата'!$A:$AA,5,0),\"\")","v":"г. Нижневартовск"}]
[null,19,{"$f":"IFERROR(VLOOKUP(CONCATENATE(B24,\" вес \",$W$6),'Участники чемпионата'!$A:$AA,13,0),\"\")","v":""},{"$f":"IF(IFERROR(VLOOKUP(CONCATENATE(B24,\" вес \",$W$6),'Участники чемпионата'!$A:$AA,25,0),\"\")=\"Шлем\",\"Ш\",\"\")","v":""},{"$f":"IFERROR(VLOOKUP(CONCATENATE(B24,\" вес \",$W$6),'Участники чемпионата'!$A:$AA,5,0),\"\")","v":""},null,null,null,null,null,null,null,null,null,null,null,null,null,null,null,null,null,null,null,null,null,null,null,null,null,null,null,null,22,{"$f":"IFERROR(VLOOKUP(CONCATENATE(AH24,\" вес \",$W$6),'Участники чемпионата'!$A:$AA,13,0),\"\")","v":""},{"$f":"IF(IFERROR(VLOOKUP(CONCATENATE(AH24,\" вес \",$W$6),'Участники чемпионата'!$A:$AA,25,0),\"\")=\"Шлем\",\"Ш\",\"\")","v":""},{"$f":"IFERROR(VLOOKUP(CONCATENATE(AH24,\" вес \",$W$6),'Участники чемпионата'!$A:$AA,5,0),\"\")","v":""}]
[]
[]
[null,null,null,null,null,null,null,null,null,null,null,{"$f":"IFERROR(VLOOKUP(CONCATENATE(J26,\" вес \",$W$6),'Участники чемпионата'!$A:$AF,32,0),\"\")","v":""},null,null,null,null,null,null,null,null,null,null,null,null,null,null,{"$f":"IFERROR(VLOOKUP(CONCATENATE(AB26,\" вес \",$W$6),'Участники чемпионата'!$A:$AF,32,0),\"\")","v":""}]
[]
[null,11,{"$f":"IFERROR(VLOOKUP(CONCATENATE(B29,\" вес \",$W$6),'Участники чемпионата'!$A:$AA,13,0),\"\")","v":""},{"$f":"IF(IFERROR(VLOOKUP(CONCATENATE(B29,\" вес \",$W$6),'Участники чемпионата'!$A:$AA,25,0),\"\")=\"Шлем\",\"Ш\",\"\")","v":""},{"$f":"IFERROR(VLOOKUP(CONCATENATE(B29,\" вес \",$W$6),'Участники чемпионата'!$A:$AA,5,0),\"\")","v":""},null,null,null,null,null,null,null,null,null,null,null,null,"Чемпион",null,null,null,null,null,null,null,null,null,null,null,null,14]
[null,27,{"$f":"IFERROR(VLOOKUP(CONCATENATE(B30,\" вес \",$W$6),'Участники чемпионата'!$A:$AA,13,0),\"\")","v":""},{"$f":"IF(IFERROR(VLOOKUP(CONCATENATE(B30,\" вес \",$W$6),'Участники чемпионата'!$A:$AA,25,0),\"\")=\"Шлем\",\"Ш\",\"\")","v":""},{"$f":"IFERROR(VLOOKUP(CONCATENATE(B30,\" вес \",$W$6),'Участники чемпионата'!$A:$AA,5,0),\"\")","v":""},null,null,null,{"$f":"IFERROR(VLOOKUP(CONCATENATE(G29,\" вес \",$W$6),'Участники чемпионата'!$A:$AF,32,0),\"\")","v":""},null,null,null,null,null,null,null,{"$f":"IFERROR(VLOOKUP(CONCATENATE(S32,\" вес \",$W$6),'Участники чемпионата'!$A:$AA,7,0),\"\")","v":""},null,null,null,null,null,null,null,null,null,null,null,null,{"$f":"IFERROR(VLOOKUP(CONCATENATE(AE29,\" вес \",$W$6),'Участники чемпионата'!$A:$AF,32,0),\"\")","v":""},null,null,null,14,{"$f":"IFERROR(VLOOKUP(CONCATENATE(AH30,\" вес \",$W$6),'Участники чемпионата'!$A:$AA,13,0),\"\")","v":""},{"$f":"IF(IFERROR(VLOOKUP(CONCATENATE(AH30,\" вес \",$W$6),'Участники чемпионата'!$A:$AA,25,0),\"\")=\"Шлем\",\"Ш\",\"\")","v":""},{"$f":"IFERROR(VLOOKUP(CONCATENATE(AH30,\" вес \",$W$6),'Участники чемпионата'!$A:$AA,5,0),\"\")","v":""}]
[]
[null,null,null,null,null,null,null,null,null,null,null,null,null,null,{"$f":"IFERROR(VLOOKUP(CONCATENATE(P32,\" вес \",$W$6),'Участники чемпионата'!$A:$AF,32,0),\"\")","v":""},null,null,null,null,null,null,null,null,{"$f":"IFERROR(VLOOKUP(CONCATENATE(V32,\" вес \",$W$6),'Участники чемпионата'!$A:$AF,32,0),\"\")","v":""}]
[]
[]
[null,3,{"$f":"IFERROR(VLOOKUP(CONCATENATE(B35,\" вес \",$W$6),'Участники чемпионата'!$A:$AA,13,0),\"\")","v":"Рамазанов Джамал"},{"$f":"IF(IFERROR(VLOOKUP(CONCATENATE(B35,\" вес \",$W$6),'Участники чемпионата'!$A:$AA,25,0),\"\")=\"Шлем\",\"Ш\",\"\")","v":"Ш"},{"$f":"IFERROR(VLOOKUP(CONCATENATE(B35,\" вес \",$W$6),'Участники чемпионата'!$A:$AA,5,0),\"\")","v":"СДЮСШОР \"СПАРТАК\" (г.Нефтеюганск)"},null,null,null,{"$f":"IFERROR(VLOOKUP(CONCATENATE(G35,\" вес \",$W$6),'Участники чемпионата'!$A:$AF,32,0),\"\")","v":""},null,null,null,null,null,null,null,null,null,null,null,null,null,null,null,null,null,null,null,null,{"$f":"IFERROR(VLOOKUP(CONCATENATE(AE35,\" вес \",$W$6),'Участники чемпионата'!$A:$AF,32,0),\"\")","v":""},null,null,null,28,{"$f":"IFERROR(VLOOKUP(CONCATENATE(AH35,\" вес \",$W$6),'Участники чемпионата'!$A:$AA,13,0),\"\")","v":""},{"$f":"IF(IFERROR(VLOOKUP(CONCATENATE(AH35,\" вес \",$W$6),'Участники чемпионата'!$A:$AA,25,0),\"\")=\"Шлем\",\"Ш\",\"\")","v":""},{"$f":"IFERROR(VLOOKUP(CONCATENATE(AH35,\" вес \",$W$6),'Участники чемпионата'!$A:$AA,5,0),\"\")","v":""}]
[null,17,{"$f":"IFERROR(VLOOKUP(CONCATENATE(B36,\" вес \",$W$6),'Участники чемпионата'!$A:$AA,13,0),\"\")","v":""},{"$f":"IF(IFERROR(VLOOKUP(CONCATENATE(B36,\" вес \",$W$6),'Участники чемпионата'!$A:$AA,25,0),\"\")=\"Шлем\",\"Ш\",\"\")","v":""},{"$f":"IFERROR(VLOOKUP(CONCATENATE(B36,\" вес \",$W$6),'Участники чемпионата'!$A:$AA,5,0),\"\")","v":""},null,null,null,null,null,null,null,null,null,null,null,null,null,null,null,null,null,null,null,null,null,null,null,null,null,null,null,null,4,{"$f":"IFERROR(VLOOKUP(CONCATENATE(AH36,\" вес \",$W$6),'Участники чемпионата'!$A:$AA,13,0),\"\")","v":"Дадаев Мансур"},{"$f":"IF(IFERROR(VLOOKUP(CONCATENATE(AH36,\" вес \",$W$6),'Участники чемпионата'!$A:$AA,25,0),\"\")=\"Шлем\",\"Ш\",\"\")","v":"Ш"},{"$f":"IFERROR(VLOOKUP(CONCATENATE(AH36,\" вес \",$W$6),'Участники чемпионата'!$A:$AA,5,0),\"\")","v":"г. Ханты-Мансийск"}]
[]
[null,null,null,null,null,null,null,null,null,null,null,{"$f":"IFERROR(VLOOKUP(CONCATENATE(J38,\" вес \",$W$6),'Участники чемпионата'!$A:$AF,32,0),\"\")","v":""},null,null,null,null,null,null,null,null,null,null,null,null,null,null,{"$f":"IFERROR(VLOOKUP(CONCATENATE(AB38,\" вес \",$W$6),'Участники чемпионата'!$A:$AF,32,0),\"\")","v":""}]
[]
[]
[null,9,{"$f":"IFERROR(VLOOKUP(CONCATENATE(B41,\" вес \",$W$6),'Участники чемпионата'!$A:$AA,13,0),\"\")","v":"Касумов  Али"},{"$f":"IF(IFERROR(VLOOKUP(CONCATENATE(B41,\" вес \",$W$6),'Участники чемпионата'!$A:$AA,25,0),\"\")=\"Шлем\",\"Ш\",\"\")","v":""},{"$f":"IFERROR(VLOOKUP(CONCATENATE(B41,\" вес \",$W$6),'Участники чемпионата'!$A:$AA,5,0),\"\")","v":"г. Сургут"},null,null,null,null,null,null,null,null,null,null,null,null,null,null,null,null,null,null,null,null,null,null,null,null,null,null,null,null,20,{"$f":"IFERROR(VLOOKUP(CONCATENATE(AH41,\" вес \",$W$6),'Участники чемпионата'!$A:$AA,13,0),\"\")","v":""},{"$f":"IF(IFERROR(VLOOKUP(CONCATENATE(AH41,\" вес \",$W$6),'Участники чемпионата'!$A:$AA,25,0),\"\")=\"Шлем\",\"Ш\",\"\")","v":""},{"$f":"IFERROR(VLOOKUP(CONCATENATE(AH41,\" вес \",$W$6),'Участники чемпионата'!$A:$AA,5,0),\"\")","v":""}]
[null,21,{"$f":"IFERROR(VLOOKUP(CONCATENATE(B42,\" вес \",$W$6),'Участники чемпионата'!$A:$AA,13,0),\"\")","v":""},{"$f":"IF(IFERROR(VLOOKUP(CONCATENATE(B42,\" вес \",$W$6),'Участники чемпионата'!$A:$AA,25,0),\"\")=\"Шлем\",\"Ш\",\"\")","v":""},{"$f":"IFERROR(VLOOKUP(CONCATENATE(B42,\" вес \",$W$6),'Участники чемпионата'!$A:$AA,5,0),\"\")","v":""},null,null,null,{"$f":"IFERROR(VLOOKUP(CONCATENATE(G41,\" вес \",$W$6),'Участники чемпионата'!$A:$AF,32,0),\"\")","v":""},null,null,null,null,null,null,null,null,null,null,null,null,null,null,null,null,null,null,null,null,{"$f":"IFERROR(VLOOKUP(CONCATENATE(AE41,\" вес \",$W$6),'Участники чемпионата'!$A:$AF,32,0),\"\")","v":""},null,null,null,12,{"$f":"IFERROR(VLOOKUP(CONCATENATE(AH42,\" вес \",$W$6),'Участники чемпионата'!$A:$AA,13,0),\"\")","v":""},{"$f":"IF(IFERROR(VLOOKUP(CONCATENATE(AH42,\" вес \",$W$6),'Участники чемпионата'!$A:$AA,25,0),\"\")=\"Шлем\",\"Ш\",\"\")","v":""},{"$f":"IFERROR(VLOOKUP(CONCATENATE(AH42,\" вес \",$W$6),'Участники чемпионата'!$A:$AA,5,0),\"\")","v":""}]
[]
[null,null,"B",null,null,null,null,null,null,null,null,null,null,null,null,null,null,null,null,null,null,null,null,null,null,null,null,null,null,null,null,null,null,null,null,null,"D  "]
[null,null,null,null,null,null,null,null,null,null,null,null,null,null,{"$f":"IFERROR(VLOOKUP(CONCATENATE(M44,\" вес \",$W$6),'Участники чемпионата'!$A:$AF,32,0),\"\")","v":""},null,null,null,null,null,null,null,null,{"$f":"IFERROR(VLOOKUP(CONCATENATE(Y44,\" вес \",$W$6),'Участники чемпионата'!$A:$AF,32,0),\"\")","v":""}]
[]
[null,23,{"$f":"IFERROR(VLOOKUP(CONCATENATE(B47,\" вес \",$W$6),'Участники чемпионата'!$A:$AA,13,0),\"\")","v":""},{"$f":"IF(IFERROR(VLOOKUP(CONCATENATE(B47,\" вес \",$W$6),'Участники чемпионата'!$A:$AA,25,0),\"\")=\"Шлем\",\"Ш\",\"\")","v":""},{"$f":"IFERROR(VLOOKUP(CONCATENATE(B47,\" вес \",$W$6),'Участники чемпионата'!$A:$AA,5,0),\"\")","v":""},null,null,null,{"$f":"IFERROR(VLOOKUP(CONCATENATE(G47,\" вес \",$W$6),'Участники чемпионата'!$A:$AF,32,0),\"\")","v":""},null,null,null,null,null,null,null,null,null,null,null,null,null,null,null,null,null,null,null,null,{"$f":"IFERROR(VLOOKUP(CONCATENATE(AE47,\" вес \",$W$6),'Участники чемпионата'!$A:$AF,32,0),\"\")","v":""},null,null,null,24,{"$f":"IFERROR(VLOOKUP(CONCATENATE(AH47,\" вес \",$W$6),'Участники чемпионата'!$A:$AA,13,0),\"\")","v":""},{"$f":"IF(IFERROR(VLOOKUP(CONCATENATE(AH47,\" вес \",$W$6),'Участники чемпионата'!$A:$AA,25,0),\"\")=\"Шлем\",\"Ш\",\"\")","v":""},{"$f":"IFERROR(VLOOKUP(CONCATENATE(AH47,\" вес \",$W$6),'Участники чемпионата'!$A:$AA,5,0),\"\")","v":""}]
[null,7,{"$f":"IFERROR(VLOOKUP(CONCATENATE(B48,\" вес \",$W$6),'Участники чемпионата'!$A:$AA,13,0),\"\")","v":"Гаджиахмедов Магомед"},{"$f":"IF(IFERROR(VLOOKUP(CONCATENATE(B48,\" вес \",$W$6),'Участники чемпионата'!$A:$AA,25,0),\"\")=\"Шлем\",\"Ш\",\"\")","v":""},{"$f":"IFERROR(VLOOKUP(CONCATENATE(B48,\" вес \",$W$6),'Участники чемпионата'!$A:$AA,5,0),\"\")","v":"г. Сургут"},null,null,null,null,null,null,null,null,null,null,null,null,null,null,null,null,null,null,null,null,null,null,null,null,null,null,null,null,6,{"$f":"IFERROR(VLOOKUP(CONCATENATE(AH48,\" вес \",$W$6),'Участники чемпионата'!$A:$AA,13,0),\"\")","v":"Адыгешаов Расим"},{"$f":"IF(IFERROR(VLOOKUP(CONCATENATE(AH48,\" вес \",$W$6),'Участники чемпионата'!$A:$AA,25,0),\"\")=\"Шлем\",\"Ш\",\"\")","v":"Ш"},{"$f":"IFERROR(VLOOKUP(CONCATENATE(AH48,\" вес \",$W$6),'Участники чемпионата'!$A:$AA,5,0),\"\")","v":"г. Сургут"}]
[]
[]
[null,null,null,null,null,null,null,null,null,null,null,{"$f":"IFERROR(VLOOKUP(CONCATENATE(J50,\" вес \",$W$6),'Участники чемпионата'!$A:$AF,32,0),\"\")","v":""},null,null,null,null,null,null,null,null,null,null,null,null,null,null,{"$f":"IFERROR(VLOOKUP(CONCATENATE(AB50,\" вес \",$W$6),'Участники чемпионата'!$A:$AF,32,0),\"\")","v":""}]
[]
[null,13,{"$f":"IFERROR(VLOOKUP(CONCATENATE(B53,\" вес \",$W$6),'Участники чемпионата'!$A:$AA,13,0),\"\")","v":""},{"$f":"IF(IFERROR(VLOOKUP(CONCATENATE(B53,\" вес \",$W$6),'Участники чемпионата'!$A:$AA,25,0),\"\")=\"Шлем\",\"Ш\",\"\")","v":""},{"$f":"IFERROR(VLOOKUP(CONCATENATE(B53,\" вес \",$W$6),'Участники чемпионата'!$A:$AA,5,0),\"\")","v":""},null,null,null,null,null,null,null,null,null,null,null,null,null,null,null,null,null,null,null,null,null,null,null,null,null,null,null,null,8,{"$f":"IFERROR(VLOOKUP(CONCATENATE(AH53,\" вес \",$W$6),'Участники чемпионата'!$A:$AA,13,0),\"\")","v":"Ильясов Гасан"},{"$f":"IF(IFERROR(VLOOKUP(CONCATENATE(AH53,\" вес \",$W$6),'Участники чемпионата'!$A:$AA,25,0),\"\")=\"Шлем\",\"Ш\",\"\")","v":"Ш"},{"$f":"IFERROR(VLOOKUP(CONCATENATE(AH53,\" вес \",$W$6),'Участники чемпионата'!$A:$AA,5,0),\"\")","v":"г. Сургут"}]
[null,29,{"$f":"IFERROR(VLOOKUP(CONCATENATE(B54,\" вес \",$W$6),'Участники чемпионата'!$A:$AA,13,0),\"\")","v":""},{"$f":"IF(IFERROR(VLOOKUP(CONCATENATE(B54,\" вес \",$W$6),'Участники чемпионата'!$A:$AA,25,0),\"\")=\"Шлем\",\"Ш\",\"\")","v":""},{"$f":"IFERROR(VLOOKUP(CONCATENATE(B54,\" вес \",$W$6),'Участники чемпионата'!$A:$AA,5,0),\"\")","v":""},null,null,null,{"$f":"IFERROR(VLOOKUP(CONCATENATE(G53,\" вес \",$W$6),'Участники чемпионата'!$A:$AF,32,0),\"\")","v":""},null,null,null,null,null,null,null,null,null,null,null,null,null,null,null,null,null,null,null,null,{"$f":"IFERROR(VLOOKUP(CONCATENATE(AE53,\" вес \",$W$6),'Участники чемпионата'!$A:$AF,32,0),\"\")","v":""},null,null,null,30,{"$f":"IFERROR(VLOOKUP(CONCATENATE(AH54,\" вес \",$W$6),'Участники чемпионата'!$A:$AA,13,0),\"\")","v":""},{"$f":"IF(IFERROR(VLOOKUP(CONCATENATE(AH54,\" вес \",$W$6),'Участники чемпионата'!$A:$AA,25,0),\"\")=\"Шлем\",\"Ш\",\"\")","v":""},{"$f":"IFERROR(VLOOKUP(CONCATENATE(AH54,\" вес \",$W$6),'Участники чемпионата'!$A:$AA,5,0),\"\")","v":""}]
[]
[null,"1/16",null,null,null,null,"1/8",null,null,"1/4",null,null,"1/2",null,null,"Финал",null,null,null,null,null,null,null,null,"1/2",null,null,"1/4",null,null,"1/8",null,null,"1/16"]
[]
[null,null,null,null,null,null,null,null,null,null,null,null,null,null,null,null,null,null,null,"Участников:",{"$f":"HLOOKUP(W6,Мандатка!$C$4:$I$5,2,0)","v":10}]
[]
[]
[null,null,"1 место"]
[null,{"$f":"IF(S32=\"\",\"\",S32)","v":""},{"$f":"IF(B62=\"\",\"\",IFERROR(VLOOKUP(CONCATENATE(B62,\" вес \",$W$6),'Участники чемпионата'!$A:$AA,13,0),\"\"))","v":""},{"$f":"IF(B62=\"\",\"\",IFERROR(VLOOKUP(CONCATENATE(B62,\" вес \",$W$6),'Участники чемпионата'!$A:$AA,5,0),\"\"))","v":""}]
[]
[null,null,"2 место"]
[null,{"$f":"IF(S32=\"\",\"\",IF(S32=V32,P32,V32))","v":""},{"$f":"IF(B65=\"\",\"\",IFERROR(VLOOKUP(CONCATENATE(B65,\" вес \",$W$6),'Участники чемпионата'!$A:$AA,13,0),\"\"))","v":""},{"$f":"IF(B65=\"\",\"\",IFERROR(VLOOKUP(CONCATENATE(B65,\" вес \",$W$6),'Участники чемпионата'!$A:$AA,5,0),\"\"))","v":""},null,null,null,null,null,null,null,null,null,null,null,null,null,null,null,null,null,null,null,null,null,null,null,null,null,null,null,null,null,"Главный судья соревнований",null,"/",{"$f":"IF(VLOOKUP(AH65,'Исходные данные по чемпионату'!B:C,2,0)=0,\"\",VLOOKUP(AH65,'Исходные данные по чемпионату'!B:C,2,0))","v":"Карташков К.В."},"/"]
[]
[null,null,"3 место"]
[null,{"$f":"IF(P32=\"\",\"\",IF(P32=M44,M20,M44))","v":""},{"$f":"IF(B68=\"\",\"\",IFERROR(VLOOKUP(CONCATENATE(B68,\" вес \",$W$6),'Участники чемпионата'!$A:$AA,13,0),\"\"))","v":""},{"$f":"IF(B68=\"\",\"\",IFERROR(VLOOKUP(CONCATENATE(B68,\" вес \",$W$6),'Участники чемпионата'!$A:$AA,5,0),\"\"))","v":""}]
[null,{"$f":"IF(V32=\"\",\"\",IF(V32=Y44,Y20,Y44))","v":""},{"$f":"IF(B69=\"\",\"\",IFERROR(VLOOKUP(CONCATENATE(B69,\" вес \",$W$6),'Участники чемпионата'!$A:$AA,13,0),\"\"))","v":""},{"$f":"IF(B69=\"\",\"\",IFERROR(VLOOKUP(CONCATENATE(B69,\" вес \",$W$6),'Участники чемпионата'!$A:$AA,5,0),\"\"))","v":""},null,null,null,null,null,null,null,null,null,null,null,null,null,null,null,null,null,null,null,null,null,null,null,null,null,null,null,null,null,"Главный секретарь",null,"/",{"$f":"IF(VLOOKUP(AH69,'Исходные данные по чемпионату'!B:C,2,0)=0,\"\",VLOOKUP(AH69,'Исходные данные по чемпионату'!B:C,2,0))","v":"Толстыгин А.Ю."},"/"]
[]
[null,null,null,null,null,null,null,null,null,null,null,null,null,null,null,null,null,null,null,null,null,null,null,null,null,null,null,null,null,null,null,null,null,null,null,null,null,0]
[]
[null,null,"5-8 места",null,null,null,null,null,null,null,null,null,null,"Результат боя описание",null,null,null,null,null,null,null,null,null,null,null,null,null,null,null,null,null,null,null,null,"Финалисты"]
[null,{"$f":"IF(M20=\"\",\"\",IF(OR(J14-M20=0),J26,J14))","v":""},{"$f":"IF(B74=\"\",\"\",IFERROR(VLOOKUP(CONCATENATE(B74,\" вес \",$W$6),'Участники чемпионата'!$A:$AA,13,0),\"\"))","v":""},{"$f":"IF(B74=\"\",\"\",IFERROR(VLOOKUP(CONCATENATE(B74,\" вес \",$W$6),'Участники чемпионата'!$A:$AA,5,0),\"\"))","v":""},null,null,null,null,null,null,null,null,null,{"$f":"'Unvisible Списки'!C9","v":"(ПО)"},null,null,null,{"$f":"'Unvisible Списки'!C27","v":"по очкам"},null,null,null,null,null,null,null,null,null,null,null,null,null,null,null,{"$f":"IF(P32=\"\",\"\",P32)","v":""},{"$f":"IFERROR(VLOOKUP(CONCATENATE(AH74,\" вес \",$W$6),'Участники чемпионата'!$A:$AA,13,0),\"\")","v":""},{"$f":"IFERROR(VLOOKUP(CONCATENATE(AH74,\" вес \",$W$6),'Участники чемпионата'!$A:$AA,5,0),\"\")","v":""}]
[null,{"$f":"IF(M44=\"\",\"\",IF(OR(J38-M44=0),J50,J38))","v":""},{"$f":"IF(B75=\"\",\"\",IFERROR(VLOOKUP(CONCATENATE(B75,\" вес \",$W$6),'Участники чемпионата'!$A:$AA,13,0),\"\"))","v":""},{"$f":"IF(B75=\"\",\"\",IFERROR(VLOOKUP(CONCATENATE(B75,\" вес \",$W$6),'Участники чемпионата'!$A:$AA,5,0),\"\"))","v":""},null,null,null,null,null,null,null,null,null,{"$f":"'Unvisible Списки'!C10","v":"(КО)"},null,null,null,{"$f":"'Unvisible Списки'!C28","v":"нокаут"},null,null,null,null,null,null,null,null,null,null,null,null,null,null,null,{"$f":"IF(V32=\"\",\"\",V32)","v":""},{"$f":"IFERROR(VLOOKUP(CONCATENATE(AH75,\" вес \",$W$6),'Участники чемпионата'!$A:$AA,13,0),\"\")","v":""},{"$f":"IFERROR(VLOOKUP(CONCATENATE(AH75,\" вес \",$W$6),'Участники чемпионата'!$A:$AA,5,0),\"\")","v":""}]
[null,{"$f":"IF(Y20=\"\",\"\",IF(OR(AB14-Y20=0),AB26,AB14))","v":""},{"$f":"IF(B76=\"\",\"\",IFERROR(VLOOKUP(CONCATENATE(B76,\" вес \",$W$6),'Участники чемпионата'!$A:$AA,13,0),\"\"))","v":""},{"$f":"IF(B76=\"\",\"\",IFERROR(VLOOKUP(CONCATENATE(B76,\" вес \",$W$6),'Участники чемпионата'!$A:$AA,5,0),\"\"))","v":""},null,null,null,null,null,null,null,null,null,{"$f":"'Unvisible Списки'!C11","v":"(БЛ)"},null,null,null,{"$f":"'Unvisible Списки'!C29","v":"болевой/удушающий"}]
[null,{"$f":"IF(Y44=\"\",\"\",IF(OR(AB38-Y44=0),AB50,AB38))","v":""},{"$f":"IF(B77=\"\",\"\",IFERROR(VLOOKUP(CONCATENATE(B77,\" вес \",$W$6),'Участники чемпионата'!$A:$AA,13,0),\"\"))","v":""},{"$f":"IF(B77=\"\",\"\",IFERROR(VLOOKUP(CONCATENATE(B77,\" вес \",$W$6),'Участники чемпионата'!$A:$AA,5,0),\"\"))","v":""},null,null,null,null,null,null,null,null,null,{"$f":"'Unvisible Списки'!C12","v":"(ТКО)"},null,null,null,{"$f":"'Unvisible Списки'!C30","v":"технический нокаут"}]
[null,null,null,null,null,null,null,null,null,null,null,null,null,{"$f":"'Unvisible Списки'!C13","v":"(СН)"},null,null,null,{"$f":"'Unvisible Списки'!C31","v":"снятие врачом"}]
[null,null,"9-16 места",null,null,null,null,null,null,null,null,null,null,{"$f":"'Unvisible Списки'!C14","v":"(ОТК)"},null,null,null,{"$f":"'Unvisible Списки'!C32","v":"отказ продолжать бой"}]
[null,{"$f":"IF(J14=\"\",\"\",IF(OR(G11-J14=0),G17,G11))","v":""},{"$f":"IF(B80=\"\",\"\",IFERROR(VLOOKUP(CONCATENATE(B80,\" вес \",$W$6),'Участники чемпионата'!$A:$AA,13,0),\"\"))","v":""},{"$f":"IF(B80=\"\",\"\",IFERROR(VLOOKUP(CONCATENATE(B80,\" вес \",$W$6),'Участники чемпионата'!$A:$AA,5,0),\"\"))","v":""},null,null,null,null,null,null,null,null,null,{"$f":"'Unvisible Списки'!C15","v":"(ДСК)"},null,null,null,{"$f":"'Unvisible Списки'!C33","v":"Дисквалификация"}]
[null,{"$f":"IF(J26=\"\",\"\",IF(OR(G23-J26=0),G29,G23))","v":""},{"$f":"IF(B81=\"\",\"\",IFERROR(VLOOKUP(CONCATENATE(B81,\" вес \",$W$6),'Участники чемпионата'!$A:$AA,13,0),\"\"))","v":""},{"$f":"IF(B81=\"\",\"\",IFERROR(VLOOKUP(CONCATENATE(B81,\" вес \",$W$6),'Участники чемпионата'!$A:$AA,5,0),\"\"))","v":""},null,null,null,null,null,null,null,null,null,{"$f":"'Unvisible Списки'!C16","v":"(РГСК)"},null,null,null,{"$f":"'Unvisible Списки'!C34","v":"решение главного судьи СК"}]
[null,{"$f":"IF(J38=\"\",\"\",IF(OR(G35-J38=0),G41,G35))","v":""},{"$f":"IF(B82=\"\",\"\",IFERROR(VLOOKUP(CONCATENATE(B82,\" вес \",$W$6),'Участники чемпионата'!$A:$AA,13,0),\"\"))","v":""},{"$f":"IF(B82=\"\",\"\",IFERROR(VLOOKUP(CONCATENATE(B82,\" вес \",$W$6),'Участники чемпионата'!$A:$AA,5,0),\"\"))","v":""},null,null,null,null,null,null,null,null,null,{"$f":"'Unvisible Списки'!C17","v":"(НЯ)"},null,null,null,{"$f":"'Unvisible Списки'!C35","v":"неявка"}]
[null,{"$f":"IF(J50=\"\",\"\",IF(OR(G47-J50=0),G53,G47))","v":""},{"$f":"IF(B83=\"\",\"\",IFERROR(VLOOKUP(CONCATENATE(B83,\" вес \",$W$6),'Участники чемпионата'!$A:$AA,13,0),\"\"))","v":""},{"$f":"IF(B83=\"\",\"\",IFERROR(VLOOKUP(CONCATENATE(B83,\" вес \",$W$6),'Участники чемпионата'!$A:$AA,5,0),\"\"))","v":""}]
[null,{"$f":"IF(AB14=\"\",\"\",IF(OR(AE11-AB14=0),AE17,AE11))","v":""},{"$f":"IF(B84=\"\",\"\",IFERROR(VLOOKUP(CONCATENATE(B84,\" вес \",$W$6),'Участники чемпионата'!$A:$AA,13,0),\"\"))","v":""},{"$f":"IF(B84=\"\",\"\",IFERROR(VLOOKUP(CONCATENATE(B84,\" вес \",$W$6),'Участники чемпионата'!$A:$AA,5,0),\"\"))","v":""}]
[null,{"$f":"IF(AB26=\"\",\"\",IF(OR(AE23-AB26=0),AE29,AE23))","v":""},{"$f":"IF(B85=\"\",\"\",IFERROR(VLOOKUP(CONCATENATE(B85,\" вес \",$W$6),'Участники чемпионата'!$A:$AA,13,0),\"\"))","v":""},{"$f":"IF(B85=\"\",\"\",IFERROR(VLOOKUP(CONCATENATE(B85,\" вес \",$W$6),'Участники чемпионата'!$A:$AA,5,0),\"\"))","v":""}]
[null,{"$f":"IF(AB38=\"\",\"\",IF(OR(AE35-AB38=0),AE41,AE35))","v":""},{"$f":"IF(B86=\"\",\"\",IFERROR(VLOOKUP(CONCATENATE(B86,\" вес \",$W$6),'Участники чемпионата'!$A:$AA,13,0),\"\"))","v":""},{"$f":"IF(B86=\"\",\"\",IFERROR(VLOOKUP(CONCATENATE(B86,\" вес \",$W$6),'Участники чемпионата'!$A:$AA,5,0),\"\"))","v":""}]
[null,{"$f":"IF(AB50=\"\",\"\",IF(OR(AE47-AB50=0),AE53,AE47))","v":""},{"$f":"IF(B87=\"\",\"\",IFERROR(VLOOKUP(CONCATENATE(B87,\" вес \",$W$6),'Участники чемпионата'!$A:$AA,13,0),\"\"))","v":""},{"$f":"IF(B87=\"\",\"\",IFERROR(VLOOKUP(CONCATENATE(B87,\" вес \",$W$6),'Участники чемпионата'!$A:$AA,5,0),\"\"))","v":""}]
[]
[null,null,"17-32 места"]
[null,{"$f":"IF(G11=\"\",\"\",IF(OR(B11-G11=0),B12,B11))","v":""},{"$f":"IF(B90=\"\",\"\",IFERROR(VLOOKUP(CONCATENATE(B90,\" вес \",$W$6),'Участники чемпионата'!$A:$AA,13,0),\"\"))","v":""},{"$f":"IF(B90=\"\",\"\",IFERROR(VLOOKUP(CONCATENATE(B90,\" вес \",$W$6),'Участники чемпионата'!$A:$AA,5,0),\"\"))","v":""}]
[null,{"$f":"IF(G17=\"\",\"\",IF(OR(B17-G17=0),B18,B17))","v":0},{"$f":"IF(B91=\"\",\"\",IFERROR(VLOOKUP(CONCATENATE(B91,\" вес \",$W$6),'Участники чемпионата'!$A:$AA,13,0),\"\"))","v":""},{"$f":"IF(B91=\"\",\"\",IFERROR(VLOOKUP(CONCATENATE(B91,\" вес \",$W$6),'Участники чемпионата'!$A:$AA,5,0),\"\"))","v":""}]
[null,{"$f":"IF(G23=\"\",\"\",IF(OR(B23-G23=0),B24,B23))","v":""},{"$f":"IF(B92=\"\",\"\",IFERROR(VLOOKUP(CONCATENATE(B92,\" вес \",$W$6),'Участники чемпионата'!$A:$AA,13,0),\"\"))","v":""},{"$f":"IF(B92=\"\",\"\",IFERROR(VLOOKUP(CONCATENATE(B92,\" вес \",$W$6),'Участники чемпионата'!$A:$AA,5,0),\"\"))","v":""}]
[null,{"$f":"IF(G29=\"\",\"\",IF(G29=\"\",\"\",IF(OR(B29-G29=0),B30,B29)))","v":""},{"$f":"IF(B93=\"\",\"\",IFERROR(VLOOKUP(CONCATENATE(B93,\" вес \",$W$6),'Участники чемпионата'!$A:$AA,13,0),\"\"))","v":""},{"$f":"IF(B93=\"\",\"\",IFERROR(VLOOKUP(CONCATENATE(B93,\" вес \",$W$6),'Участники чемпионата'!$A:$AA,5,0),\"\"))","v":""}]
[null,{"$f":"IF(G35=\"\",\"\",IF(OR(B35-G35=0),B36,B35))","v":""},{"$f":"IF(B94=\"\",\"\",IFERROR(VLOOKUP(CONCATENATE(B94,\" вес \",$W$6),'Участники чемпионата'!$A:$AA,13,0),\"\"))","v":""},{"$f":"IF(B94=\"\",\"\",IFERROR(VLOOKUP(CONCATENATE(B94,\" вес \",$W$6),'Участники чемпионата'!$A:$AA,5,0),\"\"))","v":""}]
[null,{"$f":"IF(G41=\"\",\"\",IF(OR(B41-G41=0),B42,B41))","v":""},{"$f":"IF(B95=\"\",\"\",IFERROR(VLOOKUP(CONCATENATE(B95,\" вес \",$W$6),'Участники чемпионата'!$A:$AA,13,0),\"\"))","v":""},{"$f":"IF(B95=\"\",\"\",IFERROR(VLOOKUP(CONCATENATE(B95,\" вес \",$W$6),'Участники чемпионата'!$A:$AA,5,0),\"\"))","v":""}]
[null,{"$f":"IF(G47=\"\",\"\",IF(OR(B47-G47=0),B48,B47))","v":""},{"$f":"IF(B96=\"\",\"\",IFERROR(VLOOKUP(CONCATENATE(B96,\" вес \",$W$6),'Участники чемпионата'!$A:$AA,13,0),\"\"))","v":""},{"$f":"IF(B96=\"\",\"\",IFERROR(VLOOKUP(CONCATENATE(B96,\" вес \",$W$6),'Участники чемпионата'!$A:$AA,5,0),\"\"))","v":""}]
[null,{"$f":"IF(G53=\"\",\"\",IF(OR(B53-G53=0),B54,B53))","v":""},{"$f":"IF(B97=\"\",\"\",IFERROR(VLOOKUP(CONCATENATE(B97,\" вес \",$W$6),'Участники чемпионата'!$A:$AA,13,0),\"\"))","v":""},{"$f":"IF(B97=\"\",\"\",IFERROR(VLOOKUP(CONCATENATE(B97,\" вес \",$W$6),'Участники чемпионата'!$A:$AA,5,0),\"\"))","v":""}]
[null,{"$f":"IF(AE11=\"\",\"\",IF(OR(AH11-AE11=0),AH12,AH11))","v":""},{"$f":"IF(B98=\"\",\"\",IFERROR(VLOOKUP(CONCATENATE(B98,\" вес \",$W$6),'Участники чемпионата'!$A:$AA,13,0),\"\"))","v":""},{"$f":"IF(B98=\"\",\"\",IFERROR(VLOOKUP(CONCATENATE(B98,\" вес \",$W$6),'Участники чемпионата'!$A:$AA,5,0),\"\"))","v":""}]
[null,{"$f":"IF(AE17=\"\",\"\",IF(OR(AH17-AE17=0),AH18,AH17))","v":""},{"$f":"IF(B99=\"\",\"\",IFERROR(VLOOKUP(CONCATENATE(B99,\" вес \",$W$6),'Участники чемпионата'!$A:$AA,13,0),\"\"))","v":""},{"$f":"IF(B99=\"\",\"\",IFERROR(VLOOKUP(CONCATENATE(B99,\" вес \",$W$6),'Участники чемпионата'!$A:$AA,5,0),\"\"))","v":""}]
[null,{"$f":"IF(AE23=\"\",\"\",IF(OR(AH23-AE23=0),AH24,AH23))","v":""},{"$f":"IF(B100=\"\",\"\",IFERROR(VLOOKUP(CONCATENATE(B100,\" вес \",$W$6),'Участники чемпионата'!$A:$AA,13,0),\"\"))","v":""},{"$f":"IF(B100=\"\",\"\",IFERROR(VLOOKUP(CONCATENATE(B100,\" вес \",$W$6),'Участники чемпионата'!$A:$AA,5,0),\"\"))","v":""}]
[null,{"$f":"IF(AE29=\"\",\"\",IF(OR(AH29-AE29=0),AH30,AH29))","v":0},{"$f":"IF(B101=\"\",\"\",IFERROR(VLOOKUP(CONCATENATE(B101,\" вес \",$W$6),'Участники чемпионата'!$A:$AA,13,0),\"\"))","v":""},{"$f":"IF(B101=\"\",\"\",IFERROR(VLOOKUP(CONCATENATE(B101,\" вес \",$W$6),'Участники чемпионата'!$A:$AA,5,0),\"\"))","v":""}]
[null,{"$f":"IF(AE35=\"\",\"\",IF(OR(AH35-AE35=0),AH36,AH35))","v":""},{"$f":"IF(B102=\"\",\"\",IFERROR(VLOOKUP(CONCATENATE(B102,\" вес \",$W$6),'Участники чемпионата'!$A:$AA,13,0),\"\"))","v":""},{"$f":"IF(B102=\"\",\"\",IFERROR(VLOOKUP(CONCATENATE(B102,\" вес \",$W$6),'Участники чемпионата'!$A:$AA,5,0),\"\"))","v":""}]
[null,{"$f":"IF(AE41=\"\",\"\",IF(OR(AH41-AE41=0),AH42,AH41))","v":""},{"$f":"IF(B103=\"\",\"\",IFERROR(VLOOKUP(CONCATENATE(B103,\" вес \",$W$6),'Участники чемпионата'!$A:$AA,13,0),\"\"))","v":""},{"$f":"IF(B103=\"\",\"\",IFERROR(VLOOKUP(CONCATENATE(B103,\" вес \",$W$6),'Участники чемпионата'!$A:$AA,5,0),\"\"))","v":""}]
[null,{"$f":"IF(AE47=\"\",\"\",IF(OR(AH47-AE47=0),AH48,AH47))","v":""},{"$f":"IF(B104=\"\",\"\",IFERROR(VLOOKUP(CONCATENATE(B104,\" вес \",$W$6),'Участники чемпионата'!$A:$AA,13,0),\"\"))","v":""},{"$f":"IF(B104=\"\",\"\",IFERROR(VLOOKUP(CONCATENATE(B104,\" вес \",$W$6),'Участники чемпионата'!$A:$AA,5,0),\"\"))","v":""}]
[null,{"$f":"IF(AE53=\"\",\"\",IF(OR(AH53-AE53=0),AH54,AH53))","v":""},{"$f":"IF(B105=\"\",\"\",IFERROR(VLOOKUP(CONCATENATE(B105,\" вес \",$W$6),'Участники чемпионата'!$A:$AA,13,0),\"\"))","v":""},{"$f":"IF(B105=\"\",\"\",IFERROR(VLOOKUP(CONCATENATE(B105,\" вес \",$W$6),'Участники чемпионата'!$A:$AA,5,0),\"\"))","v":""}]

{"sheet":"Сетка28","index":2,"n_rows":105,"n_cols":38,"rows_kept":105,"cut":false,"hidden":true,"merged":[[1,2,1,36],[3,5,3,33],[3,36,4,36],[5,22,5,24],[10,6,11,7],[10,30,11,31],[16,6,17,7],[16,30,17,31],[19,2,20,2],[19,12,20,13],[19,24,20,25],[19,36,20,36],[12,6,13,6],[12,7,13,7],[12,30,13,30],[12,31,13,31],[13,9,14,10],[13,27,14,28],[14,6,15,6],[14,7,15,7],[14,30,15,30],[14,31,15,31],[26,31,27,31],[28,6,29,7],[28,17,28,20],[28,30,29,31],[29,16,30,21],[22,6,23,7],[22,30,23,31],[24,6,25,6],[24,7,25,7],[24,30,25,30],[24,31,25,31],[25,9,26,10],[25,27,26,28],[26,6,27,6],[26,7,27,7],[31,15,32,16],[31,18,32,19],[31,21,32,22],[33,14,34,14],[33,15,34,15],[33,18,34,18],[33,19,34,19],[33,22,34,22],[26,30,27,30],[33,23,34,23],[34,6,35,7],[34,30,35,31],[35,16,35,21],[36,6,37,6],[36,7,37,7],[36,16,37,21],[36,30,37,30],[36,31,37,31],[37,9,38,10],[43,2,44,2],[43,12,44,13],[43,24,44,25],[43,36,44,36],[46,6,47,7],[46,30,47,31],[37,27,38,28],[38,6,39,6],[38,7,39,7],[38,30,39,30],[38,31,39,31],[40,6,41,7],[40,30,41,31],[48,6,49,6],[48,7,49,7],[48,30,49,30],[48,31,49,31],[49,9,50,10],[49,27,50,28],[50,6,51,6],[50,7,51,7],[50,30,51,30],[50,31,51,31],[52,6,53,7],[52,30,53,31],[55,1,55,4],[55,6,55,7],[55,9,55,10],[55,12,55,13],[55,15,55,22],[55,24,55,25],[55,27,55,28],[55,30,55,31],[73,35,73,36],[74,3,74,4],[74,13,74,16],[74,17,74,26],[74,35,74,36],[55,33,55,36],[57,20,57,21],[61,3,61,4],[64,3,64,4],[67,3,67,4],[68,3,68,4],[75,3,75,4],[75,13,75,16],[75,17,75,26],[76,3,76,4],[76,13,76,16],[76,17,76,26],[72,13,72,26],[73,3,73,4],[73,13,73,16],[73,17,73,26],[80,3,80,4],[80,13,80,16],[80,17,80,26],[81,3,81,4],[81,13,81,16],[81,17,81,26],[77,13,77,16],[77,17,77,26],[78,13,78,16],[78,17,78,26],[79,3,79,4],[79,13,79,16],[79,17,79,26],[90,3,90,4],[91,3,91,4],[92,3,92,4],[93,3,93,4],[94,3,94,4],[95,3,95,4],[82,3,82,4],[83,3,83,4],[84,3,84,4],[85,3,85,4],[86,3,86,4],[89,3,89,4],[102,3,102,4],[103,3,103,4],[104,3,104,4],[96,3,96,4],[97,3,97,4],[98,3,98,4],[99,3,99,4],[100,3,100,4],[101,3,101,4]]}
[]
[null,null,{"$f":"'Исходные данные по чемпионату'!C3","v":"Чемпионат ХМАО-Югры по СБЕ (ММА) среди муж. 18лет и старше,первенство среди юношей 16-17лет"}]
[]
[null,null,null,null,null,"ПРОТОКОЛ СОРЕВНОВАНИЙ",null,null,null,null,null,null,null,null,null,null,null,null,null,null,null,null,null,null,null,null,null,null,null,null,null,null,null,null,null,null,{"$f":"'Исходные данные по чемпионату'!C6","v":"г. Ханты-Мансийск"}]
[]
[null,null,null,null,null,null,null,null,null,null,null,null,null,null,null,null,null,null,null,null,null,"Весовая категория до","65,8",null,null,"кг",null,null,null,null,null,null,null,null,null,null,{"$f":"'Исходные данные по чемпионату'!C4","v":"с16 по 19 февраля 2018г."}]
[]
[]
[null,"№","Спортсмен","Шлем","Команда",null,null,null,null,null,null,null,null,null,null,null,null,null,null,null,null,null,null,null,null,null,null,null,null,null,null,null,null,"№","Спортсмен","Шлем","Команда"]
[]
[null,1,{"$f":"IFERROR(VLOOKUP(CONCATENATE(B11,\" вес \",$W$6),'Участники чемпионата'!$A:$AA,13,0),\"\")","v":"Мамедов Руслан"},{"$f":"IF(IFERROR(VLOOKUP(CONCATENATE(B11,\" вес \",$W$6),'Участники чемпионата'!$A:$AA,25,0),\"\")=\"Шлем\",\"Ш\",\"\")","v":""},{"$f":"IFERROR(VLOOKUP(CONCATENATE(B11,\" вес \",$W$6),'Участники чемпионата'!$A:$AA,5,0),\"\")","v":"Скорпион (г. Лангепас)"},null,null,null,{"$f":"IFERROR(VLOOKUP(CONCATENATE(G11,\" вес \",$W$6),'Участники чемпионата'!$A:$AF,32,0),\"\")","v":""},null,null,null,null,null,null,null,null,null,null,null,null,null,null,null,null,null,null,null,null,{"$f":"IFERROR(VLOOKUP(CONCATENATE(AE11,\" вес \",$W$6),'Участники чемпионата'!$A:$AF,32,0),\"\")","v":""},null,null,null,2,{"$f":"IFERROR(VLOOKUP(CONCATENATE(AH11,\" вес \",$W$6),'Участники чемпионата'!$A:$AA,13,0),\"\")","v":"Бердиев Шахзод"},{"$f":"IF(IFERROR(VLOOKUP(CONCATENATE(AH11,\" вес \",$W$6),'Участники чемпионата'!$A:$AA,25,0),\"\")=\"Шлем\",\"Ш\",\"\")","v":"Ш"},{"$f":"IFERROR(VLOOKUP(CONCATENATE(AH11,\" вес \",$W$6),'Участники чемпионата'!$A:$AA,5,0),\"\")","v":"СДЮСШОР \"СПАРТАК\" (г.Нефтеюганск)"}]
[null,15,{"$f":"IFERROR(VLOOKUP(CONCATENATE(B12,\" вес \",$W$6),'Участники чемпионата'!$A:$AA,13,0),\"\")","v":""},{"$f":"IF(IFERROR(VLOOKUP(CONCATENATE(B12,\" вес \",$W$6),'Участники чемпионата'!$A:$AA,25,0),\"\")=\"Шлем\",\"Ш\",\"\")","v":""},{"$f":"IFERROR(VLOOKUP(CONCATENATE(B12,\" вес \",$W$6),'Участники чемпионата'!$A:$AA,5,0),\"\")","v":""},null,null,null,null,null,null,null,null,null,null,null,null,null,null,null,null,null,null,null,null,null,null,null,null,null,null,null,null,18,{"$f":"IFERROR(VLOOKUP(CONCATENATE(AH12,\" вес \",$W$6),'Участники чемпионата'!$A:$AA,13,0),\"\")","v":""},{"$f":"IF(IFERROR(VLOOKUP(CONCATENATE(AH12,\" вес \",$W$6),'Участники чемпионата'!$A:$AA,25,0),\"\")=\"Шлем\",\"Ш\",\"\")","v":""},{"$f":"IFERROR(VLOOKUP(CONCATENATE(AH12,\" вес \",$W$6),'Участники чемпионата'!$A:$AA,5,0),\"\")","v":""}]
[]
[null,null,null,null,null,null,null,null,null,null,null,{"$f":"IFERROR(VLOOKUP(CONCATENATE(J14,\" вес \",$W$6),'Участники чемпионата'!$A:$AF,32,0),\"\")","v":""},null,null,null,null,null,null,null,null,null,null,null,null,null,null,{"$f":"IFERROR(VLOOKUP(CONCATENATE(AB14,\" вес \",$W$6),'Участники чемпионата'!$A:$AF,32,0),\"\")","v":""}]
[]
[]
[null,null,null,null,null,null,5,null,null,null,null,null,null,null,null,null,null,null,null,null,null,null,null,null,null,null,null,null,null,null,null,null,null,6,{"$f":"IFERROR(VLOOKUP(CONCATENATE(AH17,\" вес \",$W$6),'Участники чемпионата'!$A:$AA,13,0),\"\")","v":"Адыгешаов Расим"},{"$f":"IF(IFERROR(VLOOKUP(CONCATENATE(AH17,\" вес \",$W$6),'Участники чемпионата'!$A:$AA,25,0),\"\")=\"Шлем\",\"Ш\",\"\")","v":"Ш"},{"$f":"IFERROR(VLOOKUP(CONCATENATE(AH17,\" вес \",$W$6),'Участники чемпионата'!$A:$AA,5,0),\"\")","v":"г. Сургут"}]
[null,5,{"$f":"IFERROR(VLOOKUP(CONCATENATE(B18,\" вес \",$W$6),'Участники чемпионата'!$A:$AA,13,0),\"\")","v":"Григоров Максим"},{"$f":"IF(IFERROR(VLOOKUP(CONCATENATE(B18,\" вес \",$W$6),'Участники чемпионата'!$A:$AA,25,0),\"\")=\"Шлем\",\"Ш\",\"\")","v":""},{"$f":"IFERROR(VLOOKUP(CONCATENATE(B18,\" вес \",$W$6),'Участники чемпионата'!$A:$AA,5,0),\"\")","v":"г. Ханты-Мансийск"},null,null,null,{"$f":"IFERROR(VLOOKUP(CONCATENATE(G17,\" вес \",$W$6),'Участники чемпионата'!$A:$AF,32,0),\"\")","v":"Григоров "},null,null,null,null,null,null,null,null,null,null,null,null,null,null,null,null,null,null,null,null,{"$f":"IFERROR(VLOOKUP(CONCATENATE(AE17,\" вес \",$W$6),'Участники чемпионата'!$A:$AF,32,0),\"\")","v":""},null,null,null,24,{"$f":"IFERROR(VLOOKUP(CONCATENATE(AH18,\" вес \",$W$6),'Участники чемпионата'!$A:$AA,13,0),\"\")","v":""},{"$f":"IF(IFERROR(VLOOKUP(CONCATENATE(AH18,\" вес \",$W$6),'Участники чемпионата'!$A:$AA,25,0),\"\")=\"Шлем\",\"Ш\",\"\")","v":""},{"$f":"IFERROR(VLOOKUP(CONCATENATE(AH18,\" вес \",$W$6),'Участники чемпионата'!$A:$AA,5,0),\"\")","v":""}]
[]
[null,null,"A",null,null,null,null,null,null,null,null,null,null,null,{"$f":"IFERROR(VLOOKUP(CONCATENATE(M20,\" вес \",$W$6),'Участники чемпионата'!$A:$AF,32,0),\"\")","v":""},null,null,null,null,null,null,null,null,{"$f":"IFERROR(VLOOKUP(CONCATENATE(Y20,\" вес \",$W$6),'Участники чемпионата'!$A:$AF,32,0),\"\")","v":""},null,null,null,null,null,null,null,null,null,null,null,null,"C  "]
[]
[]
[null,7,{"$f":"IFERROR(VLOOKUP(CONCATENATE(B23,\" вес \",$W$6),'Участники чемпионата'!$A:$AA,13,0),\"\")","v":"Гаджиахмедов Магомед"},{"$f":"IF(IFERROR(VLOOKUP(CONCATENATE(B23,\" вес \",$W$6),'Участники чемпионата'!$A:$AA,25,0),\"\")=\"Шлем\",\"Ш\",\"\")","v":""},{"$f":"IFERROR(VLOOKUP(CONCATENATE(B23,\" вес \",$W$6),'Участники чемпионата'!$A:$AA,5,0),\"\")","v":"г. Сургут"},null,null,null,{"$f":"IFERROR(VLOOKUP(CONCATENATE(G23,\" вес \",$W$6),'Участники чемпионата'!$A:$AF,32,0),\"\")","v":""},null,null,null,null,null,null,null,null,null,null,null,null,null,null,null,null,null,null,null,null,{"$f":"IFERROR(VLOOKUP(CONCATENATE(AE23,\" вес \",$W$6),'Участники чемпионата'!$A:$AF,32,0),\"\")","v":""},null,null,null,10,{"$f":"IFERROR(VLOOKUP(CONCATENATE(AH23,\" вес \",$W$6),'Участники чемпионата'!$A:$AA,13,0),\"\")","v":"Магомедов Бурагим"},{"$f":"IF(IFERROR(VLOOKUP(CONCATENATE(AH23,\" вес \",$W$6),'Участники чемпионата'!$A:$AA,25,0),\"\")=\"Шлем\",\"Ш\",\"\")","v":""},{"$f":"IFERROR(VLOOKUP(CONCATENATE(AH23,\" вес \",$W$6),'Участники чемпионата'!$A:$AA,5,0),\"\")","v":"г. Нижневартовск"}]
[null,25,{"$f":"IFERROR(VLOOKUP(CONCATENATE(B24,\" вес \",$W$6),'Участники чемпионата'!$A:$AA,13,0),\"\")","v":""},{"$f":"IF(IFERROR(VLOOKUP(CONCATENATE(B24,\" вес \",$W$6),'Участники чемпионата'!$A:$AA,25,0),\"\")=\"Шлем\",\"Ш\",\"\")","v":""},{"$f":"IFERROR(VLOOKUP(CONCATENATE(B24,\" вес \",$W$6),'Участники чемпионата'!$A:$AA,5,0),\"\")","v":""},null,null,null,null,null,null,null,null,null,null,null,null,null,null,null,null,null,null,null,null,null,null,null,null,null,null,null,null,26,{"$f":"IFERROR(VLOOKUP(CONCATENATE(AH24,\" вес \",$W$6),'Участники чемпионата'!$A:$AA,13,0),\"\")","v":""},{"$f":"IF(IFERROR(VLOOKUP(CONCATENATE(AH24,\" вес \",$W$6),'Участники чемпионата'!$A:$AA,25,0),\"\")=\"Шлем\",\"Ш\",\"\")","v":""},{"$f":"IFERROR(VLOOKUP(CONCATENATE(AH24,\" вес \",$W$6),'Участники чемпионата'!$A:$AA,5,0),\"\")","v":""}]
[]
[]
[null,null,null,null,null,null,null,null,null,null,null,{"$f":"IFERROR(VLOOKUP(CONCATENATE(J26,\" вес \",$W$6),'Участники чемпионата'!$A:$AF,32,0),\"\")","v":""},null,null,null,null,null,null,null,null,null,null,null,null,null,null,{"$f":"IFERROR(VLOOKUP(CONCATENATE(AB26,\" вес \",$W$6),'Участники чемпионата'!$A:$AF,32,0),\"\")","v":""}]
[]
[null,11,{"$f":"IFERROR(VLOOKUP(CONCATENATE(B29,\" вес \",$W$6),'Участники чемпионата'!$A:$AA,13,0),\"\")","v":""},{"$f":"IF(IFERROR(VLOOKUP(CONCATENATE(B29,\" вес \",$W$6),'Участники чемпионата'!$A:$AA,25,0),\"\")=\"Шлем\",\"Ш\",\"\")","v":""},{"$f":"IFERROR(VLOOKUP(CONCATENATE(B29,\" вес \",$W$6),'Участники чемпионата'!$A:$AA,5,0),\"\")","v":""},null,null,null,null,null,null,null,null,null,null,null,null,"Чемпион",null,null,null,null,null,null,null,null,null,null,null,null,14]
[null,21,{"$f":"IFERROR(VLOOKUP(CONCATENATE(B30,\" вес \",$W$6),'Участники чемпионата'!$A:$AA,13,0),\"\")","v":""},{"$f":"IF(IFERROR(VLOOKUP(CONCATENATE(B30,\" вес \",$W$6),'Участники чемпионата'!$A:$AA,25,0),\"\")=\"Шлем\",\"Ш\",\"\")","v":""},{"$f":"IFERROR(VLOOKUP(CONCATENATE(B30,\" вес \",$W$6),'Участники чемпионата'!$A:$AA,5,0),\"\")","v":""},null,null,null,{"$f":"IFERROR(VLOOKUP(CONCATENATE(G29,\" вес \",$W$6),'Участники чемпионата'!$A:$AF,32,0),\"\")","v":""},null,null,null,null,null,null,null,{"$f":"IFERROR(VLOOKUP(CONCATENATE(S32,\" вес \",$W$6),'Участники чемпионата'!$A:$AA,7,0),\"\")","v":""},null,null,null,null,null,null,null,null,null,null,null,null,{"$f":"IFERROR(VLOOKUP(CONCATENATE(AE29,\" вес \",$W$6),'Участники чемпионата'!$A:$AF,32,0),\"\")","v":""},null,null,null,14,{"$f":"IFERROR(VLOOKUP(CONCATENATE(AH30,\" вес \",$W$6),'Участники чемпионата'!$A:$AA,13,0),\"\")","v":""},{"$f":"IF(IFERROR(VLOOKUP(CONCATENATE(AH30,\" вес \",$W$6),'Участники чемпионата'!$A:$AA,25,0),\"\")=\"Шлем\",\"Ш\",\"\")","v":""},{"$f":"IFERROR(VLOOKUP(CONCATENATE(AH30,\" вес \",$W$6),'Участники чемпионата'!$A:$AA,5,0),\"\")","v":""}]
[]
[null,null,null,null,null,null,null,null,null,null,null,null,null,null,{"$f":"IFERROR(VLOOKUP(CONCATENATE(P32,\" вес \",$W$6),'Участники чемпионата'!$A:$AF,32,0),\"\")","v":""},null,null,null,null,null,null,null,null,{"$f":"IFERROR(VLOOKUP(CONCATENATE(V32,\" вес \",$W$6),'Участники чемпионата'!$A:$AF,32,0),\"\")","v":""}]
[]
[]
[null,3,{"$f":"IFERROR(VLOOKUP(CONCATENATE(B35,\" вес \",$W$6),'Участники чемпионата'!$A:$AA,13,0),\"\")","v":"Рамазанов Джамал"},{"$f":"IF(IFERROR(VLOOKUP(CONCATENATE(B35,\" вес \",$W$6),'Участники чемпионата'!$A:$AA,25,0),\"\")=\"Шлем\",\"Ш\",\"\")","v":"Ш"},{"$f":"IFERROR(VLOOKUP(CONCATENATE(B35,\" вес \",$W$6),'Участники чемпионата'!$A:$AA,5,0),\"\")","v":"СДЮСШОР \"СПАРТАК\" (г.Нефтеюганск)"},null,null,null,{"$f":"IFERROR(VLOOKUP(CONCATENATE(G35,\" вес \",$W$6),'Участники чемпионата'!$A:$AF,32,0),\"\")","v":""},null,null,null,null,null,null,null,null,null,null,null,null,null,null,null,null,null,null,null,null,{"$f":"IFERROR(VLOOKUP(CONCATENATE(AE35,\" вес \",$W$6),'Участники чемпионата'!$A:$AF,32,0),\"\")","v":""},null,null,null,16,{"$f":"IFERROR(VLOOKUP(CONCATENATE(AH35,\" вес \",$W$6),'Участники чемпионата'!$A:$AA,13,0),\"\")","v":""},{"$f":"IF(IFERROR(VLOOKUP(CONCATENATE(AH35,\" вес \",$W$6),'Участники чемпионата'!$A:$AA,25,0),\"\")=\"Шлем\",\"Ш\",\"\")","v":""},{"$f":"IFERROR(VLOOKUP(CONCATENATE(AH35,\" вес \",$W$6),'Участники чемпионата'!$A:$AA,5,0),\"\")","v":""}]
[null,17,{"$f":"IFERROR(VLOOKUP(CONCATENATE(B36,\" вес \",$W$6),'Участники чемпионата'!$A:$AA,13,0),\"\")","v":""},{"$f":"IF(IFERROR(VLOOKUP(CONCATENATE(B36,\" вес \",$W$6),'Участники чемпионата'!$A:$AA,25,0),\"\")=\"Шлем\",\"Ш\",\"\")","v":""},{"$f":"IFERROR(VLOOKUP(CONCATENATE(B36,\" вес \",$W$6),'Участники чемпионата'!$A:$AA,5,0),\"\")","v":""},null,null,null,null,null,null,null,null,null,null,null,null,null,null,null,null,null,null,null,null,null,null,null,null,null,null,null,null,4,{"$f":"IFERROR(VLOOKUP(CONCATENATE(AH36,\" вес \",$W$6),'Участники чемпионата'!$A:$AA,13,0),\"\")","v":"Дадаев Мансур"},{"$f":"IF(IFERROR(VLOOKUP(CONCATENATE(AH36,\" вес \",$W$6),'Участники чемпионата'!$A:$AA,25,0),\"\")=\"Шлем\",\"Ш\",\"\")","v":"Ш"},{"$f":"IFERROR(VLOOKUP(CONCATENATE(AH36,\" вес \",$W$6),'Участники чемпионата'!$A:$AA,5,0),\"\")","v":"г. Ханты-Мансийск"}]
[]
[null,null,null,null,null,null,null,null,null,null,null,{"$f":"IFERROR(VLOOKUP(CONCATENATE(J38,\" вес \",$W$6),'Участники чемпионата'!$A:$AF,32,0),\"\")","v":""},null,null,null,null,null,null,null,null,null,null,null,null,null,null,{"$f":"IFERROR(VLOOKUP(CONCATENATE(AB38,\" вес \",$W$6),'Участники чемпионата'!$A:$AF,32,0),\"\")","v":""}]
[]
[]
[null,19,{"$f":"IFERROR(VLOOKUP(CONCATENATE(B41,\" вес \",$W$6),'Участники чемпионата'!$A:$AA,13,0),\"\")","v":""},{"$f":"IF(IFERROR(VLOOKUP(CONCATENATE(B41,\" вес \",$W$6),'Участники чемпионата'!$A:$AA,25,0),\"\")=\"Шлем\",\"Ш\",\"\")","v":""},{"$f":"IFERROR(VLOOKUP(CONCATENATE(B41,\" вес \",$W$6),'Участники чемпионата'!$A:$AA,5,0),\"\")","v":""},null,null,null,null,null,null,null,null,null,null,null,null,null,null,null,null,null,null,null,null,null,null,null,null,null,20]
[null,13,{"$f":"IFERROR(VLOOKUP(CONCATENATE(B42,\" вес \",$W$6),'Участники чемпионата'!$A:$AA,13,0),\"\")","v":""},{"$f":"IF(IFERROR(VLOOKUP(CONCATENATE(B42,\" вес \",$W$6),'Участники чемпионата'!$A:$AA,25,0),\"\")=\"Шлем\",\"Ш\",\"\")","v":""},{"$f":"IFERROR(VLOOKUP(CONCATENATE(B42,\" вес \",$W$6),'Участники чемпионата'!$A:$AA,5,0),\"\")","v":""},null,null,null,{"$f":"IFERROR(VLOOKUP(CONCATENATE(G41,\" вес \",$W$6),'Участники чемпионата'!$A:$AF,32,0),\"\")","v":""},null,null,null,null,null,null,null,null,null,null,null,null,null,null,null,null,null,null,null,null,{"$f":"IFERROR(VLOOKUP(CONCATENATE(AE41,\" вес \",$W$6),'Участники чемпионата'!$A:$AF,32,0),\"\")","v":""},null,null,null,20,{"$f":"IFERROR(VLOOKUP(CONCATENATE(AH42,\" вес \",$W$6),'Участники чемпионата'!$A:$AA,13,0),\"\")","v":""},{"$f":"IF(IFERROR(VLOOKUP(CONCATENATE(AH42,\" вес \",$W$6),'Участники чемпионата'!$A:$AA,25,0),\"\")=\"Шлем\",\"Ш\",\"\")","v":""},{"$f":"IFERROR(VLOOKUP(CONCATENATE(AH42,\" вес \",$W$6),'Участники чемпионата'!$A:$AA,5,0),\"\")","v":""}]
[]
[null,null,"B",null,null,null,null,null,null,null,null,null,null,null,null,null,null,null,null,null,null,null,null,null,null,null,null,null,null,null,null,null,null,null,null,null,"D  "]
[null,null,null,null,null,null,null,null,null,null,null,null,null,null,{"$f":"IFERROR(VLOOKUP(CONCATENATE(M44,\" вес \",$W$6),'Участники чемпионата'!$A:$AF,32,0),\"\")","v":""},null,null,null,null,null,null,null,null,{"$f":"IFERROR(VLOOKUP(CONCATENATE(Y44,\" вес \",$W$6),'Участники чемпионата'!$A:$AF,32,0),\"\")","v":""}]
[]
[null,23,{"$f":"IFERROR(VLOOKUP(CONCATENATE(B47,\" вес \",$W$6),'Участники чемпионата'!$A:$AA,13,0),\"\")","v":""},{"$f":"IF(IFERROR(VLOOKUP(CONCATENATE(B47,\" вес \",$W$6),'Участники чемпионата'!$A:$AA,25,0),\"\")=\"Шлем\",\"Ш\",\"\")","v":""},{"$f":"IFERROR(VLOOKUP(CONCATENATE(B47,\" вес \",$W$6),'Участники чемпионата'!$A:$AA,5,0),\"\")","v":""},null,null,null,{"$f":"IFERROR(VLOOKUP(CONCATENATE(G47,\" вес \",$W$6),'Участники чемпионата'!$A:$AF,32,0),\"\")","v":""},null,null,null,null,null,null,null,null,null,null,null,null,null,null,null,null,null,null,null,null,{"$f":"IFERROR(VLOOKUP(CONCATENATE(AE47,\" вес \",$W$6),'Участники чемпионата'!$A:$AF,32,0),\"\")","v":""},null,null,null,22,{"$f":"IFERROR(VLOOKUP(CONCATENATE(AH47,\" вес \",$W$6),'Участники чемпионата'!$A:$AA,13,0),\"\")","v":""},{"$f":"IF(IFERROR(VLOOKUP(CONCATENATE(AH47,\" вес \",$W$6),'Участники чемпионата'!$A:$AA,25,0),\"\")=\"Шлем\",\"Ш\",\"\")","v":""},{"$f":"IFERROR(VLOOKUP(CONCATENATE(AH47,\" вес \",$W$6),'Участники чемпионата'!$A:$AA,5,0),\"\")","v":""}]
[null,9,{"$f":"IFERROR(VLOOKUP(CONCATENATE(B48,\" вес \",$W$6),'Участники чемпионата'!$A:$AA,13,0),\"\")","v":"Касумов  Али"},{"$f":"IF(IFERROR(VLOOKUP(CONCATENATE(B48,\" вес \",$W$6),'Участники чемпионата'!$A:$AA,25,0),\"\")=\"Шлем\",\"Ш\",\"\")","v":""},{"$f":"IFERROR(VLOOKUP(CONCATENATE(B48,\" вес \",$W$6),'Участники чемпионата'!$A:$AA,5,0),\"\")","v":"г. Сургут"},null,null,null,null,null,null,null,null,null,null,null,null,null,null,null,null,null,null,null,null,null,null,null,null,null,null,null,null,8,{"$f":"IFERROR(VLOOKUP(CONCATENATE(AH48,\" вес \",$W$6),'Участники чемпионата'!$A:$AA,13,0),\"\")","v":"Ильясов Гасан"},{"$f":"IF(IFERROR(VLOOKUP(CONCATENATE(AH48,\" вес \",$W$6),'Участники чемпионата'!$A:$AA,25,0),\"\")=\"Шлем\",\"Ш\",\"\")","v":"Ш"},{"$f":"IFERROR(VLOOKUP(CONCATENATE(AH48,\" вес \",$W$6),'Участники чемпионата'!$A:$AA,5,0),\"\")","v":"г. Сургут"}]
[]
[]
[null,null,null,null,null,null,null,null,null,null,null,{"$f":"IFERROR(VLOOKUP(CONCATENATE(J50,\" вес \",$W$6),'Участники чемпионата'!$A:$AF,32,0),\"\")","v":""},null,null,null,null,null,null,null,null,null,null,null,null,null,null,{"$f":"IFERROR(VLOOKUP(CONCATENATE(AB50,\" вес \",$W$6),'Участники чемпионата'!$A:$AF,32,0),\"\")","v":""}]
[]
[null,null,null,null,null,null,27,null,null,null,null,null,null,null,null,null,null,null,null,null,null,null,null,null,null,null,null,null,null,null,null,null,null,12,{"$f":"IFERROR(VLOOKUP(CONCATENATE(AH53,\" вес \",$W$6),'Участники чемпионата'!$A:$AA,13,0),\"\")","v":""},{"$f":"IF(IFERROR(VLOOKUP(CONCATENATE(AH53,\" вес \",$W$6),'Участники чемпионата'!$A:$AA,25,0),\"\")=\"Шлем\",\"Ш\",\"\")","v":""},{"$f":"IFERROR(VLOOKUP(CONCATENATE(AH53,\" вес \",$W$6),'Участники чемпионата'!$A:$AA,5,0),\"\")","v":""}]
[null,27,{"$f":"IFERROR(VLOOKUP(CONCATENATE(B54,\" вес \",$W$6),'Участники чемпионата'!$A:$AA,13,0),\"\")","v":""},{"$f":"IF(IFERROR(VLOOKUP(CONCATENATE(B54,\" вес \",$W$6),'Участники чемпионата'!$A:$AA,25,0),\"\")=\"Шлем\",\"Ш\",\"\")","v":""},{"$f":"IFERROR(VLOOKUP(CONCATENATE(B54,\" вес \",$W$6),'Участники чемпионата'!$A:$AA,5,0),\"\")","v":""},null,null,null,{"$f":"IFERROR(VLOOKUP(CONCATENATE(G53,\" вес \",$W$6),'Участники чемпионата'!$A:$AF,32,0),\"\")","v":""},null,null,null,null,null,null,null,null,null,null,null,null,null,null,null,null,null,null,null,null,{"$f":"IFERROR(VLOOKUP(CONCATENATE(AE53,\" вес \",$W$6),'Участники чемпионата'!$A:$AF,32,0),\"\")","v":""},null,null,null,28,{"$f":"IFERROR(VLOOKUP(CONCATENATE(AH54,\" вес \",$W$6),'Участники чемпионата'!$A:$AA,13,0),\"\")","v":""},{"$f":"IF(IFERROR(VLOOKUP(CONCATENATE(AH54,\" вес \",$W$6),'Участники чемпионата'!$A:$AA,25,0),\"\")=\"Шлем\",\"Ш\",\"\")","v":""},{"$f":"IFERROR(VLOOKUP(CONCATENATE(AH54,\" вес \",$W$6),'Участники чемпионата'!$A:$AA,5,0),\"\")","v":""}]
[]
[null,"1/16",null,null,null,null,"1/8",null,null,"1/4",null,null,"1/2",null,null,"Финал",null,null,null,null,null,null,null,null,"1/2",null,null,"1/4",null,null,"1/8",null,null,"1/16"]
[]
[null,null,null,null,null,null,null,null,null,null,null,null,null,null,null,null,null,null,null,"Участников:",{"$f":"HLOOKUP(W6,Мандатка!$C$4:$I$5,2,0)","v":10}]
[]
[]
[null,null,"1 место"]
[null,{"$f":"IF(S32=\"\",\"\",S32)","v":""},{"$f":"IF(B62=\"\",\"\",IFERROR(VLOOKUP(CONCATENATE(B62,\" вес \",$W$6),'Участники чемпионата'!$A:$AA,13,0),\"\"))","v":""},{"$f":"IF(B62=\"\",\"\",IFERROR(VLOOKUP(CONCATENATE(B62,\" вес \",$W$6),'Участники чемпионата'!$A:$AA,5,0),\"\"))","v":""}]
[]
[null,null,"2 место"]
[null,{"$f":"IF(S32=\"\",\"\",IF(S32=V32,P32,V32))","v":""},{"$f":"IF(B65=\"\",\"\",IFERROR(VLOOKUP(CONCATENATE(B65,\" вес \",$W$6),'Участники чемпионата'!$A:$AA,13,0),\"\"))","v":""},{"$f":"IF(B65=\"\",\"\",IFERROR(VLOOKUP(CONCATENATE(B65,\" вес \",$W$6),'Участники чемпионата'!$A:$AA,5,0),\"\"))","v":""},null,null,null,null,null,null,null,null,null,null,null,null,null,null,null,null,null,null,null,null,null,null,null,null,null,null,null,null,null,"Главный судья соревнований",null,"/",{"$f":"IF(VLOOKUP(AH65,'Исходные данные по чемпионату'!B:C,2,0)=0,\"\",VLOOKUP(AH65,'Исходные данные по чемпионату'!B:C,2,0))","v":"Карташков К.В."},"/"]
[]
[null,null,"3 место"]
[null,{"$f":"IF(P32=\"\",\"\",IF(P32=M44,M20,M44))","v":""},{"$f":"IF(B68=\"\",\"\",IFERROR(VLOOKUP(CONCATENATE(B68,\" вес \",$W$6),'Участники чемпионата'!$A:$AA,13,0),\"\"))","v":""},{"$f":"IF(B68=\"\",\"\",IFERROR(VLOOKUP(CONCATENATE(B68,\" вес \",$W$6),'Участники чемпионата'!$A:$AA,5,0),\"\"))","v":""}]
[null,{"$f":"IF(V32=\"\",\"\",IF(V32=Y44,Y20,Y44))","v":""},{"$f":"IF(B69=\"\",\"\",IFERROR(VLOOKUP(CONCATENATE(B69,\" вес \",$W$6),'Участники чемпионата'!$A:$AA,13,0),\"\"))","v":""},{"$f":"IF(B69=\"\",\"\",IFERROR(VLOOKUP(CONCATENATE(B69,\" вес \",$W$6),'Участники чемпионата'!$A:$AA,5,0),\"\"))","v":""},null,null,null,null,null,null,null,null,null,null,null,null,null,null,null,null,null,null,null,null,null,null,null,null,null,null,null,null,null,"Главный секретарь",null,"/",{"$f":"IF(VLOOKUP(AH69,'Исходные данные по чемпионату'!B:C,2,0)=0,\"\",VLOOKUP(AH69,'Исходные данные по чемпионату'!B:C,2,0))","v":"Толстыгин А.Ю."},"/"]
[]
[null,null,null,null,null,null,null,null,null,null,null,null,null,null,null,null,null,null,null,null,null,null,null,null,null,null,null,null,null,null,null,null,null,null,null,null,null,0]
[]
[null,null,"5-8 места",null,null,null,null,null,null,null,null,null,null,"Результат боя описание",null,null,null,null,null,null,null,null,null,null,null,null,null,null,null,null,null,null,null,null,"Финалисты"]
[null,{"$f":"IF(M20=\"\",\"\",IF(OR(J14-M20=0),J26,J14))","v":""},{"$f":"IF(B74=\"\",\"\",IFERROR(VLOOKUP(CONCATENATE(B74,\" вес \",$W$6),'Участники чемпионата'!$A:$AA,13,0),\"\"))","v":""},{"$f":"IF(B74=\"\",\"\",IFERROR(VLOOKUP(CONCATENATE(B74,\" вес \",$W$6),'Участники чемпионата'!$A:$AA,5,0),\"\"))","v":""},null,null,null,null,null,null,null,null,null,{"$f":"'Unvisible Списки'!C9","v":"(ПО)"},null,null,null,{"$f":"'Unvisible Списки'!C27","v":"по очкам"},null,null,null,null,null,null,null,null,null,null,null,null,null,null,null,{"$f":"IF(P32=\"\",\"\",P32)","v":""},{"$f":"IFERROR(VLOOKUP(CONCATENATE(AH74,\" вес \",$W$6),'Участники чемпионата'!$A:$AA,13,0),\"\")","v":""},{"$f":"IFERROR(VLOOKUP(CONCATENATE(AH74,\" вес \",$W$6),'Участники чемпионата'!$A:$AA,5,0),\"\")","v":""}]
[null,{"$f":"IF(M44=\"\",\"\",IF(OR(J38-M44=0),J50,J38))","v":""},{"$f":"IF(B75=\"\",\"\",IFERROR(VLOOKUP(CONCATENATE(B75,\" вес \",$W$6),'Участники чемпионата'!$A:$AA,13,0),\"\"))","v":""},{"$f":"IF(B75=\"\",\"\",IFERROR(VLOOKUP(CONCATENATE(B75,\" вес \",$W$6),'Участники чемпионата'!$A:$AA,5,0),\"\"))","v":""},null,null,null,null,null,null,null,null,null,{"$f":"'Unvisible Списки'!C10","v":"(КО)"},null,null,null,{"$f":"'Unvisible Списки'!C28","v":"нокаут"},null,null,null,null,null,null,null,null,null,null,null,null,null,null,null,{"$f":"IF(V32=\"\",\"\",V32)","v":""},{"$f":"IFERROR(VLOOKUP(CONCATENATE(AH75,\" вес \",$W$6),'Участники чемпионата'!$A:$AA,13,0),\"\")","v":""},{"$f":"IFERROR(VLOOKUP(CONCATENATE(AH75,\" вес \",$W$6),'Участники чемпионата'!$A:$AA,5,0),\"\")","v":""}]
[null,{"$f":"IF(Y20=\"\",\"\",IF(OR(AB14-Y20=0),AB26,AB14))","v":""},{"$f":"IF(B76=\"\",\"\",IFERROR(VLOOKUP(CONCATENATE(B76,\" вес \",$W$6),'Участники чемпионата'!$A:$AA,13,0),\"\"))","v":""},{"$f":"IF(B76=\"\",\"\",IFERROR(VLOOKUP(CONCATENATE(B76,\" вес \",$W$6),'Участники чемпионата'!$A:$AA,5,0),\"\"))","v":""},null,null,null,null,null,null,null,null,null,{"$f":"'Unvisible Списки'!C11","v":"(БЛ)"},null,null,null,{"$f":"'Unvisible Списки'!C29","v":"болевой/удушающий"}]
[null,{"$f":"IF(Y44=\"\",\"\",IF(OR(AB38-Y44=0),AB50,AB38))","v":""},{"$f":"IF(B77=\"\",\"\",IFERROR(VLOOKUP(CONCATENATE(B77,\" вес \",$W$6),'Участники чемпионата'!$A:$AA,13,0),\"\"))","v":""},{"$f":"IF(B77=\"\",\"\",IFERROR(VLOOKUP(CONCATENATE(B77,\" вес \",$W$6),'Участники чемпионата'!$A:$AA,5,0),\"\"))","v":""},null,null,null,null,null,null,null,null,null,{"$f":"'Unvisible Списки'!C12","v":"(ТКО)"},null,null,null,{"$f":"'Unvisible Списки'!C30","v":"технический нокаут"}]
[null,null,null,null,null,null,null,null,null,null,null,null,null,{"$f":"'Unvisible Списки'!C13","v":"(СН)"},null,null,null,{"$f":"'Unvisible Списки'!C31","v":"снятие врачом"}]
[null,null,"9-16 места",null,null,null,null,null,null,null,null,null,null,{"$f":"'Unvisible Списки'!C14","v":"(ОТК)"},null,null,null,{"$f":"'Unvisible Списки'!C32","v":"отказ продолжать бой"}]
[null,{"$f":"IF(J14=\"\",\"\",IF(OR(G11-J14=0),G17,G11))","v":""},{"$f":"IF(B80=\"\",\"\",IFERROR(VLOOKUP(CONCATENATE(B80,\" вес \",$W$6),'Участники чемпионата'!$A:$AA,13,0),\"\"))","v":""},{"$f":"IF(B80=\"\",\"\",IFERROR(VLOOKUP(CONCATENATE(B80,\" вес \",$W$6),'Участники чемпионата'!$A:$AA,5,0),\"\"))","v":""},null,null,null,null,null,null,null,null,null,{"$f":"'Unvisible Списки'!C15","v":"(ДСК)"},null,null,null,{"$f":"'Unvisible Списки'!C33","v":"Дисквалификация"}]
[null,{"$f":"IF(J26=\"\",\"\",IF(OR(G23-J26=0),G29,G23))","v":""},{"$f":"IF(B81=\"\",\"\",IFERROR(VLOOKUP(CONCATENATE(B81,\" вес \",$W$6),'Участники чемпионата'!$A:$AA,13,0),\"\"))","v":""},{"$f":"IF(B81=\"\",\"\",IFERROR(VLOOKUP(CONCATENATE(B81,\" вес \",$W$6),'Участники чемпионата'!$A:$AA,5,0),\"\"))","v":""},null,null,null,null,null,null,null,null,null,{"$f":"'Unvisible Списки'!C16","v":"(РГСК)"},null,null,null,{"$f":"'Unvisible Списки'!C34","v":"решение главного судьи СК"}]
[null,{"$f":"IF(J38=\"\",\"\",IF(OR(G35-J38=0),G41,G35))","v":""},{"$f":"IF(B82=\"\",\"\",IFERROR(VLOOKUP(CONCATENATE(B82,\" вес \",$W$6),'Участники чемпионата'!$A:$AA,13,0),\"\"))","v":""},{"$f":"IF(B82=\"\",\"\",IFERROR(VLOOKUP(CONCATENATE(B82,\" вес \",$W$6),'Участники чемпионата'!$A:$AA,5,0),\"\"))","v":""},null,null,null,null,null,null,null,null,null,{"$f":"'Unvisible Списки'!C17","v":"(НЯ)"},null,null,null,{"$f":"'Unvisible Списки'!C35","v":"неявка"}]
[null,{"$f":"IF(J50=\"\",\"\",IF(OR(G47-J50=0),G53,G47))","v":""},{"$f":"IF(B83=\"\",\"\",IFERROR(VLOOKUP(CONCATENATE(B83,\" вес \",$W$6),'Участники чемпионата'!$A:$AA,13,0),\"\"))","v":""},{"$f":"IF(B83=\"\",\"\",IFERROR(VLOOKUP(CONCATENATE(B83,\" вес \",$W$6),'Участники чемпионата'!$A:$AA,5,0),\"\"))","v":""}]
[null,{"$f":"IF(AB14=\"\",\"\",IF(OR(AE11-AB14=0),AE17,AE11))","v":""},{"$f":"IF(B84=\"\",\"\",IFERROR(VLOOKUP(CONCATENATE(B84,\" вес \",$W$6),'Участники чемпионата'!$A:$AA,13,0),\"\"))","v":""},{"$f":"IF(B84=\"\",\"\",IFERROR(VLOOKUP(CONCATENATE(B84,\" вес \",$W$6),'Участники чемпионата'!$A:$AA,5,0),\"\"))","v":""}]
[null,{"$f":"IF(AB26=\"\",\"\",IF(OR(AE23-AB26=0),AE29,AE23))","v":""},{"$f":"IF(B85=\"\",\"\",IFERROR(VLOOKUP(CONCATENATE(B85,\" вес \",$W$6),'Участники чемпионата'!$A:$AA,13,0),\"\"))","v":""},{"$f":"IF(B85=\"\",\"\",IFERROR(VLOOKUP(CONCATENATE(B85,\" вес \",$W$6),'Участники чемпионата'!$A:$AA,5,0),\"\"))","v":""}]
[null,{"$f":"IF(AB38=\"\",\"\",IF(OR(AE35-AB38=0),AE41,AE35))","v":""},{"$f":"IF(B86=\"\",\"\",IFERROR(VLOOKUP(CONCATENATE(B86,\" вес \",$W$6),'Участники чемпионата'!$A:$AA,13,0),\"\"))","v":""},{"$f":"IF(B86=\"\",\"\",IFERROR(VLOOKUP(CONCATENATE(B86,\" вес \",$W$6),'Участники чемпионата'!$A:$AA,5,0),\"\"))","v":""}]
[null,{"$f":"IF(AB50=\"\",\"\",IF(OR(AE47-AB50=0),AE53,AE47))","v":""},{"$f":"IF(B87=\"\",\"\",IFERROR(VLOOKUP(CONCATENATE(B87,\" вес \",$W$6),'Участники чемпионата'!$A:$AA,13,0),\"\"))","v":""},{"$f":"IF(B87=\"\",\"\",IFERROR(VLOOKUP(CONCATENATE(B87,\" вес \",$W$6),'Участники чемпионата'!$A:$AA,5,0),\"\"))","v":""}]
[]
[null,null,"17-32 места"]
[null,{"$f":"IF(G11=\"\",\"\",IF(OR(B11-G11=0),B12,B11))","v":""},{"$f":"IF(B90=\"\",\"\",IFERROR(VLOOKUP(CONCATENATE(B90,\" вес \",$W$6),'Участники чемпионата'!$A:$AA,13,0),\"\"))","v":""},{"$f":"IF(B90=\"\",\"\",IFERROR(VLOOKUP(CONCATENATE(B90,\" вес \",$W$6),'Участники чемпионата'!$A:$AA,5,0),\"\"))","v":""}]
[null,{"$f":"IF(G17=\"\",\"\",IF(OR(B17-G17=0),B18,B17))","v":0},{"$f":"IF(B91=\"\",\"\",IFERROR(VLOOKUP(CONCATENATE(B91,\" вес \",$W$6),'Участники чемпионата'!$A:$AA,13,0),\"\"))","v":""},{"$f":"IF(B91=\"\",\"\",IFERROR(VLOOKUP(CONCATENATE(B91,\" вес \",$W$6),'Участники чемпионата'!$A:$AA,5,0),\"\"))","v":""}]
[null,{"$f":"IF(G23=\"\",\"\",IF(OR(B23-G23=0),B24,B23))","v":""},{"$f":"IF(B92=\"\",\"\",IFERROR(VLOOKUP(CONCATENATE(B92,\" вес \",$W$6),'Участники чемпионата'!$A:$AA,13,0),\"\"))","v":""},{"$f":"IF(B92=\"\",\"\",IFERROR(VLOOKUP(CONCATENATE(B92,\" вес \",$W$6),'Участники чемпионата'!$A:$AA,5,0),\"\"))","v":""}]
[null,{"$f":"IF(G29=\"\",\"\",IF(G29=\"\",\"\",IF(OR(B29-G29=0),B30,B29)))","v":""},{"$f":"IF(B93=\"\",\"\",IFERROR(VLOOKUP(CONCATENATE(B93,\" вес \",$W$6),'Участники чемпионата'!$A:$AA,13,0),\"\"))","v":""},{"$f":"IF(B93=\"\",\"\",IFERROR(VLOOKUP(CONCATENATE(B93,\" вес \",$W$6),'Участники чемпионата'!$A:$AA,5,0),\"\"))","v":""}]
[null,{"$f":"IF(G35=\"\",\"\",IF(OR(B35-G35=0),B36,B35))","v":""},{"$f":"IF(B94=\"\",\"\",IFERROR(VLOOKUP(CONCATENATE(B94,\" вес \",$W$6),'Участники чемпионата'!$A:$AA,13,0),\"\"))","v":""},{"$f":"IF(B94=\"\",\"\",IFERROR(VLOOKUP(CONCATENATE(B94,\" вес \",$W$6),'Участники чемпионата'!$A:$AA,5,0),\"\"))","v":""}]
[null,{"$f":"IF(G41=\"\",\"\",IF(OR(B41-G41=0),B42,B41))","v":""},{"$f":"IF(B95=\"\",\"\",IFERROR(VLOOKUP(CONCATENATE(B95,\" вес \",$W$6),'Участники чемпионата'!$A:$AA,13,0),\"\"))","v":""},{"$f":"IF(B95=\"\",\"\",IFERROR(VLOOKUP(CONCATENATE(B95,\" вес \",$W$6),'Участники чемпионата'!$A:$AA,5,0),\"\"))","v":""}]
[null,{"$f":"IF(G47=\"\",\"\",IF(OR(B47-G47=0),B48,B47))","v":""},{"$f":"IF(B96=\"\",\"\",IFERROR(VLOOKUP(CONCATENATE(B96,\" вес \",$W$6),'Участники чемпионата'!$A:$AA,13,0),\"\"))","v":""},{"$f":"IF(B96=\"\",\"\",IFERROR(VLOOKUP(CONCATENATE(B96,\" вес \",$W$6),'Участники чемпионата'!$A:$AA,5,0),\"\"))","v":""}]
[null,{"$f":"IF(G53=\"\",\"\",IF(OR(B53-G53=0),B54,B53))","v":0},{"$f":"IF(B97=\"\",\"\",IFERROR(VLOOKUP(CONCATENATE(B97,\" вес \",$W$6),'Участники чемпионата'!$A:$AA,13,0),\"\"))","v":""},{"$f":"IF(B97=\"\",\"\",IFERROR(VLOOKUP(CONCATENATE(B97,\" вес \",$W$6),'Участники чемпионата'!$A:$AA,5,0),\"\"))","v":""}]
[null,{"$f":"IF(AE11=\"\",\"\",IF(OR(AH11-AE11=0),AH12,AH11))","v":""},{"$f":"IF(B98=\"\",\"\",IFERROR(VLOOKUP(CONCATENATE(B98,\" вес \",$W$6),'Участники чемпионата'!$A:$AA,13,0),\"\"))","v":""},{"$f":"IF(B98=\"\",\"\",IFERROR(VLOOKUP(CONCATENATE(B98,\" вес \",$W$6),'Участники чемпионата'!$A:$AA,5,0),\"\"))","v":""}]
[null,{"$f":"IF(AE17=\"\",\"\",IF(OR(AH17-AE17=0),AH18,AH17))","v":""},{"$f":"IF(B99=\"\",\"\",IFERROR(VLOOKUP(CONCATENATE(B99,\" вес \",$W$6),'Участники чемпионата'!$A:$AA,13,0),\"\"))","v":""},{"$f":"IF(B99=\"\",\"\",IFERROR(VLOOKUP(CONCATENATE(B99,\" вес \",$W$6),'Участники чемпионата'!$A:$AA,5,0),\"\"))","v":""}]
[null,{"$f":"IF(AE23=\"\",\"\",IF(OR(AH23-AE23=0),AH24,AH23))","v":""},{"$f":"IF(B100=\"\",\"\",IFERROR(VLOOKUP(CONCATENATE(B100,\" вес \",$W$6),'Участники чемпионата'!$A:$AA,13,0),\"\"))","v":""},{"$f":"IF(B100=\"\",\"\",IFERROR(VLOOKUP(CONCATENATE(B100,\" вес \",$W$6),'Участники чемпионата'!$A:$AA,5,0),\"\"))","v":""}]
[null,{"$f":"IF(AE29=\"\",\"\",IF(OR(AH29-AE29=0),AH30,AH29))","v":0},{"$f":"IF(B101=\"\",\"\",IFERROR(VLOOKUP(CONCATENATE(B101,\" вес \",$W$6),'Участники чемпионата'!$A:$AA,13,0),\"\"))","v":""},{"$f":"IF(B101=\"\",\"\",IFERROR(VLOOKUP(CONCATENATE(B101,\" вес \",$W$6),'Участники чемпионата'!$A:$AA,5,0),\"\"))","v":""}]
[null,{"$f":"IF(AE35=\"\",\"\",IF(OR(AH35-AE35=0),AH36,AH35))","v":""},{"$f":"IF(B102=\"\",\"\",IFERROR(VLOOKUP(CONCATENATE(B102,\" вес \",$W$6),'Участники чемпионата'!$A:$AA,13,0),\"\"))","v":""},{"$f":"IF(B102=\"\",\"\",IFERROR(VLOOKUP(CONCATENATE(B102,\" вес \",$W$6),'Участники чемпионата'!$A:$AA,5,0),\"\"))","v":""}]
[null,{"$f":"IF(AE41=\"\",\"\",IF(OR(AH41-AE41=0),AH42,AH41))","v":0},{"$f":"IF(B103=\"\",\"\",IFERROR(VLOOKUP(CONCATENATE(B103,\" вес \",$W$6),'Участники чемпионата'!$A:$AA,13,0),\"\"))","v":""},{"$f":"IF(B103=\"\",\"\",IFERROR(VLOOKUP(CONCATENATE(B103,\" вес \",$W$6),'Участники чемпионата'!$A:$AA,5,0),\"\"))","v":""}]
[null,{"$f":"IF(AE47=\"\",\"\",IF(OR(AH47-AE47=0),AH48,AH47))","v":""},{"$f":"IF(B104=\"\",\"\",IFERROR(VLOOKUP(CONCATENATE(B104,\" вес \",$W$6),'Участники чемпионата'!$A:$AA,13,0),\"\"))","v":""},{"$f":"IF(B104=\"\",\"\",IFERROR(VLOOKUP(CONCATENATE(B104,\" вес \",$W$6),'Участники чемпионата'!$A:$AA,5,0),\"\"))","v":""}]
[null,{"$f":"IF(AE53=\"\",\"\",IF(OR(AH53-AE53=0),AH54,AH53))","v":""},{"$f":"IF(B105=\"\",\"\",IFERROR(VLOOKUP(CONCATENATE(B105,\" вес \",$W$6),'Участники чемпионата'!$A:$AA,13,0),\"\"))","v":""},{"$f":"IF(B105=\"\",\"\",IFERROR(VLOOKUP(CONCATENATE(B105,\" вес \",$W$6),'Участники чемпионата'!$A:$AA,5,0),\"\"))","v":""}]

{"sheet":"Сетка26","index":3,"n_rows":105,"n_cols":38,"rows_kept":105,"cut":false,"hidden":true,"merged":[[1,2,1,36],[3,5,3,33],[3,36,4,36],[5,22,5,24],[10,6,11,7],[10,30,11,31],[16,6,17,7],[16,30,17,31],[19,2,20,2],[19,12,20,13],[19,24,20,25],[19,36,20,36],[12,6,13,6],[12,7,13,7],[12,30,13,30],[12,31,13,31],[13,9,14,10],[13,27,14,28],[14,6,15,6],[14,7,15,7],[14,30,15,30],[14,31,15,31],[26,31,27,31],[28,6,29,7],[28,17,28,20],[28,30,29,31],[29,16,30,21],[22,6,23,7],[22,30,23,31],[24,6,25,6],[24,7,25,7],[24,30,25,30],[24,31,25,31],[25,9,26,10],[25,27,26,28],[26,6,27,6],[26,7,27,7],[31,15,32,16],[31,18,32,19],[31,21,32,22],[33,14,34,14],[33,15,34,15],[33,18,34,18],[33,19,34,19],[33,22,34,22],[26,30,27,30],[33,23,34,23],[34,6,35,7],[34,30,35,31],[35,16,35,21],[36,6,37,6],[36,7,37,7],[36,16,37,21],[36,30,37,30],[36,31,37,31],[37,9,38,10],[43,2,44,2],[43,12,44,13],[43,24,44,25],[43,36,44,36],[46,6,47,7],[46,30,47,31],[37,27,38,28],[38,6,39,6],[38,7,39,7],[38,30,39,30],[38,31,39,31],[40,6,41,7],[40,30,41,31],[48,6,49,6],[48,7,49,7],[48,30,49,30],[48,31,49,31],[49,9,50,10],[49,27,50,28],[50,6,51,6],[50,7,51,7],[50,30,51,30],[50,31,51,31],[52,6,53,7],[52,30,53,31],[55,1,55,4],[55,6,55,7],[55,9,55,10],[55,12,55,13],[55,15,55,22],[55,24,55,25],[55,27,55,28],[55,30,55,31],[73,35,73,36],[74,3,74,4],[74,13,74,16],[74,17,74,26],[74,35,74,36],[55,33,55,36],[57,20,57,21],[61,3,61,4],[64,3,64,4],[67,3,67,4],[68,3,68,4],[75,3,75,4],[75,13,75,16],[75,17,75,26],[76,3,76,4],[76,13,76,16],[76,17,76,26],[72,13,72,26],[73,3,73,4],[73,13,73,16],[73,17,73,26],[80,3,80,4],[80,13,80,16],[80,17,80,26],[81,3,81,4],[81,13,81,16],[81,17,81,26],[77,13,77,16],[77,17,77,26],[78,13,78,16],[78,17,78,26],[79,3,79,4],[79,13,79,16],[79,17,79,26],[90,3,90,4],[91,3,91,4],[92,3,92,4],[93,3,93,4],[94,3,94,4],[95,3,95,4],[82,3,82,4],[83,3,83,4],[84,3,84,4],[85,3,85,4],[86,3,86,4],[89,3,89,4],[102,3,102,4],[103,3,103,4],[104,3,104,4],[96,3,96,4],[97,3,97,4],[98,3,98,4],[99,3,99,4],[100,3,100,4],[101,3,101,4]]}
[]
[null,null,{"$f":"'Исходные данные по чемпионату'!C3","v":"Чемпионат ХМАО-Югры по СБЕ (ММА) среди муж. 18лет и старше,первенство среди юношей 16-17лет"}]
[]
[null,null,null,null,null,"ПРОТОКОЛ СОРЕВНОВАНИЙ",null,null,null,null,null,null,null,null,null,null,null,null,null,null,null,null,null,null,null,null,null,null,null,null,null,null,null,null,null,null,{"$f":"'Исходные данные по чемпионату'!C6","v":"г. Ханты-Мансийск"}]
[]
[null,null,null,null,null,null,null,null,null,null,null,null,null,null,null,null,null,null,null,null,null,"Весовая категория до","65,8",null,null,"кг",null,null,null,null,null,null,null,null,null,null,{"$f":"'Исходные данные по чемпионату'!C4","v":"с16 по 19 февраля 2018г."}]
[]
[]
[null,"№","Спортсмен","Шлем","Команда",null,null,null,null,null,null,null,null,null,null,null,null,null,null,null,null,null,null,null,null,null,null,null,null,null,null,null,null,"№","Спортсмен","Шлем","Команда"]
[]
[null,1,{"$f":"IFERROR(VLOOKUP(CONCATENATE(B11,\" вес \",$W$6),'Участники чемпионата'!$A:$AA,13,0),\"\")","v":"Мамедов Руслан"},{"$f":"IF(IFERROR(VLOOKUP(CONCATENATE(B11,\" вес \",$W$6),'Участники чемпионата'!$A:$AA,25,0),\"\")=\"Шлем\",\"Ш\",\"\")","v":""},{"$f":"IFERROR(VLOOKUP(CONCATENATE(B11,\" вес \",$W$6),'Участники чемпионата'!$A:$AA,5,0),\"\")","v":"Скорпион (г. Лангепас)"},null,null,null,{"$f":"IFERROR(VLOOKUP(CONCATENATE(G11,\" вес \",$W$6),'Участники чемпионата'!$A:$AF,32,0),\"\")","v":""},null,null,null,null,null,null,null,null,null,null,null,null,null,null,null,null,null,null,null,null,{"$f":"IFERROR(VLOOKUP(CONCATENATE(AE11,\" вес \",$W$6),'Участники чемпионата'!$A:$AF,32,0),\"\")","v":"Бердиев (Ш)"},2,null,null,2,{"$f":"IFERROR(VLOOKUP(CONCATENATE(AH11,\" вес \",$W$6),'Участники чемпионата'!$A:$AA,13,0),\"\")","v":"Бердиев Шахзод"},{"$f":"IF(IFERROR(VLOOKUP(CONCATENATE(AH11,\" вес \",$W$6),'Участники чемпионата'!$A:$AA,25,0),\"\")=\"Шлем\",\"Ш\",\"\")","v":"Ш"},{"$f":"IFERROR(VLOOKUP(CONCATENATE(AH11,\" вес \",$W$6),'Участники чемпионата'!$A:$AA,5,0),\"\")","v":"СДЮСШОР \"СПАРТАК\" (г.Нефтеюганск)"}]
[null,15,{"$f":"IFERROR(VLOOKUP(CONCATENATE(B12,\" вес \",$W$6),'Участники чемпионата'!$A:$AA,13,0),\"\")","v":""},{"$f":"IF(IFERROR(VLOOKUP(CONCATENATE(B12,\" вес \",$W$6),'Участники чемпионата'!$A:$AA,25,0),\"\")=\"Шлем\",\"Ш\",\"\")","v":""},{"$f":"IFERROR(VLOOKUP(CONCATENATE(B12,\" вес \",$W$6),'Участники чемпионата'!$A:$AA,5,0),\"\")","v":""}]
[]
[null,null,null,null,null,null,null,null,null,null,null,{"$f":"IFERROR(VLOOKUP(CONCATENATE(J14,\" вес \",$W$6),'Участники чемпионата'!$A:$AF,32,0),\"\")","v":""},null,null,null,null,null,null,null,null,null,null,null,null,null,null,{"$f":"IFERROR(VLOOKUP(CONCATENATE(AB14,\" вес \",$W$6),'Участники чемпионата'!$A:$AF,32,0),\"\")","v":""}]
[]
[]
[null,null,null,null,null,null,5,null,null,null,null,null,null,null,null,null,null,null,null,null,null,null,null,null,null,null,null,null,null,null,null,null,null,24,{"$f":"IFERROR(VLOOKUP(CONCATENATE(AH17,\" вес \",$W$6),'Участники чемпионата'!$A:$AA,13,0),\"\")","v":""},{"$f":"IF(IFERROR(VLOOKUP(CONCATENATE(AH17,\" вес \",$W$6),'Участники чемпионата'!$A:$AA,25,0),\"\")=\"Шлем\",\"Ш\",\"\")","v":""},{"$f":"IFERROR(VLOOKUP(CONCATENATE(AH17,\" вес \",$W$6),'Участники чемпионата'!$A:$AA,5,0),\"\")","v":""}]
[null,5,{"$f":"IFERROR(VLOOKUP(CONCATENATE(B18,\" вес \",$W$6),'Участники чемпионата'!$A:$AA,13,0),\"\")","v":"Григоров Максим"},{"$f":"IF(IFERROR(VLOOKUP(CONCATENATE(B18,\" вес \",$W$6),'Участники чемпионата'!$A:$AA,25,0),\"\")=\"Шлем\",\"Ш\",\"\")","v":""},{"$f":"IFERROR(VLOOKUP(CONCATENATE(B18,\" вес \",$W$6),'Участники чемпионата'!$A:$AA,5,0),\"\")","v":"г. Ханты-Мансийск"},null,null,null,{"$f":"IFERROR(VLOOKUP(CONCATENATE(G17,\" вес \",$W$6),'Участники чемпионата'!$A:$AF,32,0),\"\")","v":"Григоров "},null,null,null,null,null,null,null,null,null,null,null,null,null,null,null,null,null,null,null,null,{"$f":"IFERROR(VLOOKUP(CONCATENATE(AE17,\" вес \",$W$6),'Участники чемпионата'!$A:$AF,32,0),\"\")","v":""},null,null,null,6,{"$f":"IFERROR(VLOOKUP(CONCATENATE(AH18,\" вес \",$W$6),'Участники чемпионата'!$A:$AA,13,0),\"\")","v":"Адыгешаов Расим"},{"$f":"IF(IFERROR(VLOOKUP(CONCATENATE(AH18,\" вес \",$W$6),'Участники чемпионата'!$A:$AA,25,0),\"\")=\"Шлем\",\"Ш\",\"\")","v":"Ш"},{"$f":"IFERROR(VLOOKUP(CONCATENATE(AH18,\" вес \",$W$6),'Участники чемпионата'!$A:$AA,5,0),\"\")","v":"г. Сургут"}]
[]
[null,null,"A",null,null,null,null,null,null,null,null,null,null,null,{"$f":"IFERROR(VLOOKUP(CONCATENATE(M20,\" вес \",$W$6),'Участники чемпионата'!$A:$AF,32,0),\"\")","v":""},null,null,null,null,null,null,null,null,{"$f":"IFERROR(VLOOKUP(CONCATENATE(Y20,\" вес \",$W$6),'Участники чемпионата'!$A:$AF,32,0),\"\")","v":""},null,null,null,null,null,null,null,null,null,null,null,null,"C  "]
[]
[]
[null,7,{"$f":"IFERROR(VLOOKUP(CONCATENATE(B23,\" вес \",$W$6),'Участники чемпионата'!$A:$AA,13,0),\"\")","v":"Гаджиахмедов Магомед"},{"$f":"IF(IFERROR(VLOOKUP(CONCATENATE(B23,\" вес \",$W$6),'Участники чемпионата'!$A:$AA,25,0),\"\")=\"Шлем\",\"Ш\",\"\")","v":""},{"$f":"IFERROR(VLOOKUP(CONCATENATE(B23,\" вес \",$W$6),'Участники чемпионата'!$A:$AA,5,0),\"\")","v":"г. Сургут"},null,null,null,{"$f":"IFERROR(VLOOKUP(CONCATENATE(G23,\" вес \",$W$6),'Участники чемпионата'!$A:$AF,32,0),\"\")","v":""},null,null,null,null,null,null,null,null,null,null,null,null,null,null,null,null,null,null,null,null,{"$f":"IFERROR(VLOOKUP(CONCATENATE(AE23,\" вес \",$W$6),'Участники чемпионата'!$A:$AF,32,0),\"\")","v":""},null,null,null,22,{"$f":"IFERROR(VLOOKUP(CONCATENATE(AH23,\" вес \",$W$6),'Участники чемпионата'!$A:$AA,13,0),\"\")","v":""},{"$f":"IF(IFERROR(VLOOKUP(CONCATENATE(AH23,\" вес \",$W$6),'Участники чемпионата'!$A:$AA,25,0),\"\")=\"Шлем\",\"Ш\",\"\")","v":""},{"$f":"IFERROR(VLOOKUP(CONCATENATE(AH23,\" вес \",$W$6),'Участники чемпионата'!$A:$AA,5,0),\"\")","v":""}]
[null,23,{"$f":"IFERROR(VLOOKUP(CONCATENATE(B24,\" вес \",$W$6),'Участники чемпионата'!$A:$AA,13,0),\"\")","v":""},{"$f":"IF(IFERROR(VLOOKUP(CONCATENATE(B24,\" вес \",$W$6),'Участники чемпионата'!$A:$AA,25,0),\"\")=\"Шлем\",\"Ш\",\"\")","v":""},{"$f":"IFERROR(VLOOKUP(CONCATENATE(B24,\" вес \",$W$6),'Участники чемпионата'!$A:$AA,5,0),\"\")","v":""},null,null,null,null,null,null,null,null,null,null,null,null,null,null,null,null,null,null,null,null,null,null,null,null,null,null,null,null,10,{"$f":"IFERROR(VLOOKUP(CONCATENATE(AH24,\" вес \",$W$6),'Участники чемпионата'!$A:$AA,13,0),\"\")","v":"Магомедов Бурагим"},{"$f":"IF(IFERROR(VLOOKUP(CONCATENATE(AH24,\" вес \",$W$6),'Участники чемпионата'!$A:$AA,25,0),\"\")=\"Шлем\",\"Ш\",\"\")","v":""},{"$f":"IFERROR(VLOOKUP(CONCATENATE(AH24,\" вес \",$W$6),'Участники чемпионата'!$A:$AA,5,0),\"\")","v":"г. Нижневартовск"}]
[]
[]
[null,null,null,null,null,null,null,null,null,null,null,{"$f":"IFERROR(VLOOKUP(CONCATENATE(J26,\" вес \",$W$6),'Участники чемпионата'!$A:$AF,32,0),\"\")","v":""},null,null,null,null,null,null,null,null,null,null,null,null,null,null,{"$f":"IFERROR(VLOOKUP(CONCATENATE(AB26,\" вес \",$W$6),'Участники чемпионата'!$A:$AF,32,0),\"\")","v":""}]
[]
[null,11,{"$f":"IFERROR(VLOOKUP(CONCATENATE(B29,\" вес \",$W$6),'Участники чемпионата'!$A:$AA,13,0),\"\")","v":""},{"$f":"IF(IFERROR(VLOOKUP(CONCATENATE(B29,\" вес \",$W$6),'Участники чемпионата'!$A:$AA,25,0),\"\")=\"Шлем\",\"Ш\",\"\")","v":""},{"$f":"IFERROR(VLOOKUP(CONCATENATE(B29,\" вес \",$W$6),'Участники чемпионата'!$A:$AA,5,0),\"\")","v":""},null,null,null,null,null,null,null,null,null,null,null,null,"Чемпион",null,null,null,null,null,null,null,null,null,null,null,null,12]
[null,17,{"$f":"IFERROR(VLOOKUP(CONCATENATE(B30,\" вес \",$W$6),'Участники чемпионата'!$A:$AA,13,0),\"\")","v":""},{"$f":"IF(IFERROR(VLOOKUP(CONCATENATE(B30,\" вес \",$W$6),'Участники чемпионата'!$A:$AA,25,0),\"\")=\"Шлем\",\"Ш\",\"\")","v":""},{"$f":"IFERROR(VLOOKUP(CONCATENATE(B30,\" вес \",$W$6),'Участники чемпионата'!$A:$AA,5,0),\"\")","v":""},null,null,null,{"$f":"IFERROR(VLOOKUP(CONCATENATE(G29,\" вес \",$W$6),'Участники чемпионата'!$A:$AF,32,0),\"\")","v":""},null,null,null,null,null,null,null,{"$f":"IFERROR(VLOOKUP(CONCATENATE(S32,\" вес \",$W$6),'Участники чемпионата'!$A:$AA,7,0),\"\")","v":""},null,null,null,null,null,null,null,null,null,null,null,null,{"$f":"IFERROR(VLOOKUP(CONCATENATE(AE29,\" вес \",$W$6),'Участники чемпионата'!$A:$AF,32,0),\"\")","v":""},null,null,null,12,{"$f":"IFERROR(VLOOKUP(CONCATENATE(AH30,\" вес \",$W$6),'Участники чемпионата'!$A:$AA,13,0),\"\")","v":""},{"$f":"IF(IFERROR(VLOOKUP(CONCATENATE(AH30,\" вес \",$W$6),'Участники чемпионата'!$A:$AA,25,0),\"\")=\"Шлем\",\"Ш\",\"\")","v":""},{"$f":"IFERROR(VLOOKUP(CONCATENATE(AH30,\" вес \",$W$6),'Участники чемпионата'!$A:$AA,5,0),\"\")","v":""}]
[]
[null,null,null,null,null,null,null,null,null,null,null,null,null,null,{"$f":"IFERROR(VLOOKUP(CONCATENATE(P32,\" вес \",$W$6),'Участники чемпионата'!$A:$AF,32,0),\"\")","v":""},null,null,null,null,null,null,null,null,{"$f":"IFERROR(VLOOKUP(CONCATENATE(V32,\" вес \",$W$6),'Участники чемпионата'!$A:$AF,32,0),\"\")","v":""}]
[]
[]
[null,3,{"$f":"IFERROR(VLOOKUP(CONCATENATE(B35,\" вес \",$W$6),'Участники чемпионата'!$A:$AA,13,0),\"\")","v":"Рамазанов Джамал"},{"$f":"IF(IFERROR(VLOOKUP(CONCATENATE(B35,\" вес \",$W$6),'Участники чемпионата'!$A:$AA,25,0),\"\")=\"Шлем\",\"Ш\",\"\")","v":"Ш"},{"$f":"IFERROR(VLOOKUP(CONCATENATE(B35,\" вес \",$W$6),'Участники чемпионата'!$A:$AA,5,0),\"\")","v":"СДЮСШОР \"СПАРТАК\" (г.Нефтеюганск)"},null,null,null,{"$f":"IFERROR(VLOOKUP(CONCATENATE(G35,\" вес \",$W$6),'Участники чемпионата'!$A:$AF,32,0),\"\")","v":""},null,null,null,null,null,null,null,null,null,null,null,null,null,null,null,null,null,null,null,null,{"$f":"IFERROR(VLOOKUP(CONCATENATE(AE35,\" вес \",$W$6),'Участники чемпионата'!$A:$AF,32,0),\"\")","v":""},null,null,null,14,{"$f":"IFERROR(VLOOKUP(CONCATENATE(AH35,\" вес \",$W$6),'Участники чемпионата'!$A:$AA,13,0),\"\")","v":""},{"$f":"IF(IFERROR(VLOOKUP(CONCATENATE(AH35,\" вес \",$W$6),'Участники чемпионата'!$A:$AA,25,0),\"\")=\"Шлем\",\"Ш\",\"\")","v":""},{"$f":"IFERROR(VLOOKUP(CONCATENATE(AH35,\" вес \",$W$6),'Участники чемпионата'!$A:$AA,5,0),\"\")","v":""}]
[null,13,{"$f":"IFERROR(VLOOKUP(CONCATENATE(B36,\" вес \",$W$6),'Участники чемпионата'!$A:$AA,13,0),\"\")","v":""},{"$f":"IF(IFERROR(VLOOKUP(CONCATENATE(B36,\" вес \",$W$6),'Участники чемпионата'!$A:$AA,25,0),\"\")=\"Шлем\",\"Ш\",\"\")","v":""},{"$f":"IFERROR(VLOOKUP(CONCATENATE(B36,\" вес \",$W$6),'Участники чемпионата'!$A:$AA,5,0),\"\")","v":""},null,null,null,null,null,null,null,null,null,null,null,null,null,null,null,null,null,null,null,null,null,null,null,null,null,null,null,null,4,{"$f":"IFERROR(VLOOKUP(CONCATENATE(AH36,\" вес \",$W$6),'Участники чемпионата'!$A:$AA,13,0),\"\")","v":"Дадаев Мансур"},{"$f":"IF(IFERROR(VLOOKUP(CONCATENATE(AH36,\" вес \",$W$6),'Участники чемпионата'!$A:$AA,25,0),\"\")=\"Шлем\",\"Ш\",\"\")","v":"Ш"},{"$f":"IFERROR(VLOOKUP(CONCATENATE(AH36,\" вес \",$W$6),'Участники чемпионата'!$A:$AA,5,0),\"\")","v":"г. Ханты-Мансийск"}]
[]
[null,null,null,null,null,null,null,null,null,null,null,{"$f":"IFERROR(VLOOKUP(CONCATENATE(J38,\" вес \",$W$6),'Участники чемпионата'!$A:$AF,32,0),\"\")","v":""},null,null,null,null,null,null,null,null,null,null,null,null,null,null,{"$f":"IFERROR(VLOOKUP(CONCATENATE(AB38,\" вес \",$W$6),'Участники чемпионата'!$A:$AF,32,0),\"\")","v":""}]
[]
[]
[null,null,null,null,null,null,19,null,null,null,null,null,null,null,null,null,null,null,null,null,null,null,null,null,null,null,null,null,null,null,18]
[null,19,{"$f":"IFERROR(VLOOKUP(CONCATENATE(B42,\" вес \",$W$6),'Участники чемпионата'!$A:$AA,13,0),\"\")","v":""},{"$f":"IF(IFERROR(VLOOKUP(CONCATENATE(B42,\" вес \",$W$6),'Участники чемпионата'!$A:$AA,25,0),\"\")=\"Шлем\",\"Ш\",\"\")","v":""},{"$f":"IFERROR(VLOOKUP(CONCATENATE(B42,\" вес \",$W$6),'Участники чемпионата'!$A:$AA,5,0),\"\")","v":""},null,null,null,{"$f":"IFERROR(VLOOKUP(CONCATENATE(G41,\" вес \",$W$6),'Участники чемпионата'!$A:$AF,32,0),\"\")","v":""},null,null,null,null,null,null,null,null,null,null,null,null,null,null,null,null,null,null,null,null,{"$f":"IFERROR(VLOOKUP(CONCATENATE(AE41,\" вес \",$W$6),'Участники чемпионата'!$A:$AF,32,0),\"\")","v":""},null,null,null,18,{"$f":"IFERROR(VLOOKUP(CONCATENATE(AH42,\" вес \",$W$6),'Участники чемпионата'!$A:$AA,13,0),\"\")","v":""},{"$f":"IF(IFERROR(VLOOKUP(CONCATENATE(AH42,\" вес \",$W$6),'Участники чемпионата'!$A:$AA,25,0),\"\")=\"Шлем\",\"Ш\",\"\")","v":""},{"$f":"IFERROR(VLOOKUP(CONCATENATE(AH42,\" вес \",$W$6),'Участники чемпионата'!$A:$AA,5,0),\"\")","v":""}]
[]
[null,null,"B",null,null,null,null,null,null,null,null,null,null,null,null,null,null,null,null,null,null,null,null,null,null,null,null,null,null,null,null,null,null,null,null,null,"D  "]
[null,null,null,null,null,null,null,null,null,null,null,null,null,null,{"$f":"IFERROR(VLOOKUP(CONCATENATE(M44,\" вес \",$W$6),'Участники чемпионата'!$A:$AF,32,0),\"\")","v":""},null,null,null,null,null,null,null,null,{"$f":"IFERROR(VLOOKUP(CONCATENATE(Y44,\" вес \",$W$6),'Участники чемпионата'!$A:$AF,32,0),\"\")","v":""}]
[]
[null,21,{"$f":"IFERROR(VLOOKUP(CONCATENATE(B47,\" вес \",$W$6),'Участники чемпионата'!$A:$AA,13,0),\"\")","v":""},{"$f":"IF(IFERROR(VLOOKUP(CONCATENATE(B47,\" вес \",$W$6),'Участники чемпионата'!$A:$AA,25,0),\"\")=\"Шлем\",\"Ш\",\"\")","v":""},{"$f":"IFERROR(VLOOKUP(CONCATENATE(B47,\" вес \",$W$6),'Участники чемпионата'!$A:$AA,5,0),\"\")","v":""},null,null,null,{"$f":"IFERROR(VLOOKUP(CONCATENATE(G47,\" вес \",$W$6),'Участники чемпионата'!$A:$AF,32,0),\"\")","v":""},null,null,null,null,null,null,null,null,null,null,null,null,null,null,null,null,null,null,null,null,{"$f":"IFERROR(VLOOKUP(CONCATENATE(AE47,\" вес \",$W$6),'Участники чемпионата'!$A:$AF,32,0),\"\")","v":""},null,null,null,20,{"$f":"IFERROR(VLOOKUP(CONCATENATE(AH47,\" вес \",$W$6),'Участники чемпионата'!$A:$AA,13,0),\"\")","v":""},{"$f":"IF(IFERROR(VLOOKUP(CONCATENATE(AH47,\" вес \",$W$6),'Участники чемпионата'!$A:$AA,25,0),\"\")=\"Шлем\",\"Ш\",\"\")","v":""},{"$f":"IFERROR(VLOOKUP(CONCATENATE(AH47,\" вес \",$W$6),'Участники чемпионата'!$A:$AA,5,0),\"\")","v":""}]
[null,9,{"$f":"IFERROR(VLOOKUP(CONCATENATE(B48,\" вес \",$W$6),'Участники чемпионата'!$A:$AA,13,0),\"\")","v":"Касумов  Али"},{"$f":"IF(IFERROR(VLOOKUP(CONCATENATE(B48,\" вес \",$W$6),'Участники чемпионата'!$A:$AA,25,0),\"\")=\"Шлем\",\"Ш\",\"\")","v":""},{"$f":"IFERROR(VLOOKUP(CONCATENATE(B48,\" вес \",$W$6),'Участники чемпионата'!$A:$AA,5,0),\"\")","v":"г. Сургут"},null,null,null,null,null,null,null,null,null,null,null,null,null,null,null,null,null,null,null,null,null,null,null,null,null,null,null,null,8,{"$f":"IFERROR(VLOOKUP(CONCATENATE(AH48,\" вес \",$W$6),'Участники чемпионата'!$A:$AA,13,0),\"\")","v":"Ильясов Гасан"},{"$f":"IF(IFERROR(VLOOKUP(CONCATENATE(AH48,\" вес \",$W$6),'Участники чемпионата'!$A:$AA,25,0),\"\")=\"Шлем\",\"Ш\",\"\")","v":"Ш"},{"$f":"IFERROR(VLOOKUP(CONCATENATE(AH48,\" вес \",$W$6),'Участники чемпионата'!$A:$AA,5,0),\"\")","v":"г. Сургут"}]
[]
[]
[null,null,null,null,null,null,null,null,null,null,null,{"$f":"IFERROR(VLOOKUP(CONCATENATE(J50,\" вес \",$W$6),'Участники чемпионата'!$A:$AF,32,0),\"\")","v":""},null,null,null,null,null,null,null,null,null,null,null,null,null,null,{"$f":"IFERROR(VLOOKUP(CONCATENATE(AB50,\" вес \",$W$6),'Участники чемпионата'!$A:$AF,32,0),\"\")","v":""}]
[]
[null,null,null,null,null,null,25,null,null,null,null,null,null,null,null,null,null,null,null,null,null,null,null,null,null,null,null,null,null,null,null,null,null,16,{"$f":"IFERROR(VLOOKUP(CONCATENATE(AH53,\" вес \",$W$6),'Участники чемпионата'!$A:$AA,13,0),\"\")","v":""},{"$f":"IF(IFERROR(VLOOKUP(CONCATENATE(AH53,\" вес \",$W$6),'Участники чемпионата'!$A:$AA,25,0),\"\")=\"Шлем\",\"Ш\",\"\")","v":""},{"$f":"IFERROR(VLOOKUP(CONCATENATE(AH53,\" вес \",$W$6),'Участники чемпионата'!$A:$AA,5,0),\"\")","v":""}]
[null,25,{"$f":"IFERROR(VLOOKUP(CONCATENATE(B54,\" вес \",$W$6),'Участники чемпионата'!$A:$AA,13,0),\"\")","v":""},{"$f":"IF(IFERROR(VLOOKUP(CONCATENATE(B54,\" вес \",$W$6),'Участники чемпионата'!$A:$AA,25,0),\"\")=\"Шлем\",\"Ш\",\"\")","v":""},{"$f":"IFERROR(VLOOKUP(CONCATENATE(B54,\" вес \",$W$6),'Участники чемпионата'!$A:$AA,5,0),\"\")","v":""},null,null,null,{"$f":"IFERROR(VLOOKUP(CONCATENATE(G53,\" вес \",$W$6),'Участники чемпионата'!$A:$AF,32,0),\"\")","v":""},null,null,null,null,null,null,null,null,null,null,null,null,null,null,null,null,null,null,null,null,{"$f":"IFERROR(VLOOKUP(CONCATENATE(AE53,\" вес \",$W$6),'Участники чемпионата'!$A:$AF,32,0),\"\")","v":""},null,null,null,26,{"$f":"IFERROR(VLOOKUP(CONCATENATE(AH54,\" вес \",$W$6),'Участники чемпионата'!$A:$AA,13,0),\"\")","v":""},{"$f":"IF(IFERROR(VLOOKUP(CONCATENATE(AH54,\" вес \",$W$6),'Участники чемпионата'!$A:$AA,25,0),\"\")=\"Шлем\",\"Ш\",\"\")","v":""},{"$f":"IFERROR(VLOOKUP(CONCATENATE(AH54,\" вес \",$W$6),'Участники чемпионата'!$A:$AA,5,0),\"\")","v":""}]
[]
[null,"1/16",null,null,null,null,"1/8",null,null,"1/4",null,null,"1/2",null,null,"Финал",null,null,null,null,null,null,null,null,"1/2",null,null,"1/4",null,null,"1/8",null,null,"1/16"]
[]
[null,null,null,null,null,null,null,null,null,null,null,null,null,null,null,null,null,null,null,"Участников:",{"$f":"HLOOKUP(W6,Мандатка!$C$4:$I$5,2,0)","v":10}]
[]
[]
[null,null,"1 место"]
[null,{"$f":"IF(S32=\"\",\"\",S32)","v":""},{"$f":"IF(B62=\"\",\"\",IFERROR(VLOOKUP(CONCATENATE(B62,\" вес \",$W$6),'Участники чемпионата'!$A:$AA,13,0),\"\"))","v":""},{"$f":"IF(B62=\"\",\"\",IFERROR(VLOOKUP(CONCATENATE(B62,\" вес \",$W$6),'Участники чемпионата'!$A:$AA,5,0),\"\"))","v":""}]
[]
[null,null,"2 место"]
[null,{"$f":"IF(S32=\"\",\"\",IF(S32=V32,P32,V32))","v":""},{"$f":"IF(B65=\"\",\"\",IFERROR(VLOOKUP(CONCATENATE(B65,\" вес \",$W$6),'Участники чемпионата'!$A:$AA,13,0),\"\"))","v":""},{"$f":"IF(B65=\"\",\"\",IFERROR(VLOOKUP(CONCATENATE(B65,\" вес \",$W$6),'Участники чемпионата'!$A:$AA,5,0),\"\"))","v":""},null,null,null,null,null,null,null,null,null,null,null,null,null,null,null,null,null,null,null,null,null,null,null,null,null,null,null,null,null,"Главный судья соревнований",null,"/",{"$f":"IF(VLOOKUP(AH65,'Исходные данные по чемпионату'!B:C,2,0)=0,\"\",VLOOKUP(AH65,'Исходные данные по чемпионату'!B:C,2,0))","v":"Карташков К.В."},"/"]
[]
[null,null,"3 место"]
[null,{"$f":"IF(P32=\"\",\"\",IF(P32=M44,M20,M44))","v":""},{"$f":"IF(B68=\"\",\"\",IFERROR(VLOOKUP(CONCATENATE(B68,\" вес \",$W$6),'Участники чемпионата'!$A:$AA,13,0),\"\"))","v":""},{"$f":"IF(B68=\"\",\"\",IFERROR(VLOOKUP(CONCATENATE(B68,\" вес \",$W$6),'Участники чемпионата'!$A:$AA,5,0),\"\"))","v":""}]
[null,{"$f":"IF(V32=\"\",\"\",IF(V32=Y44,Y20,Y44))","v":""},{"$f":"IF(B69=\"\",\"\",IFERROR(VLOOKUP(CONCATENATE(B69,\" вес \",$W$6),'Участники чемпионата'!$A:$AA,13,0),\"\"))","v":""},{"$f":"IF(B69=\"\",\"\",IFERROR(VLOOKUP(CONCATENATE(B69,\" вес \",$W$6),'Участники чемпионата'!$A:$AA,5,0),\"\"))","v":""},null,null,null,null,null,null,null,null,null,null,null,null,null,null,null,null,null,null,null,null,null,null,null,null,null,null,null,null,null,"Главный секретарь",null,"/",{"$f":"IF(VLOOKUP(AH69,'Исходные данные по чемпионату'!B:C,2,0)=0,\"\",VLOOKUP(AH69,'Исходные данные по чемпионату'!B:C,2,0))","v":"Толстыгин А.Ю."},"/"]
[]
[null,null,null,null,null,null,null,null,null,null,null,null,null,null,null,null,null,null,null,null,null,null,null,null,null,null,null,null,null,null,null,null,null,null,null,null,null,0]
[]
[null,null,"5-8 места",null,null,null,null,null,null,null,null,null,null,"Результат боя описание",null,null,null,null,null,null,null,null,null,null,null,null,null,null,null,null,null,null,null,null,"Финалисты"]
[null,{"$f":"IF(M20=\"\",\"\",IF(OR(J14-M20=0),J26,J14))","v":""},{"$f":"IF(B74=\"\",\"\",IFERROR(VLOOKUP(CONCATENATE(B74,\" вес \",$W$6),'Участники чемпионата'!$A:$AA,13,0),\"\"))","v":""},{"$f":"IF(B74=\"\",\"\",IFERROR(VLOOKUP(CONCATENATE(B74,\" вес \",$W$6),'Участники чемпионата'!$A:$AA,5,0),\"\"))","v":""},null,null,null,null,null,null,null,null,null,{"$f":"'Unvisible Списки'!C9","v":"(ПО)"},null,null,null,{"$f":"'Unvisible Списки'!C27","v":"по очкам"},null,null,null,null,null,null,null,null,null,null,null,null,null,null,null,{"$f":"IF(P32=\"\",\"\",P32)","v":""},{"$f":"IFERROR(VLOOKUP(CONCATENATE(AH74,\" вес \",$W$6),'Участники чемпионата'!$A:$AA,13,0),\"\")","v":""},{"$f":"IFERROR(VLOOKUP(CONCATENATE(AH74,\" вес \",$W$6),'Участники чемпионата'!$A:$AA,5,0),\"\")","v":""}]
[null,{"$f":"IF(M44=\"\",\"\",IF(OR(J38-M44=0),J50,J38))","v":""},{"$f":"IF(B75=\"\",\"\",IFERROR(VLOOKUP(CONCATENATE(B75,\" вес \",$W$6),'Участники чемпионата'!$A:$AA,13,0),\"\"))","v":""},{"$f":"IF(B75=\"\",\"\",IFERROR(VLOOKUP(CONCATENATE(B75,\" вес \",$W$6),'Участники чемпионата'!$A:$AA,5,0),\"\"))","v":""},null,null,null,null,null,null,null,null,null,{"$f":"'Unvisible Списки'!C10","v":"(КО)"},null,null,null,{"$f":"'Unvisible Списки'!C28","v":"нокаут"},null,null,null,null,null,null,null,null,null,null,null,null,null,null,null,{"$f":"IF(V32=\"\",\"\",V32)","v":""},{"$f":"IFERROR(VLOOKUP(CONCATENATE(AH75,\" вес \",$W$6),'Участники чемпионата'!$A:$AA,13,0),\"\")","v":""},{"$f":"IFERROR(VLOOKUP(CONCATENATE(AH75,\" вес \",$W$6),'Участники чемпионата'!$A:$AA,5,0),\"\")","v":""}]
[null,{"$f":"IF(Y20=\"\",\"\",IF(OR(AB14-Y20=0),AB26,AB14))","v":""},{"$f":"IF(B76=\"\",\"\",IFERROR(VLOOKUP(CONCATENATE(B76,\" вес \",$W$6),'Участники чемпионата'!$A:$AA,13,0),\"\"))","v":""},{"$f":"IF(B76=\"\",\"\",IFERROR(VLOOKUP(CONCATENATE(B76,\" вес \",$W$6),'Участники чемпионата'!$A:$AA,5,0),\"\"))","v":""},null,null,null,null,null,null,null,null,null,{"$f":"'Unvisible Списки'!C11","v":"(БЛ)"},null,null,null,{"$f":"'Unvisible Списки'!C29","v":"болевой/удушающий"}]
[null,{"$f":"IF(Y44=\"\",\"\",IF(OR(AB38-Y44=0),AB50,AB38))","v":""},{"$f":"IF(B77=\"\",\"\",IFERROR(VLOOKUP(CONCATENATE(B77,\" вес \",$W$6),'Участники чемпионата'!$A:$AA,13,0),\"\"))","v":""},{"$f":"IF(B77=\"\",\"\",IFERROR(VLOOKUP(CONCATENATE(B77,\" вес \",$W$6),'Участники чемпионата'!$A:$AA,5,0),\"\"))","v":""},null,null,null,null,null,null,null,null,null,{"$f":"'Unvisible Списки'!C12","v":"(ТКО)"},null,null,null,{"$f":"'Unvisible Списки'!C30","v":"технический нокаут"}]
[null,null,null,null,null,null,null,null,null,null,null,null,null,{"$f":"'Unvisible Списки'!C13","v":"(СН)"},null,null,null,{"$f":"'Unvisible Списки'!C31","v":"снятие врачом"}]
[null,null,"9-16 места",null,null,null,null,null,null,null,null,null,null,{"$f":"'Unvisible Списки'!C14","v":"(ОТК)"},null,null,null,{"$f":"'Unvisible Списки'!C32","v":"отказ продолжать бой"}]
[null,{"$f":"IF(J14=\"\",\"\",IF(OR(G11-J14=0),G17,G11))","v":""},{"$f":"IF(B80=\"\",\"\",IFERROR(VLOOKUP(CONCATENATE(B80,\" вес \",$W$6),'Участники чемпионата'!$A:$AA,13,0),\"\"))","v":""},{"$f":"IF(B80=\"\",\"\",IFERROR(VLOOKUP(CONCATENATE(B80,\" вес \",$W$6),'Участники чемпионата'!$A:$AA,5,0),\"\"))","v":""},null,null,null,null,null,null,null,null,null,{"$f":"'Unvisible Списки'!C15","v":"(ДСК)"},null,null,null,{"$f":"'Unvisible Списки'!C33","v":"Дисквалификация"}]
[null,{"$f":"IF(J26=\"\",\"\",IF(OR(G23-J26=0),G29,G23))","v":""},{"$f":"IF(B81=\"\",\"\",IFERROR(VLOOKUP(CONCATENATE(B81,\" вес \",$W$6),'Участники чемпионата'!$A:$AA,13,0),\"\"))","v":""},{"$f":"IF(B81=\"\",\"\",IFERROR(VLOOKUP(CONCATENATE(B81,\" вес \",$W$6),'Участники чемпионата'!$A:$AA,5,0),\"\"))","v":""},null,null,null,null,null,null,null,null,null,{"$f":"'Unvisible Списки'!C16","v":"(РГСК)"},null,null,null,{"$f":"'Unvisible Списки'!C34","v":"решение главного судьи СК"}]
[null,{"$f":"IF(J38=\"\",\"\",IF(OR(G35-J38=0),G41,G35))","v":""},{"$f":"IF(B82=\"\",\"\",IFERROR(VLOOKUP(CONCATENATE(B82,\" вес \",$W$6),'Участники чемпионата'!$A:$AA,13,0),\"\"))","v":""},{"$f":"IF(B82=\"\",\"\",IFERROR(VLOOKUP(CONCATENATE(B82,\" вес \",$W$6),'Участники чемпионата'!$A:$AA,5,0),\"\"))","v":""},null,null,null,null,null,null,null,null,null,{"$f":"'Unvisible Списки'!C17","v":"(НЯ)"},null,null,null,{"$f":"'Unvisible Списки'!C35","v":"неявка"}]
[null,{"$f":"IF(J50=\"\",\"\",IF(OR(G47-J50=0),G53,G47))","v":""},{"$f":"IF(B83=\"\",\"\",IFERROR(VLOOKUP(CONCATENATE(B83,\" вес \",$W$6),'Участники чемпионата'!$A:$AA,13,0),\"\"))","v":""},{"$f":"IF(B83=\"\",\"\",IFERROR(VLOOKUP(CONCATENATE(B83,\" вес \",$W$6),'Участники чемпионата'!$A:$AA,5,0),\"\"))","v":""}]
[null,{"$f":"IF(AB14=\"\",\"\",IF(OR(AE11-AB14=0),AE17,AE11))","v":""},{"$f":"IF(B84=\"\",\"\",IFERROR(VLOOKUP(CONCATENATE(B84,\" вес \",$W$6),'Участники чемпионата'!$A:$AA,13,0),\"\"))","v":""},{"$f":"IF(B84=\"\",\"\",IFERROR(VLOOKUP(CONCATENATE(B84,\" вес \",$W$6),'Участники чемпионата'!$A:$AA,5,0),\"\"))","v":""}]
[null,{"$f":"IF(AB26=\"\",\"\",IF(OR(AE23-AB26=0),AE29,AE23))","v":""},{"$f":"IF(B85=\"\",\"\",IFERROR(VLOOKUP(CONCATENATE(B85,\" вес \",$W$6),'Участники чемпионата'!$A:$AA,13,0),\"\"))","v":""},{"$f":"IF(B85=\"\",\"\",IFERROR(VLOOKUP(CONCATENATE(B85,\" вес \",$W$6),'Участники чемпионата'!$A:$AA,5,0),\"\"))","v":""}]
[null,{"$f":"IF(AB38=\"\",\"\",IF(OR(AE35-AB38=0),AE41,AE35))","v":""},{"$f":"IF(B86=\"\",\"\",IFERROR(VLOOKUP(CONCATENATE(B86,\" вес \",$W$6),'Участники чемпионата'!$A:$AA,13,0),\"\"))","v":""},{"$f":"IF(B86=\"\",\"\",IFERROR(VLOOKUP(CONCATENATE(B86,\" вес \",$W$6),'Участники чемпионата'!$A:$AA,5,0),\"\"))","v":""}]
[null,{"$f":"IF(AB50=\"\",\"\",IF(OR(AE47-AB50=0),AE53,AE47))","v":""},{"$f":"IF(B87=\"\",\"\",IFERROR(VLOOKUP(CONCATENATE(B87,\" вес \",$W$6),'Участники чемпионата'!$A:$AA,13,0),\"\"))","v":""},{"$f":"IF(B87=\"\",\"\",IFERROR(VLOOKUP(CONCATENATE(B87,\" вес \",$W$6),'Участники чемпионата'!$A:$AA,5,0),\"\"))","v":""}]
[]
[null,null,"17-32 места"]
[null,{"$f":"IF(G11=\"\",\"\",IF(OR(B11-G11=0),B12,B11))","v":""},{"$f":"IF(B90=\"\",\"\",IFERROR(VLOOKUP(CONCATENATE(B90,\" вес \",$W$6),'Участники чемпионата'!$A:$AA,13,0),\"\"))","v":""},{"$f":"IF(B90=\"\",\"\",IFERROR(VLOOKUP(CONCATENATE(B90,\" вес \",$W$6),'Участники чемпионата'!$A:$AA,5,0),\"\"))","v":""}]
[null,{"$f":"IF(G17=\"\",\"\",IF(OR(B17-G17=0),B18,B17))","v":0},{"$f":"IF(B91=\"\",\"\",IFERROR(VLOOKUP(CONCATENATE(B91,\" вес \",$W$6),'Участники чемпионата'!$A:$AA,13,0),\"\"))","v":""},{"$f":"IF(B91=\"\",\"\",IFERROR(VLOOKUP(CONCATENATE(B91,\" вес \",$W$6),'Участники чемпионата'!$A:$AA,5,0),\"\"))","v":""}]
[null,{"$f":"IF(G23=\"\",\"\",IF(OR(B23-G23=0),B24,B23))","v":""},{"$f":"IF(B92=\"\",\"\",IFERROR(VLOOKUP(CONCATENATE(B92,\" вес \",$W$6),'Участники чемпионата'!$A:$AA,13,0),\"\"))","v":""},{"$f":"IF(B92=\"\",\"\",IFERROR(VLOOKUP(CONCATENATE(B92,\" вес \",$W$6),'Участники чемпионата'!$A:$AA,5,0),\"\"))","v":""}]
[null,{"$f":"IF(G29=\"\",\"\",IF(G29=\"\",\"\",IF(OR(B29-G29=0),B30,B29)))","v":""},{"$f":"IF(B93=\"\",\"\",IFERROR(VLOOKUP(CONCATENATE(B93,\" вес \",$W$6),'Участники чемпионата'!$A:$AA,13,0),\"\"))","v":""},{"$f":"IF(B93=\"\",\"\",IFERROR(VLOOKUP(CONCATENATE(B93,\" вес \",$W$6),'Участники чемпионата'!$A:$AA,5,0),\"\"))","v":""}]
[null,{"$f":"IF(G35=\"\",\"\",IF(OR(B35-G35=0),B36,B35))","v":""},{"$f":"IF(B94=\"\",\"\",IFERROR(VLOOKUP(CONCATENATE(B94,\" вес \",$W$6),'Участники чемпионата'!$A:$AA,13,0),\"\"))","v":""},{"$f":"IF(B94=\"\",\"\",IFERROR(VLOOKUP(CONCATENATE(B94,\" вес \",$W$6),'Участники чемпионата'!$A:$AA,5,0),\"\"))","v":""}]
[null,{"$f":"IF(G41=\"\",\"\",IF(OR(B41-G41=0),B42,B41))","v":0},{"$f":"IF(B95=\"\",\"\",IFERROR(VLOOKUP(CONCATENATE(B95,\" вес \",$W$6),'Участники чемпионата'!$A:$AA,13,0),\"\"))","v":""},{"$f":"IF(B95=\"\",\"\",IFERROR(VLOOKUP(CONCATENATE(B95,\" вес \",$W$6),'Участники чемпионата'!$A:$AA,5,0),\"\"))","v":""}]
[null,{"$f":"IF(G47=\"\",\"\",IF(OR(B47-G47=0),B48,B47))","v":""},{"$f":"IF(B96=\"\",\"\",IFERROR(VLOOKUP(CONCATENATE(B96,\" вес \",$W$6),'Участники чемпионата'!$A:$AA,13,0),\"\"))","v":""},{"$f":"IF(B96=\"\",\"\",IFERROR(VLOOKUP(CONCATENATE(B96,\" вес \",$W$6),'Участники чемпионата'!$A:$AA,5,0),\"\"))","v":""}]
[null,{"$f":"IF(G53=\"\",\"\",IF(OR(B53-G53=0),B54,B53))","v":0},{"$f":"IF(B97=\"\",\"\",IFERROR(VLOOKUP(CONCATENATE(B97,\" вес \",$W$6),'Участники чемпионата'!$A:$AA,13,0),\"\"))","v":""},{"$f":"IF(B97=\"\",\"\",IFERROR(VLOOKUP(CONCATENATE(B97,\" вес \",$W$6),'Участники чемпионата'!$A:$AA,5,0),\"\"))","v":""}]
[null,{"$f":"IF(AE11=\"\",\"\",IF(OR(AH11-AE11=0),AH12,AH11))","v":0},{"$f":"IF(B98=\"\",\"\",IFERROR(VLOOKUP(CONCATENATE(B98,\" вес \",$W$6),'Участники чемпионата'!$A:$AA,13,0),\"\"))","v":""},{"$f":"IF(B98=\"\",\"\",IFERROR(VLOOKUP(CONCATENATE(B98,\" вес \",$W$6),'Участники чемпионата'!$A:$AA,5,0),\"\"))","v":""}]
[null,{"$f":"IF(AE17=\"\",\"\",IF(OR(AH17-AE17=0),AH18,AH17))","v":""},{"$f":"IF(B99=\"\",\"\",IFERROR(VLOOKUP(CONCATENATE(B99,\" вес \",$W$6),'Участники чемпионата'!$A:$AA,13,0),\"\"))","v":""},{"$f":"IF(B99=\"\",\"\",IFERROR(VLOOKUP(CONCATENATE(B99,\" вес \",$W$6),'Участники чемпионата'!$A:$AA,5,0),\"\"))","v":""}]
[null,{"$f":"IF(AE23=\"\",\"\",IF(OR(AH23-AE23=0),AH24,AH23))","v":""},{"$f":"IF(B100=\"\",\"\",IFERROR(VLOOKUP(CONCATENATE(B100,\" вес \",$W$6),'Участники чемпионата'!$A:$AA,13,0),\"\"))","v":""},{"$f":"IF(B100=\"\",\"\",IFERROR(VLOOKUP(CONCATENATE(B100,\" вес \",$W$6),'Участники чемпионата'!$A:$AA,5,0),\"\"))","v":""}]
[null,{"$f":"IF(AE29=\"\",\"\",IF(OR(AH29-AE29=0),AH30,AH29))","v":0},{"$f":"IF(B101=\"\",\"\",IFERROR(VLOOKUP(CONCATENATE(B101,\" вес \",$W$6),'Участники чемпионата'!$A:$AA,13,0),\"\"))","v":""},{"$f":"IF(B101=\"\",\"\",IFERROR(VLOOKUP(CONCATENATE(B101,\" вес \",$W$6),'Участники чемпионата'!$A:$AA,5,0),\"\"))","v":""}]
[null,{"$f":"IF(AE35=\"\",\"\",IF(OR(AH35-AE35=0),AH36,AH35))","v":""},{"$f":"IF(B102=\"\",\"\",IFERROR(VLOOKUP(CONCATENATE(B102,\" вес \",$W$6),'Участники чемпионата'!$A:$AA,13,0),\"\"))","v":""},{"$f":"IF(B102=\"\",\"\",IFERROR(VLOOKUP(CONCATENATE(B102,\" вес \",$W$6),'Участники чемпионата'!$A:$AA,5,0),\"\"))","v":""}]
[null,{"$f":"IF(AE41=\"\",\"\",IF(OR(AH41-AE41=0),AH42,AH41))","v":0},{"$f":"IF(B103=\"\",\"\",IFERROR(VLOOKUP(CONCATENATE(B103,\" вес \",$W$6),'Участники чемпионата'!$A:$AA,13,0),\"\"))","v":""},{"$f":"IF(B103=\"\",\"\",IFERROR(VLOOKUP(CONCATENATE(B103,\" вес \",$W$6),'Участники чемпионата'!$A:$AA,5,0),\"\"))","v":""}]
[null,{"$f":"IF(AE47=\"\",\"\",IF(OR(AH47-AE47=0),AH48,AH47))","v":""},{"$f":"IF(B104=\"\",\"\",IFERROR(VLOOKUP(CONCATENATE(B104,\" вес \",$W$6),'Участники чемпионата'!$A:$AA,13,0),\"\"))","v":""},{"$f":"IF(B104=\"\",\"\",IFERROR(VLOOKUP(CONCATENATE(B104,\" вес \",$W$6),'Участники чемпионата'!$A:$AA,5,0),\"\"))","v":""}]
[null,{"$f":"IF(AE53=\"\",\"\",IF(OR(AH53-AE53=0),AH54,AH53))","v":""},{"$f":"IF(B105=\"\",\"\",IFERROR(VLOOKUP(CONCATENATE(B105,\" вес \",$W$6),'Участники чемпионата'!$A:$AA,13,0),\"\"))","v":""},{"$f":"IF(B105=\"\",\"\",IFERROR(VLOOKUP(CONCATENATE(B105,\" вес \",$W$6),'Участники чемпионата'!$A:$AA,5,0),\"\"))","v":""}]

{"sheet":"Сетка24","index":4,"n_rows":105,"n_cols":38,"rows_kept":105,"cut":false,"hidden":true,"merged":[[1,2,1,36],[3,5,3,33],[3,36,4,36],[5,22,5,24],[10,6,11,7],[10,30,11,31],[16,6,17,7],[16,30,17,31],[19,2,20,2],[19,12,20,13],[19,24,20,25],[19,36,20,36],[12,6,13,6],[12,7,13,7],[12,30,13,30],[12,31,13,31],[13,9,14,10],[13,27,14,28],[14,6,15,6],[14,7,15,7],[14,30,15,30],[14,31,15,31],[26,31,27,31],[28,6,29,7],[28,17,28,20],[28,30,29,31],[29,16,30,21],[22,6,23,7],[22,30,23,31],[24,6,25,6],[24,7,25,7],[24,30,25,30],[24,31,25,31],[25,9,26,10],[25,27,26,28],[26,6,27,6],[26,7,27,7],[31,15,32,16],[31,18,32,19],[31,21,32,22],[33,14,34,14],[33,15,34,15],[33,18,34,18],[33,19,34,19],[33,22,34,22],[26,30,27,30],[33,23,34,23],[34,6,35,7],[34,30,35,31],[35,16,35,21],[36,6,37,6],[36,7,37,7],[36,16,37,21],[36,30,37,30],[36,31,37,31],[37,9,38,10],[43,2,44,2],[43,12,44,13],[43,24,44,25],[43,36,44,36],[46,6,47,7],[46,30,47,31],[37,27,38,28],[38,6,39,6],[38,7,39,7],[38,30,39,30],[38,31,39,31],[40,6,41,7],[40,30,41,31],[48,6,49,6],[48,7,49,7],[48,30,49,30],[48,31,49,31],[49,9,50,10],[49,27,50,28],[50,6,51,6],[50,7,51,7],[50,30,51,30],[50,31,51,31],[52,6,53,7],[52,30,53,31],[55,1,55,4],[55,6,55,7],[55,9,55,10],[55,12,55,13],[55,15,55,22],[55,24,55,25],[55,27,55,28],[55,30,55,31],[73,35,73,36],[74,3,74,4],[74,13,74,16],[74,17,74,26],[74,35,74,36],[55,33,55,36],[57,20,57,21],[61,3,61,4],[64,3,64,4],[67,3,67,4],[68,3,68,4],[75,3,75,4],[75,13,75,16],[75,17,75,26],[76,3,76,4],[76,13,76,16],[76,17,76,26],[72,13,72,26],[73,3,73,4],[73,13,73,16],[73,17,73,26],[80,3,80,4],[80,13,80,16],[80,17,80,26],[81,3,81,4],[81,13,81,16],[81,17,81,26],[77,13,77,16],[77,17,77,26],[78,13,78,16],[78,17,78,26],[79,3,79,4],[79,13,79,16],[79,17,79,26],[90,3,90,4],[91,3,91,4],[92,3,92,4],[93,3,93,4],[94,3,94,4],[95,3,95,4],[82,3,82,4],[83,3,83,4],[84,3,84,4],[85,3,85,4],[86,3,86,4],[89,3,89,4],[102,3,102,4],[103,3,103,4],[104,3,104,4],[96,3,96,4],[97,3,97,4],[98,3,98,4],[99,3,99,4],[100,3,100,4],[101,3,101,4]]}
[]
[null,null,{"$f":"'Исходные данные по чемпионату'!C3","v":"Чемпионат ХМАО-Югры по СБЕ (ММА) среди муж. 18лет и старше,первенство среди юношей 16-17лет"}]
[]
[null,null,null,null,null,"ПРОТОКОЛ СОРЕВНОВАНИЙ",null,null,null,null,null,null,null,null,null,null,null,null,null,null,null,null,null,null,null,null,null,null,null,null,null,null,null,null,null,null,{"$f":"'Исходные данные по чемпионату'!C6","v":"г. Ханты-Мансийск"}]
[]
[null,null,null,null,null,null,null,null,null,null,null,null,null,null,null,null,null,null,null,null,null,"Весовая категория до","65,8",null,null,"кг",null,null,null,null,null,null,null,null,null,null,{"$f":"'Исходные данные по чемпионату'!C4","v":"с16 по 19 февраля 2018г."}]
[]
[]
[null,"№","Спортсмен","Шлем","Команда",null,null,null,null,null,null,null,null,null,null,null,null,null,null,null,null,null,null,null,null,null,null,null,null,null,null,null,null,"№","Спортсмен","Шлем","Команда"]
[]
[null,1,{"$f":"IFERROR(VLOOKUP(CONCATENATE(B11,\" вес \",$W$6),'Участники чемпионата'!$A:$AA,13,0),\"\")","v":"Мамедов Руслан"},{"$f":"IF(IFERROR(VLOOKUP(CONCATENATE(B11,\" вес \",$W$6),'Участники чемпионата'!$A:$AA,25,0),\"\")=\"Шлем\",\"Ш\",\"\")","v":""},{"$f":"IFERROR(VLOOKUP(CONCATENATE(B11,\" вес \",$W$6),'Участники чемпионата'!$A:$AA,5,0),\"\")","v":"Скорпион (г. Лангепас)"},null,null,null,{"$f":"IFERROR(VLOOKUP(CONCATENATE(G11,\" вес \",$W$6),'Участники чемпионата'!$A:$AF,32,0),\"\")","v":""},null,null,null,null,null,null,null,null,null,null,null,null,null,null,null,null,null,null,null,null,{"$f":"IFERROR(VLOOKUP(CONCATENATE(AE11,\" вес \",$W$6),'Участники чемпионата'!$A:$AF,32,0),\"\")","v":"Бердиев (Ш)"},2,null,null,2,{"$f":"IFERROR(VLOOKUP(CONCATENATE(AH11,\" вес \",$W$6),'Участники чемпионата'!$A:$AA,13,0),\"\")","v":"Бердиев Шахзод"},{"$f":"IF(IFERROR(VLOOKUP(CONCATENATE(AH11,\" вес \",$W$6),'Участники чемпионата'!$A:$AA,25,0),\"\")=\"Шлем\",\"Ш\",\"\")","v":"Ш"},{"$f":"IFERROR(VLOOKUP(CONCATENATE(AH11,\" вес \",$W$6),'Участники чемпионата'!$A:$AA,5,0),\"\")","v":"СДЮСШОР \"СПАРТАК\" (г.Нефтеюганск)"}]
[null,13,{"$f":"IFERROR(VLOOKUP(CONCATENATE(B12,\" вес \",$W$6),'Участники чемпионата'!$A:$AA,13,0),\"\")","v":""},{"$f":"IF(IFERROR(VLOOKUP(CONCATENATE(B12,\" вес \",$W$6),'Участники чемпионата'!$A:$AA,25,0),\"\")=\"Шлем\",\"Ш\",\"\")","v":""},{"$f":"IFERROR(VLOOKUP(CONCATENATE(B12,\" вес \",$W$6),'Участники чемпионата'!$A:$AA,5,0),\"\")","v":""}]
[]
[null,null,null,null,null,null,null,null,null,null,null,{"$f":"IFERROR(VLOOKUP(CONCATENATE(J14,\" вес \",$W$6),'Участники чемпионата'!$A:$AF,32,0),\"\")","v":""},null,null,null,null,null,null,null,null,null,null,null,null,null,null,{"$f":"IFERROR(VLOOKUP(CONCATENATE(AB14,\" вес \",$W$6),'Участники чемпионата'!$A:$AF,32,0),\"\")","v":""}]
[]
[]
[null,null,null,null,null,null,5,null,null,null,null,null,null,null,null,null,null,null,null,null,null,null,null,null,null,null,null,null,null,null,null,null,null,16,{"$f":"IFERROR(VLOOKUP(CONCATENATE(AH17,\" вес \",$W$6),'Участники чемпионата'!$A:$AA,13,0),\"\")","v":""},{"$f":"IF(IFERROR(VLOOKUP(CONCATENATE(AH17,\" вес \",$W$6),'Участники чемпионата'!$A:$AA,25,0),\"\")=\"Шлем\",\"Ш\",\"\")","v":""},{"$f":"IFERROR(VLOOKUP(CONCATENATE(AH17,\" вес \",$W$6),'Участники чемпионата'!$A:$AA,5,0),\"\")","v":""}]
[null,5,{"$f":"IFERROR(VLOOKUP(CONCATENATE(B18,\" вес \",$W$6),'Участники чемпионата'!$A:$AA,13,0),\"\")","v":"Григоров Максим"},{"$f":"IF(IFERROR(VLOOKUP(CONCATENATE(B18,\" вес \",$W$6),'Участники чемпионата'!$A:$AA,25,0),\"\")=\"Шлем\",\"Ш\",\"\")","v":""},{"$f":"IFERROR(VLOOKUP(CONCATENATE(B18,\" вес \",$W$6),'Участники чемпионата'!$A:$AA,5,0),\"\")","v":"г. Ханты-Мансийск"},null,null,null,{"$f":"IFERROR(VLOOKUP(CONCATENATE(G17,\" вес \",$W$6),'Участники чемпионата'!$A:$AF,32,0),\"\")","v":"Григоров "},null,null,null,null,null,null,null,null,null,null,null,null,null,null,null,null,null,null,null,null,{"$f":"IFERROR(VLOOKUP(CONCATENATE(AE17,\" вес \",$W$6),'Участники чемпионата'!$A:$AF,32,0),\"\")","v":""},null,null,null,6,{"$f":"IFERROR(VLOOKUP(CONCATENATE(AH18,\" вес \",$W$6),'Участники чемпионата'!$A:$AA,13,0),\"\")","v":"Адыгешаов Расим"},{"$f":"IF(IFERROR(VLOOKUP(CONCATENATE(AH18,\" вес \",$W$6),'Участники чемпионата'!$A:$AA,25,0),\"\")=\"Шлем\",\"Ш\",\"\")","v":"Ш"},{"$f":"IFERROR(VLOOKUP(CONCATENATE(AH18,\" вес \",$W$6),'Участники чемпионата'!$A:$AA,5,0),\"\")","v":"г. Сургут"}]
[]
[null,null,"A",null,null,null,null,null,null,null,null,null,null,null,{"$f":"IFERROR(VLOOKUP(CONCATENATE(M20,\" вес \",$W$6),'Участники чемпионата'!$A:$AF,32,0),\"\")","v":""},null,null,null,null,null,null,null,null,{"$f":"IFERROR(VLOOKUP(CONCATENATE(Y20,\" вес \",$W$6),'Участники чемпионата'!$A:$AF,32,0),\"\")","v":""},null,null,null,null,null,null,null,null,null,null,null,null,"C  "]
[]
[]
[null,7,{"$f":"IFERROR(VLOOKUP(CONCATENATE(B23,\" вес \",$W$6),'Участники чемпионата'!$A:$AA,13,0),\"\")","v":"Гаджиахмедов Магомед"},{"$f":"IF(IFERROR(VLOOKUP(CONCATENATE(B23,\" вес \",$W$6),'Участники чемпионата'!$A:$AA,25,0),\"\")=\"Шлем\",\"Ш\",\"\")","v":""},{"$f":"IFERROR(VLOOKUP(CONCATENATE(B23,\" вес \",$W$6),'Участники чемпионата'!$A:$AA,5,0),\"\")","v":"г. Сургут"},null,null,null,{"$f":"IFERROR(VLOOKUP(CONCATENATE(G23,\" вес \",$W$6),'Участники чемпионата'!$A:$AF,32,0),\"\")","v":""},null,null,null,null,null,null,null,null,null,null,null,null,null,null,null,null,null,null,null,null,{"$f":"IFERROR(VLOOKUP(CONCATENATE(AE23,\" вес \",$W$6),'Участники чемпионата'!$A:$AF,32,0),\"\")","v":""},null,null,null,22,{"$f":"IFERROR(VLOOKUP(CONCATENATE(AH23,\" вес \",$W$6),'Участники чемпионата'!$A:$AA,13,0),\"\")","v":""},{"$f":"IF(IFERROR(VLOOKUP(CONCATENATE(AH23,\" вес \",$W$6),'Участники чемпионата'!$A:$AA,25,0),\"\")=\"Шлем\",\"Ш\",\"\")","v":""},{"$f":"IFERROR(VLOOKUP(CONCATENATE(AH23,\" вес \",$W$6),'Участники чемпионата'!$A:$AA,5,0),\"\")","v":""}]
[null,21,{"$f":"IFERROR(VLOOKUP(CONCATENATE(B24,\" вес \",$W$6),'Участники чемпионата'!$A:$AA,13,0),\"\")","v":""},{"$f":"IF(IFERROR(VLOOKUP(CONCATENATE(B24,\" вес \",$W$6),'Участники чемпионата'!$A:$AA,25,0),\"\")=\"Шлем\",\"Ш\",\"\")","v":""},{"$f":"IFERROR(VLOOKUP(CONCATENATE(B24,\" вес \",$W$6),'Участники чемпионата'!$A:$AA,5,0),\"\")","v":""},null,null,null,null,null,null,null,null,null,null,null,null,null,null,null,null,null,null,null,null,null,null,null,null,null,null,null,null,10,{"$f":"IFERROR(VLOOKUP(CONCATENATE(AH24,\" вес \",$W$6),'Участники чемпионата'!$A:$AA,13,0),\"\")","v":"Магомедов Бурагим"},{"$f":"IF(IFERROR(VLOOKUP(CONCATENATE(AH24,\" вес \",$W$6),'Участники чемпионата'!$A:$AA,25,0),\"\")=\"Шлем\",\"Ш\",\"\")","v":""},{"$f":"IFERROR(VLOOKUP(CONCATENATE(AH24,\" вес \",$W$6),'Участники чемпионата'!$A:$AA,5,0),\"\")","v":"г. Нижневартовск"}]
[]
[]
[null,null,null,null,null,null,null,null,null,null,null,{"$f":"IFERROR(VLOOKUP(CONCATENATE(J26,\" вес \",$W$6),'Участники чемпионата'!$A:$AF,32,0),\"\")","v":""},null,null,null,null,null,null,null,null,null,null,null,null,null,null,{"$f":"IFERROR(VLOOKUP(CONCATENATE(AB26,\" вес \",$W$6),'Участники чемпионата'!$A:$AF,32,0),\"\")","v":""}]
[]
[null,null,null,null,null,null,11,null,null,null,null,null,null,null,null,null,null,"Чемпион",null,null,null,null,null,null,null,null,null,null,null,null,12]
[null,11,{"$f":"IFERROR(VLOOKUP(CONCATENATE(B30,\" вес \",$W$6),'Участники чемпионата'!$A:$AA,13,0),\"\")","v":""},{"$f":"IF(IFERROR(VLOOKUP(CONCATENATE(B30,\" вес \",$W$6),'Участники чемпионата'!$A:$AA,25,0),\"\")=\"Шлем\",\"Ш\",\"\")","v":""},{"$f":"IFERROR(VLOOKUP(CONCATENATE(B30,\" вес \",$W$6),'Участники чемпионата'!$A:$AA,5,0),\"\")","v":""},null,null,null,{"$f":"IFERROR(VLOOKUP(CONCATENATE(G29,\" вес \",$W$6),'Участники чемпионата'!$A:$AF,32,0),\"\")","v":""},null,null,null,null,null,null,null,{"$f":"IFERROR(VLOOKUP(CONCATENATE(S32,\" вес \",$W$6),'Участники чемпионата'!$A:$AA,7,0),\"\")","v":""},null,null,null,null,null,null,null,null,null,null,null,null,{"$f":"IFERROR(VLOOKUP(CONCATENATE(AE29,\" вес \",$W$6),'Участники чемпионата'!$A:$AF,32,0),\"\")","v":""},null,null,null,12,{"$f":"IFERROR(VLOOKUP(CONCATENATE(AH30,\" вес \",$W$6),'Участники чемпионата'!$A:$AA,13,0),\"\")","v":""},{"$f":"IF(IFERROR(VLOOKUP(CONCATENATE(AH30,\" вес \",$W$6),'Участники чемпионата'!$A:$AA,25,0),\"\")=\"Шлем\",\"Ш\",\"\")","v":""},{"$f":"IFERROR(VLOOKUP(CONCATENATE(AH30,\" вес \",$W$6),'Участники чемпионата'!$A:$AA,5,0),\"\")","v":""}]
[]
[null,null,null,null,null,null,null,null,null,null,null,null,null,null,{"$f":"IFERROR(VLOOKUP(CONCATENATE(P32,\" вес \",$W$6),'Участники чемпионата'!$A:$AF,32,0),\"\")","v":""},null,null,null,null,null,null,null,null,{"$f":"IFERROR(VLOOKUP(CONCATENATE(V32,\" вес \",$W$6),'Участники чемпионата'!$A:$AF,32,0),\"\")","v":""}]
[]
[]
[null,3,{"$f":"IFERROR(VLOOKUP(CONCATENATE(B35,\" вес \",$W$6),'Участники чемпионата'!$A:$AA,13,0),\"\")","v":"Рамазанов Джамал"},{"$f":"IF(IFERROR(VLOOKUP(CONCATENATE(B35,\" вес \",$W$6),'Участники чемпионата'!$A:$AA,25,0),\"\")=\"Шлем\",\"Ш\",\"\")","v":"Ш"},{"$f":"IFERROR(VLOOKUP(CONCATENATE(B35,\" вес \",$W$6),'Участники чемпионата'!$A:$AA,5,0),\"\")","v":"СДЮСШОР \"СПАРТАК\" (г.Нефтеюганск)"},null,null,null,{"$f":"IFERROR(VLOOKUP(CONCATENATE(G35,\" вес \",$W$6),'Участники чемпионата'!$A:$AF,32,0),\"\")","v":""},null,null,null,null,null,null,null,null,null,null,null,null,null,null,null,null,null,null,null,null,{"$f":"IFERROR(VLOOKUP(CONCATENATE(AE35,\" вес \",$W$6),'Участники чемпионата'!$A:$AF,32,0),\"\")","v":""},null,null,null,14,{"$f":"IFERROR(VLOOKUP(CONCATENATE(AH35,\" вес \",$W$6),'Участники чемпионата'!$A:$AA,13,0),\"\")","v":""},{"$f":"IF(IFERROR(VLOOKUP(CONCATENATE(AH35,\" вес \",$W$6),'Участники чемпионата'!$A:$AA,25,0),\"\")=\"Шлем\",\"Ш\",\"\")","v":""},{"$f":"IFERROR(VLOOKUP(CONCATENATE(AH35,\" вес \",$W$6),'Участники чемпионата'!$A:$AA,5,0),\"\")","v":""}]
[null,15,{"$f":"IFERROR(VLOOKUP(CONCATENATE(B36,\" вес \",$W$6),'Участники чемпионата'!$A:$AA,13,0),\"\")","v":""},{"$f":"IF(IFERROR(VLOOKUP(CONCATENATE(B36,\" вес \",$W$6),'Участники чемпионата'!$A:$AA,25,0),\"\")=\"Шлем\",\"Ш\",\"\")","v":""},{"$f":"IFERROR(VLOOKUP(CONCATENATE(B36,\" вес \",$W$6),'Участники чемпионата'!$A:$AA,5,0),\"\")","v":""},null,null,null,null,null,null,null,null,null,null,null,null,null,null,null,null,null,null,null,null,null,null,null,null,null,null,null,null,4,{"$f":"IFERROR(VLOOKUP(CONCATENATE(AH36,\" вес \",$W$6),'Участники чемпионата'!$A:$AA,13,0),\"\")","v":"Дадаев Мансур"},{"$f":"IF(IFERROR(VLOOKUP(CONCATENATE(AH36,\" вес \",$W$6),'Участники чемпионата'!$A:$AA,25,0),\"\")=\"Шлем\",\"Ш\",\"\")","v":"Ш"},{"$f":"IFERROR(VLOOKUP(CONCATENATE(AH36,\" вес \",$W$6),'Участники чемпионата'!$A:$AA,5,0),\"\")","v":"г. Ханты-Мансийск"}]
[]
[null,null,null,null,null,null,null,null,null,null,null,{"$f":"IFERROR(VLOOKUP(CONCATENATE(J38,\" вес \",$W$6),'Участники чемпионата'!$A:$AF,32,0),\"\")","v":""},null,null,null,null,null,null,null,null,null,null,null,null,null,null,{"$f":"IFERROR(VLOOKUP(CONCATENATE(AB38,\" вес \",$W$6),'Участники чемпионата'!$A:$AF,32,0),\"\")","v":""}]
[]
[]
[null,null,null,null,null,null,17,null,null,null,null,null,null,null,null,null,null,null,null,null,null,null,null,null,null,null,null,null,null,null,18]
[null,17,{"$f":"IFERROR(VLOOKUP(CONCATENATE(B42,\" вес \",$W$6),'Участники чемпионата'!$A:$AA,13,0),\"\")","v":""},{"$f":"IF(IFERROR(VLOOKUP(CONCATENATE(B42,\" вес \",$W$6),'Участники чемпионата'!$A:$AA,25,0),\"\")=\"Шлем\",\"Ш\",\"\")","v":""},{"$f":"IFERROR(VLOOKUP(CONCATENATE(B42,\" вес \",$W$6),'Участники чемпионата'!$A:$AA,5,0),\"\")","v":""},null,null,null,{"$f":"IFERROR(VLOOKUP(CONCATENATE(G41,\" вес \",$W$6),'Участники чемпионата'!$A:$AF,32,0),\"\")","v":""},null,null,null,null,null,null,null,null,null,null,null,null,null,null,null,null,null,null,null,null,{"$f":"IFERROR(VLOOKUP(CONCATENATE(AE41,\" вес \",$W$6),'Участники чемпионата'!$A:$AF,32,0),\"\")","v":""},null,null,null,18,{"$f":"IFERROR(VLOOKUP(CONCATENATE(AH42,\" вес \",$W$6),'Участники чемпионата'!$A:$AA,13,0),\"\")","v":""},{"$f":"IF(IFERROR(VLOOKUP(CONCATENATE(AH42,\" вес \",$W$6),'Участники чемпионата'!$A:$AA,25,0),\"\")=\"Шлем\",\"Ш\",\"\")","v":""},{"$f":"IFERROR(VLOOKUP(CONCATENATE(AH42,\" вес \",$W$6),'Участники чемпионата'!$A:$AA,5,0),\"\")","v":""}]
[]
[null,null,"B",null,null,null,null,null,null,null,null,null,null,null,null,null,null,null,null,null,null,null,null,null,null,null,null,null,null,null,null,null,null,null,null,null,"D  "]
[null,null,null,null,null,null,null,null,null,null,null,null,null,null,{"$f":"IFERROR(VLOOKUP(CONCATENATE(M44,\" вес \",$W$6),'Участники чемпионата'!$A:$AF,32,0),\"\")","v":""},null,null,null,null,null,null,null,null,{"$f":"IFERROR(VLOOKUP(CONCATENATE(Y44,\" вес \",$W$6),'Участники чемпионата'!$A:$AF,32,0),\"\")","v":""}]
[]
[null,19,{"$f":"IFERROR(VLOOKUP(CONCATENATE(B47,\" вес \",$W$6),'Участники чемпионата'!$A:$AA,13,0),\"\")","v":""},{"$f":"IF(IFERROR(VLOOKUP(CONCATENATE(B47,\" вес \",$W$6),'Участники чемпионата'!$A:$AA,25,0),\"\")=\"Шлем\",\"Ш\",\"\")","v":""},{"$f":"IFERROR(VLOOKUP(CONCATENATE(B47,\" вес \",$W$6),'Участники чемпионата'!$A:$AA,5,0),\"\")","v":""},null,null,null,{"$f":"IFERROR(VLOOKUP(CONCATENATE(G47,\" вес \",$W$6),'Участники чемпионата'!$A:$AF,32,0),\"\")","v":""},null,null,null,null,null,null,null,null,null,null,null,null,null,null,null,null,null,null,null,null,{"$f":"IFERROR(VLOOKUP(CONCATENATE(AE47,\" вес \",$W$6),'Участники чемпионата'!$A:$AF,32,0),\"\")","v":""},20,null,null,20,{"$f":"IFERROR(VLOOKUP(CONCATENATE(AH47,\" вес \",$W$6),'Участники чемпионата'!$A:$AA,13,0),\"\")","v":""},{"$f":"IF(IFERROR(VLOOKUP(CONCATENATE(AH47,\" вес \",$W$6),'Участники чемпионата'!$A:$AA,25,0),\"\")=\"Шлем\",\"Ш\",\"\")","v":""},{"$f":"IFERROR(VLOOKUP(CONCATENATE(AH47,\" вес \",$W$6),'Участники чемпионата'!$A:$AA,5,0),\"\")","v":""}]
[null,9,{"$f":"IFERROR(VLOOKUP(CONCATENATE(B48,\" вес \",$W$6),'Участники чемпионата'!$A:$AA,13,0),\"\")","v":"Касумов  Али"},{"$f":"IF(IFERROR(VLOOKUP(CONCATENATE(B48,\" вес \",$W$6),'Участники чемпионата'!$A:$AA,25,0),\"\")=\"Шлем\",\"Ш\",\"\")","v":""},{"$f":"IFERROR(VLOOKUP(CONCATENATE(B48,\" вес \",$W$6),'Участники чемпионата'!$A:$AA,5,0),\"\")","v":"г. Сургут"}]
[]
[]
[null,null,null,null,null,null,null,null,null,null,null,{"$f":"IFERROR(VLOOKUP(CONCATENATE(J50,\" вес \",$W$6),'Участники чемпионата'!$A:$AF,32,0),\"\")","v":""},null,null,null,null,null,null,null,null,null,null,null,null,null,null,{"$f":"IFERROR(VLOOKUP(CONCATENATE(AB50,\" вес \",$W$6),'Участники чемпионата'!$A:$AF,32,0),\"\")","v":""}]
[]
[null,null,null,null,null,null,23,null,null,null,null,null,null,null,null,null,null,null,null,null,null,null,null,null,null,null,null,null,null,null,null,null,null,8,{"$f":"IFERROR(VLOOKUP(CONCATENATE(AH53,\" вес \",$W$6),'Участники чемпионата'!$A:$AA,13,0),\"\")","v":"Ильясов Гасан"},{"$f":"IF(IFERROR(VLOOKUP(CONCATENATE(AH53,\" вес \",$W$6),'Участники чемпионата'!$A:$AA,25,0),\"\")=\"Шлем\",\"Ш\",\"\")","v":"Ш"},{"$f":"IFERROR(VLOOKUP(CONCATENATE(AH53,\" вес \",$W$6),'Участники чемпионата'!$A:$AA,5,0),\"\")","v":"г. Сургут"}]
[null,23,{"$f":"IFERROR(VLOOKUP(CONCATENATE(B54,\" вес \",$W$6),'Участники чемпионата'!$A:$AA,13,0),\"\")","v":""},{"$f":"IF(IFERROR(VLOOKUP(CONCATENATE(B54,\" вес \",$W$6),'Участники чемпионата'!$A:$AA,25,0),\"\")=\"Шлем\",\"Ш\",\"\")","v":""},{"$f":"IFERROR(VLOOKUP(CONCATENATE(B54,\" вес \",$W$6),'Участники чемпионата'!$A:$AA,5,0),\"\")","v":""},null,null,null,{"$f":"IFERROR(VLOOKUP(CONCATENATE(G53,\" вес \",$W$6),'Участники чемпионата'!$A:$AF,32,0),\"\")","v":""},null,null,null,null,null,null,null,null,null,null,null,null,null,null,null,null,null,null,null,null,{"$f":"IFERROR(VLOOKUP(CONCATENATE(AE53,\" вес \",$W$6),'Участники чемпионата'!$A:$AF,32,0),\"\")","v":""},null,null,null,24,{"$f":"IFERROR(VLOOKUP(CONCATENATE(AH54,\" вес \",$W$6),'Участники чемпионата'!$A:$AA,13,0),\"\")","v":""},{"$f":"IF(IFERROR(VLOOKUP(CONCATENATE(AH54,\" вес \",$W$6),'Участники чемпионата'!$A:$AA,25,0),\"\")=\"Шлем\",\"Ш\",\"\")","v":""},{"$f":"IFERROR(VLOOKUP(CONCATENATE(AH54,\" вес \",$W$6),'Участники чемпионата'!$A:$AA,5,0),\"\")","v":""}]
[]
[null,"1/16",null,null,null,null,"1/8",null,null,"1/4",null,null,"1/2",null,null,"Финал",null,null,null,null,null,null,null,null,"1/2",null,null,"1/4",null,null,"1/8",null,null,"1/16"]
[]
[null,null,null,null,null,null,null,null,null,null,null,null,null,null,null,null,null,null,null,"Участников:",{"$f":"HLOOKUP(W6,Мандатка!$C$4:$I$5,2,0)","v":10}]
[]
[]
[null,null,"1 место"]
[null,{"$f":"IF(S32=\"\",\"\",S32)","v":""},{"$f":"IF(B62=\"\",\"\",IFERROR(VLOOKUP(CONCATENATE(B62,\" вес \",$W$6),'Участники чемпионата'!$A:$AA,13,0),\"\"))","v":""},{"$f":"IF(B62=\"\",\"\",IFERROR(VLOOKUP(CONCATENATE(B62,\" вес \",$W$6),'Участники чемпионата'!$A:$AA,5,0),\"\"))","v":""}]
[]
[null,null,"2 место"]
[null,{"$f":"IF(S32=\"\",\"\",IF(S32=V32,P32,V32))","v":""},{"$f":"IF(B65=\"\",\"\",IFERROR(VLOOKUP(CONCATENATE(B65,\" вес \",$W$6),'Участники чемпионата'!$A:$AA,13,0),\"\"))","v":""},{"$f":"IF(B65=\"\",\"\",IFERROR(VLOOKUP(CONCATENATE(B65,\" вес \",$W$6),'Участники чемпионата'!$A:$AA,5,0),\"\"))","v":""},null,null,null,null,null,null,null,null,null,null,null,null,null,null,null,null,null,null,null,null,null,null,null,null,null,null,null,null,null,"Главный судья соревнований",null,"/",{"$f":"IF(VLOOKUP(AH65,'Исходные данные по чемпионату'!B:C,2,0)=0,\"\",VLOOKUP(AH65,'Исходные данные по чемпионату'!B:C,2,0))","v":"Карташков К.В."},"/"]
[]
[null,null,"3 место"]
[null,{"$f":"IF(P32=\"\",\"\",IF(P32=M44,M20,M44))","v":""},{"$f":"IF(B68=\"\",\"\",IFERROR(VLOOKUP(CONCATENATE(B68,\" вес \",$W$6),'Участники чемпионата'!$A:$AA,13,0),\"\"))","v":""},{"$f":"IF(B68=\"\",\"\",IFERROR(VLOOKUP(CONCATENATE(B68,\" вес \",$W$6),'Участники чемпионата'!$A:$AA,5,0),\"\"))","v":""}]
[null,{"$f":"IF(V32=\"\",\"\",IF(V32=Y44,Y20,Y44))","v":""},{"$f":"IF(B69=\"\",\"\",IFERROR(VLOOKUP(CONCATENATE(B69,\" вес \",$W$6),'Участники чемпионата'!$A:$AA,13,0),\"\"))","v":""},{"$f":"IF(B69=\"\",\"\",IFERROR(VLOOKUP(CONCATENATE(B69,\" вес \",$W$6),'Участники чемпионата'!$A:$AA,5,0),\"\"))","v":""},null,null,null,null,null,null,null,null,null,null,null,null,null,null,null,null,null,null,null,null,null,null,null,null,null,null,null,null,null,"Главный секретарь",null,"/",{"$f":"IF(VLOOKUP(AH69,'Исходные данные по чемпионату'!B:C,2,0)=0,\"\",VLOOKUP(AH69,'Исходные данные по чемпионату'!B:C,2,0))","v":"Толстыгин А.Ю."},"/"]
[]
[null,null,null,null,null,null,null,null,null,null,null,null,null,null,null,null,null,null,null,null,null,null,null,null,null,null,null,null,null,null,null,null,null,null,null,null,null,0]
[]
[null,null,"5-8 места",null,null,null,null,null,null,null,null,null,null,"Результат боя описание",null,null,null,null,null,null,null,null,null,null,null,null,null,null,null,null,null,null,null,null,"Финалисты"]
[null,{"$f":"IF(M20=\"\",\"\",IF(OR(J14-M20=0),J26,J14))","v":""},{"$f":"IF(B74=\"\",\"\",IFERROR(VLOOKUP(CONCATENATE(B74,\" вес \",$W$6),'Участники чемпионата'!$A:$AA,13,0),\"\"))","v":""},{"$f":"IF(B74=\"\",\"\",IFERROR(VLOOKUP(CONCATENATE(B74,\" вес \",$W$6),'Участники чемпионата'!$A:$AA,5,0),\"\"))","v":""},null,null,null,null,null,null,null,null,null,{"$f":"'Unvisible Списки'!C9","v":"(ПО)"},null,null,null,{"$f":"'Unvisible Списки'!C27","v":"по очкам"},null,null,null,null,null,null,null,null,null,null,null,null,null,null,null,{"$f":"IF(P32=\"\",\"\",P32)","v":""},{"$f":"IFERROR(VLOOKUP(CONCATENATE(AH74,\" вес \",$W$6),'Участники чемпионата'!$A:$AA,13,0),\"\")","v":""},{"$f":"IFERROR(VLOOKUP(CONCATENATE(AH74,\" вес \",$W$6),'Участники чемпионата'!$A:$AA,5,0),\"\")","v":""}]
[null,{"$f":"IF(M44=\"\",\"\",IF(OR(J38-M44=0),J50,J38))","v":""},{"$f":"IF(B75=\"\",\"\",IFERROR(VLOOKUP(CONCATENATE(B75,\" вес \",$W$6),'Участники чемпионата'!$A:$AA,13,0),\"\"))","v":""},{"$f":"IF(B75=\"\",\"\",IFERROR(VLOOKUP(CONCATENATE(B75,\" вес \",$W$6),'Участники чемпионата'!$A:$AA,5,0),\"\"))","v":""},null,null,null,null,null,null,null,null,null,{"$f":"'Unvisible Списки'!C10","v":"(КО)"},null,null,null,{"$f":"'Unvisible Списки'!C28","v":"нокаут"},null,null,null,null,null,null,null,null,null,null,null,null,null,null,null,{"$f":"IF(V32=\"\",\"\",V32)","v":""},{"$f":"IFERROR(VLOOKUP(CONCATENATE(AH75,\" вес \",$W$6),'Участники чемпионата'!$A:$AA,13,0),\"\")","v":""},{"$f":"IFERROR(VLOOKUP(CONCATENATE(AH75,\" вес \",$W$6),'Участники чемпионата'!$A:$AA,5,0),\"\")","v":""}]
[null,{"$f":"IF(Y20=\"\",\"\",IF(OR(AB14-Y20=0),AB26,AB14))","v":""},{"$f":"IF(B76=\"\",\"\",IFERROR(VLOOKUP(CONCATENATE(B76,\" вес \",$W$6),'Участники чемпионата'!$A:$AA,13,0),\"\"))","v":""},{"$f":"IF(B76=\"\",\"\",IFERROR(VLOOKUP(CONCATENATE(B76,\" вес \",$W$6),'Участники чемпионата'!$A:$AA,5,0),\"\"))","v":""},null,null,null,null,null,null,null,null,null,{"$f":"'Unvisible Списки'!C11","v":"(БЛ)"},null,null,null,{"$f":"'Unvisible Списки'!C29","v":"болевой/удушающий"}]
[null,{"$f":"IF(Y44=\"\",\"\",IF(OR(AB38-Y44=0),AB50,AB38))","v":""},{"$f":"IF(B77=\"\",\"\",IFERROR(VLOOKUP(CONCATENATE(B77,\" вес \",$W$6),'Участники чемпионата'!$A:$AA,13,0),\"\"))","v":""},{"$f":"IF(B77=\"\",\"\",IFERROR(VLOOKUP(CONCATENATE(B77,\" вес \",$W$6),'Участники чемпионата'!$A:$AA,5,0),\"\"))","v":""},null,null,null,null,null,null,null,null,null,{"$f":"'Unvisible Списки'!C12","v":"(ТКО)"},null,null,null,{"$f":"'Unvisible Списки'!C30","v":"технический нокаут"}]
[null,null,null,null,null,null,null,null,null,null,null,null,null,{"$f":"'Unvisible Списки'!C13","v":"(СН)"},null,null,null,{"$f":"'Unvisible Списки'!C31","v":"снятие врачом"}]
[null,null,"9-16 места",null,null,null,null,null,null,null,null,null,null,{"$f":"'Unvisible Списки'!C14","v":"(ОТК)"},null,null,null,{"$f":"'Unvisible Списки'!C32","v":"отказ продолжать бой"}]
[null,{"$f":"IF(J14=\"\",\"\",IF(OR(G11-J14=0),G17,G11))","v":""},{"$f":"IF(B80=\"\",\"\",IFERROR(VLOOKUP(CONCATENATE(B80,\" вес \",$W$6),'Участники чемпионата'!$A:$AA,13,0),\"\"))","v":""},{"$f":"IF(B80=\"\",\"\",IFERROR(VLOOKUP(CONCATENATE(B80,\" вес \",$W$6),'Участники чемпионата'!$A:$AA,5,0),\"\"))","v":""},null,null,null,null,null,null,null,null,null,{"$f":"'Unvisible Списки'!C15","v":"(ДСК)"},null,null,null,{"$f":"'Unvisible Списки'!C33","v":"Дисквалификация"}]
[null,{"$f":"IF(J26=\"\",\"\",IF(OR(G23-J26=0),G29,G23))","v":""},{"$f":"IF(B81=\"\",\"\",IFERROR(VLOOKUP(CONCATENATE(B81,\" вес \",$W$6),'Участники чемпионата'!$A:$AA,13,0),\"\"))","v":""},{"$f":"IF(B81=\"\",\"\",IFERROR(VLOOKUP(CONCATENATE(B81,\" вес \",$W$6),'Участники чемпионата'!$A:$AA,5,0),\"\"))","v":""},null,null,null,null,null,null,null,null,null,{"$f":"'Unvisible Списки'!C16","v":"(РГСК)"},null,null,null,{"$f":"'Unvisible Списки'!C34","v":"решение главного судьи СК"}]
[null,{"$f":"IF(J38=\"\",\"\",IF(OR(G35-J38=0),G41,G35))","v":""},{"$f":"IF(B82=\"\",\"\",IFERROR(VLOOKUP(CONCATENATE(B82,\" вес \",$W$6),'Участники чемпионата'!$A:$AA,13,0),\"\"))","v":""},{"$f":"IF(B82=\"\",\"\",IFERROR(VLOOKUP(CONCATENATE(B82,\" вес \",$W$6),'Участники чемпионата'!$A:$AA,5,0),\"\"))","v":""},null,null,null,null,null,null,null,null,null,{"$f":"'Unvisible Списки'!C17","v":"(НЯ)"},null,null,null,{"$f":"'Unvisible Списки'!C35","v":"неявка"}]
[null,{"$f":"IF(J50=\"\",\"\",IF(OR(G47-J50=0),G53,G47))","v":""},{"$f":"IF(B83=\"\",\"\",IFERROR(VLOOKUP(CONCATENATE(B83,\" вес \",$W$6),'Участники чемпионата'!$A:$AA,13,0),\"\"))","v":""},{"$f":"IF(B83=\"\",\"\",IFERROR(VLOOKUP(CONCATENATE(B83,\" вес \",$W$6),'Участники чемпионата'!$A:$AA,5,0),\"\"))","v":""}]
[null,{"$f":"IF(AB14=\"\",\"\",IF(OR(AE11-AB14=0),AE17,AE11))","v":""},{"$f":"IF(B84=\"\",\"\",IFERROR(VLOOKUP(CONCATENATE(B84,\" вес \",$W$6),'Участники чемпионата'!$A:$AA,13,0),\"\"))","v":""},{"$f":"IF(B84=\"\",\"\",IFERROR(VLOOKUP(CONCATENATE(B84,\" вес \",$W$6),'Участники чемпионата'!$A:$AA,5,0),\"\"))","v":""}]
[null,{"$f":"IF(AB26=\"\",\"\",IF(OR(AE23-AB26=0),AE29,AE23))","v":""},{"$f":"IF(B85=\"\",\"\",IFERROR(VLOOKUP(CONCATENATE(B85,\" вес \",$W$6),'Участники чемпионата'!$A:$AA,13,0),\"\"))","v":""},{"$f":"IF(B85=\"\",\"\",IFERROR(VLOOKUP(CONCATENATE(B85,\" вес \",$W$6),'Участники чемпионата'!$A:$AA,5,0),\"\"))","v":""}]
[null,{"$f":"IF(AB38=\"\",\"\",IF(OR(AE35-AB38=0),AE41,AE35))","v":""},{"$f":"IF(B86=\"\",\"\",IFERROR(VLOOKUP(CONCATENATE(B86,\" вес \",$W$6),'Участники чемпионата'!$A:$AA,13,0),\"\"))","v":""},{"$f":"IF(B86=\"\",\"\",IFERROR(VLOOKUP(CONCATENATE(B86,\" вес \",$W$6),'Участники чемпионата'!$A:$AA,5,0),\"\"))","v":""}]
[null,{"$f":"IF(AB50=\"\",\"\",IF(OR(AE47-AB50=0),AE53,AE47))","v":""},{"$f":"IF(B87=\"\",\"\",IFERROR(VLOOKUP(CONCATENATE(B87,\" вес \",$W$6),'Участники чемпионата'!$A:$AA,13,0),\"\"))","v":""},{"$f":"IF(B87=\"\",\"\",IFERROR(VLOOKUP(CONCATENATE(B87,\" вес \",$W$6),'Участники чемпионата'!$A:$AA,5,0),\"\"))","v":""}]
[]
[null,null,"17-32 места"]
[null,{"$f":"IF(G11=\"\",\"\",IF(OR(B11-G11=0),B12,B11))","v":""},{"$f":"IF(B90=\"\",\"\",IFERROR(VLOOKUP(CONCATENATE(B90,\" вес \",$W$6),'Участники чемпионата'!$A:$AA,13,0),\"\"))","v":""},{"$f":"IF(B90=\"\",\"\",IFERROR(VLOOKUP(CONCATENATE(B90,\" вес \",$W$6),'Участники чемпионата'!$A:$AA,5,0),\"\"))","v":""}]
[null,{"$f":"IF(G17=\"\",\"\",IF(OR(B17-G17=0),B18,B17))","v":0},{"$f":"IF(B91=\"\",\"\",IFERROR(VLOOKUP(CONCATENATE(B91,\" вес \",$W$6),'Участники чемпионата'!$A:$AA,13,0),\"\"))","v":""},{"$f":"IF(B91=\"\",\"\",IFERROR(VLOOKUP(CONCATENATE(B91,\" вес \",$W$6),'Участники чемпионата'!$A:$AA,5,0),\"\"))","v":""}]
[null,{"$f":"IF(G23=\"\",\"\",IF(OR(B23-G23=0),B24,B23))","v":""},{"$f":"IF(B92=\"\",\"\",IFERROR(VLOOKUP(CONCATENATE(B92,\" вес \",$W$6),'Участники чемпионата'!$A:$AA,13,0),\"\"))","v":""},{"$f":"IF(B92=\"\",\"\",IFERROR(VLOOKUP(CONCATENATE(B92,\" вес \",$W$6),'Участники чемпионата'!$A:$AA,5,0),\"\"))","v":""}]
[null,{"$f":"IF(G29=\"\",\"\",IF(G29=\"\",\"\",IF(OR(B29-G29=0),B30,B29)))","v":0},{"$f":"IF(B93=\"\",\"\",IFERROR(VLOOKUP(CONCATENATE(B93,\" вес \",$W$6),'Участники чемпионата'!$A:$AA,13,0),\"\"))","v":""},{"$f":"IF(B93=\"\",\"\",IFERROR(VLOOKUP(CONCATENATE(B93,\" вес \",$W$6),'Участники чемпионата'!$A:$AA,5,0),\"\"))","v":""}]
[null,{"$f":"IF(G35=\"\",\"\",IF(OR(B35-G35=0),B36,B35))","v":""},{"$f":"IF(B94=\"\",\"\",IFERROR(VLOOKUP(CONCATENATE(B94,\" вес \",$W$6),'Участники чемпионата'!$A:$AA,13,0),\"\"))","v":""},{"$f":"IF(B94=\"\",\"\",IFERROR(VLOOKUP(CONCATENATE(B94,\" вес \",$W$6),'Участники чемпионата'!$A:$AA,5,0),\"\"))","v":""}]
[null,{"$f":"IF(G41=\"\",\"\",IF(OR(B41-G41=0),B42,B41))","v":0},{"$f":"IF(B95=\"\",\"\",IFERROR(VLOOKUP(CONCATENATE(B95,\" вес \",$W$6),'Участники чемпионата'!$A:$AA,13,0),\"\"))","v":""},{"$f":"IF(B95=\"\",\"\",IFERROR(VLOOKUP(CONCATENATE(B95,\" вес \",$W$6),'Участники чемпионата'!$A:$AA,5,0),\"\"))","v":""}]
[null,{"$f":"IF(G47=\"\",\"\",IF(OR(B47-G47=0),B48,B47))","v":""},{"$f":"IF(B96=\"\",\"\",IFERROR(VLOOKUP(CONCATENATE(B96,\" вес \",$W$6),'Участники чемпионата'!$A:$AA,13,0),\"\"))","v":""},{"$f":"IF(B96=\"\",\"\",IFERROR(VLOOKUP(CONCATENATE(B96,\" вес \",$W$6),'Участники чемпионата'!$A:$AA,5,0),\"\"))","v":""}]
[null,{"$f":"IF(G53=\"\",\"\",IF(OR(B53-G53=0),B54,B53))","v":0},{"$f":"IF(B97=\"\",\"\",IFERROR(VLOOKUP(CONCATENATE(B97,\" вес \",$W$6),'Участники чемпионата'!$A:$AA,13,0),\"\"))","v":""},{"$f":"IF(B97=\"\",\"\",IFERROR(VLOOKUP(CONCATENATE(B97,\" вес \",$W$6),'Участники чемпионата'!$A:$AA,5,0),\"\"))","v":""}]
[null,{"$f":"IF(AE11=\"\",\"\",IF(OR(AH11-AE11=0),AH12,AH11))","v":0},{"$f":"IF(B98=\"\",\"\",IFERROR(VLOOKUP(CONCATENATE(B98,\" вес \",$W$6),'Участники чемпионата'!$A:$AA,13,0),\"\"))","v":""},{"$f":"IF(B98=\"\",\"\",IFERROR(VLOOKUP(CONCATENATE(B98,\" вес \",$W$6),'Участники чемпионата'!$A:$AA,5,0),\"\"))","v":""}]
[null,{"$f":"IF(AE17=\"\",\"\",IF(OR(AH17-AE17=0),AH18,AH17))","v":""},{"$f":"IF(B99=\"\",\"\",IFERROR(VLOOKUP(CONCATENATE(B99,\" вес \",$W$6),'Участники чемпионата'!$A:$AA,13,0),\"\"))","v":""},{"$f":"IF(B99=\"\",\"\",IFERROR(VLOOKUP(CONCATENATE(B99,\" вес \",$W$6),'Участники чемпионата'!$A:$AA,5,0),\"\"))","v":""}]
[null,{"$f":"IF(AE23=\"\",\"\",IF(OR(AH23-AE23=0),AH24,AH23))","v":""},{"$f":"IF(B100=\"\",\"\",IFERROR(VLOOKUP(CONCATENATE(B100,\" вес \",$W$6),'Участники чемпионата'!$A:$AA,13,0),\"\"))","v":""},{"$f":"IF(B100=\"\",\"\",IFERROR(VLOOKUP(CONCATENATE(B100,\" вес \",$W$6),'Участники чемпионата'!$A:$AA,5,0),\"\"))","v":""}]
[null,{"$f":"IF(AE29=\"\",\"\",IF(OR(AH29-AE29=0),AH30,AH29))","v":0},{"$f":"IF(B101=\"\",\"\",IFERROR(VLOOKUP(CONCATENATE(B101,\" вес \",$W$6),'Участники чемпионата'!$A:$AA,13,0),\"\"))","v":""},{"$f":"IF(B101=\"\",\"\",IFERROR(VLOOKUP(CONCATENATE(B101,\" вес \",$W$6),'Участники чемпионата'!$A:$AA,5,0),\"\"))","v":""}]
[null,{"$f":"IF(AE35=\"\",\"\",IF(OR(AH35-AE35=0),AH36,AH35))","v":""},{"$f":"IF(B102=\"\",\"\",IFERROR(VLOOKUP(CONCATENATE(B102,\" вес \",$W$6),'Участники чемпионата'!$A:$AA,13,0),\"\"))","v":""},{"$f":"IF(B102=\"\",\"\",IFERROR(VLOOKUP(CONCATENATE(B102,\" вес \",$W$6),'Участники чемпионата'!$A:$AA,5,0),\"\"))","v":""}]
[null,{"$f":"IF(AE41=\"\",\"\",IF(OR(AH41-AE41=0),AH42,AH41))","v":0},{"$f":"IF(B103=\"\",\"\",IFERROR(VLOOKUP(CONCATENATE(B103,\" вес \",$W$6),'Участники чемпионата'!$A:$AA,13,0),\"\"))","v":""},{"$f":"IF(B103=\"\",\"\",IFERROR(VLOOKUP(CONCATENATE(B103,\" вес \",$W$6),'Участники чемпионата'!$A:$AA,5,0),\"\"))","v":""}]
[null,{"$f":"IF(AE47=\"\",\"\",IF(OR(AH47-AE47=0),AH48,AH47))","v":0},{"$f":"IF(B104=\"\",\"\",IFERROR(VLOOKUP(CONCATENATE(B104,\" вес \",$W$6),'Участники чемпионата'!$A:$AA,13,0),\"\"))","v":""},{"$f":"IF(B104=\"\",\"\",IFERROR(VLOOKUP(CONCATENATE(B104,\" вес \",$W$6),'Участники чемпионата'!$A:$AA,5,0),\"\"))","v":""}]
[null,{"$f":"IF(AE53=\"\",\"\",IF(OR(AH53-AE53=0),AH54,AH53))","v":""},{"$f":"IF(B105=\"\",\"\",IFERROR(VLOOKUP(CONCATENATE(B105,\" вес \",$W$6),'Участники чемпионата'!$A:$AA,13,0),\"\"))","v":""},{"$f":"IF(B105=\"\",\"\",IFERROR(VLOOKUP(CONCATENATE(B105,\" вес \",$W$6),'Участники чемпионата'!$A:$AA,5,0),\"\"))","v":""}]

{"sheet":"Сетка22","index":5,"n_rows":105,"n_cols":38,"rows_kept":105,"cut":false,"hidden":true,"merged":[[1,2,1,36],[3,5,3,33],[3,36,4,36],[5,22,5,24],[10,6,11,7],[10,30,11,31],[16,6,17,7],[16,30,17,31],[19,2,20,2],[19,12,20,13],[19,24,20,25],[19,36,20,36],[12,6,13,6],[12,7,13,7],[12,30,13,30],[12,31,13,31],[13,9,14,10],[13,27,14,28],[14,6,15,6],[14,7,15,7],[14,30,15,30],[14,31,15,31],[26,31,27,31],[28,6,29,7],[28,17,28,20],[28,30,29,31],[29,16,30,21],[22,6,23,7],[22,30,23,31],[24,6,25,6],[24,7,25,7],[24,30,25,30],[24,31,25,31],[25,9,26,10],[25,27,26,28],[26,6,27,6],[26,7,27,7],[31,15,32,16],[31,18,32,19],[31,21,32,22],[33,14,34,14],[33,15,34,15],[33,18,34,18],[33,19,34,19],[33,22,34,22],[26,30,27,30],[33,23,34,23],[34,6,35,7],[34,30,35,31],[35,16,35,21],[36,6,37,6],[36,7,37,7],[36,16,37,21],[36,30,37,30],[36,31,37,31],[37,9,38,10],[43,2,44,2],[43,12,44,13],[43,24,44,25],[43,36,44,36],[46,6,47,7],[46,30,47,31],[37,27,38,28],[38,6,39,6],[38,7,39,7],[38,30,39,30],[38,31,39,31],[40,6,41,7],[40,30,41,31],[48,6,49,6],[48,7,49,7],[48,30,49,30],[48,31,49,31],[49,9,50,10],[49,27,50,28],[50,6,51,6],[50,7,51,7],[50,30,51,30],[50,31,51,31],[52,6,53,7],[52,30,53,31],[55,1,55,4],[55,6,55,7],[55,9,55,10],[55,12,55,13],[55,15,55,22],[55,24,55,25],[55,27,55,28],[55,30,55,31],[73,35,73,36],[74,3,74,4],[74,13,74,16],[74,17,74,26],[74,35,74,36],[55,33,55,36],[57,20,57,21],[61,3,61,4],[64,3,64,4],[67,3,67,4],[68,3,68,4],[75,3,75,4],[75,13,75,16],[75,17,75,26],[76,3,76,4],[76,13,76,16],[76,17,76,26],[72,13,72,26],[73,3,73,4],[73,13,73,16],[73,17,73,26],[80,3,80,4],[80,13,80,16],[80,17,80,26],[81,3,81,4],[81,13,81,16],[81,17,81,26],[77,13,77,16],[77,17,77,26],[78,13,78,16],[78,17,78,26],[79,3,79,4],[79,13,79,16],[79,17,79,26],[90,3,90,4],[91,3,91,4],[92,3,92,4],[93,3,93,4],[94,3,94,4],[95,3,95,4],[82,3,82,4],[83,3,83,4],[84,3,84,4],[85,3,85,4],[86,3,86,4],[89,3,89,4],[102,3,102,4],[103,3,103,4],[104,3,104,4],[96,3,96,4],[97,3,97,4],[98,3,98,4],[99,3,99,4],[100,3,100,4],[101,3,101,4]]}
[]
[null,null,{"$f":"'Исходные данные по чемпионату'!C3","v":"Чемпионат ХМАО-Югры по СБЕ (ММА) среди муж. 18лет и старше,первенство среди юношей 16-17лет"}]
[]
[null,null,null,null,null,"ПРОТОКОЛ СОРЕВНОВАНИЙ",null,null,null,null,null,null,null,null,null,null,null,null,null,null,null,null,null,null,null,null,null,null,null,null,null,null,null,null,null,null,{"$f":"'Исходные данные по чемпионату'!C6","v":"г. Ханты-Мансийск"}]
[]
[null,null,null,null,null,null,null,null,null,null,null,null,null,null,null,null,null,null,null,null,null,"Весовая категория до","65,8",null,null,"кг",null,null,null,null,null,null,null,null,null,null,{"$f":"'Исходные данные по чемпионату'!C4","v":"с16 по 19 февраля 2018г."}]
[]
[]
[null,"№","Спортсмен","Шлем","Команда",null,null,null,null,null,null,null,null,null,null,null,null,null,null,null,null,null,null,null,null,null,null,null,null,null,null,null,null,"№","Спортсмен","Шлем","Команда"]
[]
[null,1,{"$f":"IFERROR(VLOOKUP(CONCATENATE(B11,\" вес \",$W$6),'Участники чемпионата'!$A:$AA,13,0),\"\")","v":"Мамедов Руслан"},{"$f":"IF(IFERROR(VLOOKUP(CONCATENATE(B11,\" вес \",$W$6),'Участники чемпионата'!$A:$AA,25,0),\"\")=\"Шлем\",\"Ш\",\"\")","v":""},{"$f":"IFERROR(VLOOKUP(CONCATENATE(B11,\" вес \",$W$6),'Участники чемпионата'!$A:$AA,5,0),\"\")","v":"Скорпион (г. Лангепас)"},null,1,null,{"$f":"IFERROR(VLOOKUP(CONCATENATE(G11,\" вес \",$W$6),'Участники чемпионата'!$A:$AF,32,0),\"\")","v":"Мамедов "},null,null,null,null,null,null,null,null,null,null,null,null,null,null,null,null,null,null,null,null,{"$f":"IFERROR(VLOOKUP(CONCATENATE(AE11,\" вес \",$W$6),'Участники чемпионата'!$A:$AF,32,0),\"\")","v":"Бердиев (Ш)"},2,null,null,2,{"$f":"IFERROR(VLOOKUP(CONCATENATE(AH11,\" вес \",$W$6),'Участники чемпионата'!$A:$AA,13,0),\"\")","v":"Бердиев Шахзод"},{"$f":"IF(IFERROR(VLOOKUP(CONCATENATE(AH11,\" вес \",$W$6),'Участники чемпионата'!$A:$AA,25,0),\"\")=\"Шлем\",\"Ш\",\"\")","v":"Ш"},{"$f":"IFERROR(VLOOKUP(CONCATENATE(AH11,\" вес \",$W$6),'Участники чемпионата'!$A:$AA,5,0),\"\")","v":"СДЮСШОР \"СПАРТАК\" (г.Нефтеюганск)"}]
[]
[]
[null,null,null,null,null,null,null,null,null,null,null,{"$f":"IFERROR(VLOOKUP(CONCATENATE(J14,\" вес \",$W$6),'Участники чемпионата'!$A:$AF,32,0),\"\")","v":""},null,null,null,null,null,null,null,null,null,null,null,null,null,null,{"$f":"IFERROR(VLOOKUP(CONCATENATE(AB14,\" вес \",$W$6),'Участники чемпионата'!$A:$AF,32,0),\"\")","v":""}]
[]
[]
[null,null,null,null,null,null,11,null,null,null,null,null,null,null,null,null,null,null,null,null,null,null,null,null,null,null,null,null,null,null,null,null,null,14,{"$f":"IFERROR(VLOOKUP(CONCATENATE(AH17,\" вес \",$W$6),'Участники чемпионата'!$A:$AA,13,0),\"\")","v":""},{"$f":"IF(IFERROR(VLOOKUP(CONCATENATE(AH17,\" вес \",$W$6),'Участники чемпионата'!$A:$AA,25,0),\"\")=\"Шлем\",\"Ш\",\"\")","v":""},{"$f":"IFERROR(VLOOKUP(CONCATENATE(AH17,\" вес \",$W$6),'Участники чемпионата'!$A:$AA,5,0),\"\")","v":""}]
[null,11,{"$f":"IFERROR(VLOOKUP(CONCATENATE(B18,\" вес \",$W$6),'Участники чемпионата'!$A:$AA,13,0),\"\")","v":""},{"$f":"IF(IFERROR(VLOOKUP(CONCATENATE(B18,\" вес \",$W$6),'Участники чемпионата'!$A:$AA,25,0),\"\")=\"Шлем\",\"Ш\",\"\")","v":""},{"$f":"IFERROR(VLOOKUP(CONCATENATE(B18,\" вес \",$W$6),'Участники чемпионата'!$A:$AA,5,0),\"\")","v":""},null,null,null,{"$f":"IFERROR(VLOOKUP(CONCATENATE(G17,\" вес \",$W$6),'Участники чемпионата'!$A:$AF,32,0),\"\")","v":""},null,null,null,null,null,null,null,null,null,null,null,null,null,null,null,null,null,null,null,null,{"$f":"IFERROR(VLOOKUP(CONCATENATE(AE17,\" вес \",$W$6),'Участники чемпионата'!$A:$AF,32,0),\"\")","v":""},null,null,null,20,{"$f":"IFERROR(VLOOKUP(CONCATENATE(AH18,\" вес \",$W$6),'Участники чемпионата'!$A:$AA,13,0),\"\")","v":""},{"$f":"IF(IFERROR(VLOOKUP(CONCATENATE(AH18,\" вес \",$W$6),'Участники чемпионата'!$A:$AA,25,0),\"\")=\"Шлем\",\"Ш\",\"\")","v":""},{"$f":"IFERROR(VLOOKUP(CONCATENATE(AH18,\" вес \",$W$6),'Участники чемпионата'!$A:$AA,5,0),\"\")","v":""}]
[]
[null,null,"A",null,null,null,null,null,null,null,null,null,null,null,{"$f":"IFERROR(VLOOKUP(CONCATENATE(M20,\" вес \",$W$6),'Участники чемпионата'!$A:$AF,32,0),\"\")","v":""},null,null,null,null,null,null,null,null,{"$f":"IFERROR(VLOOKUP(CONCATENATE(Y20,\" вес \",$W$6),'Участники чемпионата'!$A:$AF,32,0),\"\")","v":""},null,null,null,null,null,null,null,null,null,null,null,null,"C  "]
[]
[]
[null,5,{"$f":"IFERROR(VLOOKUP(CONCATENATE(B23,\" вес \",$W$6),'Участники чемпионата'!$A:$AA,13,0),\"\")","v":"Григоров Максим"},{"$f":"IF(IFERROR(VLOOKUP(CONCATENATE(B23,\" вес \",$W$6),'Участники чемпионата'!$A:$AA,25,0),\"\")=\"Шлем\",\"Ш\",\"\")","v":""},{"$f":"IFERROR(VLOOKUP(CONCATENATE(B23,\" вес \",$W$6),'Участники чемпионата'!$A:$AA,5,0),\"\")","v":"г. Ханты-Мансийск"},null,null,null,{"$f":"IFERROR(VLOOKUP(CONCATENATE(G23,\" вес \",$W$6),'Участники чемпионата'!$A:$AF,32,0),\"\")","v":""},null,null,null,null,null,null,null,null,null,null,null,null,null,null,null,null,null,null,null,null,{"$f":"IFERROR(VLOOKUP(CONCATENATE(AE23,\" вес \",$W$6),'Участники чемпионата'!$A:$AF,32,0),\"\")","v":"Ильясов (Ш)"},8,null,null,8,{"$f":"IFERROR(VLOOKUP(CONCATENATE(AH23,\" вес \",$W$6),'Участники чемпионата'!$A:$AA,13,0),\"\")","v":"Ильясов Гасан"},{"$f":"IF(IFERROR(VLOOKUP(CONCATENATE(AH23,\" вес \",$W$6),'Участники чемпионата'!$A:$AA,25,0),\"\")=\"Шлем\",\"Ш\",\"\")","v":"Ш"},{"$f":"IFERROR(VLOOKUP(CONCATENATE(AH23,\" вес \",$W$6),'Участники чемпионата'!$A:$AA,5,0),\"\")","v":"г. Сургут"}]
[null,17,{"$f":"IFERROR(VLOOKUP(CONCATENATE(B24,\" вес \",$W$6),'Участники чемпионата'!$A:$AA,13,0),\"\")","v":""},{"$f":"IF(IFERROR(VLOOKUP(CONCATENATE(B24,\" вес \",$W$6),'Участники чемпионата'!$A:$AA,25,0),\"\")=\"Шлем\",\"Ш\",\"\")","v":""},{"$f":"IFERROR(VLOOKUP(CONCATENATE(B24,\" вес \",$W$6),'Участники чемпионата'!$A:$AA,5,0),\"\")","v":""}]
[]
[]
[null,null,null,null,null,null,null,null,null,null,null,{"$f":"IFERROR(VLOOKUP(CONCATENATE(J26,\" вес \",$W$6),'Участники чемпионата'!$A:$AF,32,0),\"\")","v":""},null,null,null,null,null,null,null,null,null,null,null,null,null,null,{"$f":"IFERROR(VLOOKUP(CONCATENATE(AB26,\" вес \",$W$6),'Участники чемпионата'!$A:$AF,32,0),\"\")","v":""}]
[]
[null,null,null,null,null,null,9,null,null,null,null,null,null,null,null,null,null,"Чемпион",null,null,null,null,null,null,null,null,null,null,null,null,18]
[null,9,{"$f":"IFERROR(VLOOKUP(CONCATENATE(B30,\" вес \",$W$6),'Участники чемпионата'!$A:$AA,13,0),\"\")","v":"Касумов  Али"},{"$f":"IF(IFERROR(VLOOKUP(CONCATENATE(B30,\" вес \",$W$6),'Участники чемпионата'!$A:$AA,25,0),\"\")=\"Шлем\",\"Ш\",\"\")","v":""},{"$f":"IFERROR(VLOOKUP(CONCATENATE(B30,\" вес \",$W$6),'Участники чемпионата'!$A:$AA,5,0),\"\")","v":"г. Сургут"},null,null,null,{"$f":"IFERROR(VLOOKUP(CONCATENATE(G29,\" вес \",$W$6),'Участники чемпионата'!$A:$AF,32,0),\"\")","v":"Касумов  "},null,null,null,null,null,null,null,{"$f":"IFERROR(VLOOKUP(CONCATENATE(S32,\" вес \",$W$6),'Участники чемпионата'!$A:$AA,7,0),\"\")","v":""},null,null,null,null,null,null,null,null,null,null,null,null,{"$f":"IFERROR(VLOOKUP(CONCATENATE(AE29,\" вес \",$W$6),'Участники чемпионата'!$A:$AF,32,0),\"\")","v":""},null,null,null,18,{"$f":"IFERROR(VLOOKUP(CONCATENATE(AH30,\" вес \",$W$6),'Участники чемпионата'!$A:$AA,13,0),\"\")","v":""},{"$f":"IF(IFERROR(VLOOKUP(CONCATENATE(AH30,\" вес \",$W$6),'Участники чемпионата'!$A:$AA,25,0),\"\")=\"Шлем\",\"Ш\",\"\")","v":""},{"$f":"IFERROR(VLOOKUP(CONCATENATE(AH30,\" вес \",$W$6),'Участники чемпионата'!$A:$AA,5,0),\"\")","v":""}]
[]
[null,null,null,null,null,null,null,null,null,null,null,null,null,null,{"$f":"IFERROR(VLOOKUP(CONCATENATE(P32,\" вес \",$W$6),'Участники чемпионата'!$A:$AF,32,0),\"\")","v":""},null,null,null,null,null,null,null,null,{"$f":"IFERROR(VLOOKUP(CONCATENATE(V32,\" вес \",$W$6),'Участники чемпионата'!$A:$AF,32,0),\"\")","v":""}]
[]
[]
[null,3,{"$f":"IFERROR(VLOOKUP(CONCATENATE(B35,\" вес \",$W$6),'Участники чемпионата'!$A:$AA,13,0),\"\")","v":"Рамазанов Джамал"},{"$f":"IF(IFERROR(VLOOKUP(CONCATENATE(B35,\" вес \",$W$6),'Участники чемпионата'!$A:$AA,25,0),\"\")=\"Шлем\",\"Ш\",\"\")","v":"Ш"},{"$f":"IFERROR(VLOOKUP(CONCATENATE(B35,\" вес \",$W$6),'Участники чемпионата'!$A:$AA,5,0),\"\")","v":"СДЮСШОР \"СПАРТАК\" (г.Нефтеюганск)"},null,null,null,{"$f":"IFERROR(VLOOKUP(CONCATENATE(G35,\" вес \",$W$6),'Участники чемпионата'!$A:$AF,32,0),\"\")","v":""},null,null,null,null,null,null,null,null,null,null,null,null,null,null,null,null,null,null,null,null,{"$f":"IFERROR(VLOOKUP(CONCATENATE(AE35,\" вес \",$W$6),'Участники чемпионата'!$A:$AF,32,0),\"\")","v":""},null,null,null,12,{"$f":"IFERROR(VLOOKUP(CONCATENATE(AH35,\" вес \",$W$6),'Участники чемпионата'!$A:$AA,13,0),\"\")","v":""},{"$f":"IF(IFERROR(VLOOKUP(CONCATENATE(AH35,\" вес \",$W$6),'Участники чемпионата'!$A:$AA,25,0),\"\")=\"Шлем\",\"Ш\",\"\")","v":""},{"$f":"IFERROR(VLOOKUP(CONCATENATE(AH35,\" вес \",$W$6),'Участники чемпионата'!$A:$AA,5,0),\"\")","v":""}]
[null,13,{"$f":"IFERROR(VLOOKUP(CONCATENATE(B36,\" вес \",$W$6),'Участники чемпионата'!$A:$AA,13,0),\"\")","v":""},{"$f":"IF(IFERROR(VLOOKUP(CONCATENATE(B36,\" вес \",$W$6),'Участники чемпионата'!$A:$AA,25,0),\"\")=\"Шлем\",\"Ш\",\"\")","v":""},{"$f":"IFERROR(VLOOKUP(CONCATENATE(B36,\" вес \",$W$6),'Участники чемпионата'!$A:$AA,5,0),\"\")","v":""},null,null,null,null,null,null,null,null,null,null,null,null,null,null,null,null,null,null,null,null,null,null,null,null,null,null,null,null,4,{"$f":"IFERROR(VLOOKUP(CONCATENATE(AH36,\" вес \",$W$6),'Участники чемпионата'!$A:$AA,13,0),\"\")","v":"Дадаев Мансур"},{"$f":"IF(IFERROR(VLOOKUP(CONCATENATE(AH36,\" вес \",$W$6),'Участники чемпионата'!$A:$AA,25,0),\"\")=\"Шлем\",\"Ш\",\"\")","v":"Ш"},{"$f":"IFERROR(VLOOKUP(CONCATENATE(AH36,\" вес \",$W$6),'Участники чемпионата'!$A:$AA,5,0),\"\")","v":"г. Ханты-Мансийск"}]
[]
[null,null,null,null,null,null,null,null,null,null,null,{"$f":"IFERROR(VLOOKUP(CONCATENATE(J38,\" вес \",$W$6),'Участники чемпионата'!$A:$AF,32,0),\"\")","v":""},null,null,null,null,null,null,null,null,null,null,null,null,null,null,{"$f":"IFERROR(VLOOKUP(CONCATENATE(AB38,\" вес \",$W$6),'Участники чемпионата'!$A:$AF,32,0),\"\")","v":""}]
[]
[]
[null,null,null,null,null,null,15,null,null,null,null,null,null,null,null,null,null,null,null,null,null,null,null,null,null,null,null,null,null,null,16]
[null,15,{"$f":"IFERROR(VLOOKUP(CONCATENATE(B42,\" вес \",$W$6),'Участники чемпионата'!$A:$AA,13,0),\"\")","v":""},{"$f":"IF(IFERROR(VLOOKUP(CONCATENATE(B42,\" вес \",$W$6),'Участники чемпионата'!$A:$AA,25,0),\"\")=\"Шлем\",\"Ш\",\"\")","v":""},{"$f":"IFERROR(VLOOKUP(CONCATENATE(B42,\" вес \",$W$6),'Участники чемпионата'!$A:$AA,5,0),\"\")","v":""},null,null,null,{"$f":"IFERROR(VLOOKUP(CONCATENATE(G41,\" вес \",$W$6),'Участники чемпионата'!$A:$AF,32,0),\"\")","v":""},null,null,null,null,null,null,null,null,null,null,null,null,null,null,null,null,null,null,null,null,{"$f":"IFERROR(VLOOKUP(CONCATENATE(AE41,\" вес \",$W$6),'Участники чемпионата'!$A:$AF,32,0),\"\")","v":""},null,null,null,16,{"$f":"IFERROR(VLOOKUP(CONCATENATE(AH42,\" вес \",$W$6),'Участники чемпионата'!$A:$AA,13,0),\"\")","v":""},{"$f":"IF(IFERROR(VLOOKUP(CONCATENATE(AH42,\" вес \",$W$6),'Участники чемпионата'!$A:$AA,25,0),\"\")=\"Шлем\",\"Ш\",\"\")","v":""},{"$f":"IFERROR(VLOOKUP(CONCATENATE(AH42,\" вес \",$W$6),'Участники чемпионата'!$A:$AA,5,0),\"\")","v":""}]
[]
[null,null,"B",null,null,null,null,null,null,null,null,null,null,null,null,null,null,null,null,null,null,null,null,null,null,null,null,null,null,null,null,null,null,null,null,null,"D  "]
[null,null,null,null,null,null,null,null,null,null,null,null,null,null,{"$f":"IFERROR(VLOOKUP(CONCATENATE(M44,\" вес \",$W$6),'Участники чемпионата'!$A:$AF,32,0),\"\")","v":""},null,null,null,null,null,null,null,null,{"$f":"IFERROR(VLOOKUP(CONCATENATE(Y44,\" вес \",$W$6),'Участники чемпионата'!$A:$AF,32,0),\"\")","v":""}]
[]
[null,7,{"$f":"IFERROR(VLOOKUP(CONCATENATE(B47,\" вес \",$W$6),'Участники чемпионата'!$A:$AA,13,0),\"\")","v":"Гаджиахмедов Магомед"},{"$f":"IF(IFERROR(VLOOKUP(CONCATENATE(B47,\" вес \",$W$6),'Участники чемпионата'!$A:$AA,25,0),\"\")=\"Шлем\",\"Ш\",\"\")","v":""},{"$f":"IFERROR(VLOOKUP(CONCATENATE(B47,\" вес \",$W$6),'Участники чемпионата'!$A:$AA,5,0),\"\")","v":"г. Сургут"},null,null,null,{"$f":"IFERROR(VLOOKUP(CONCATENATE(G47,\" вес \",$W$6),'Участники чемпионата'!$A:$AF,32,0),\"\")","v":""},null,null,null,null,null,null,null,null,null,null,null,null,null,null,null,null,null,null,null,null,{"$f":"IFERROR(VLOOKUP(CONCATENATE(AE47,\" вес \",$W$6),'Участники чемпионата'!$A:$AF,32,0),\"\")","v":"Магомедов "},10,null,null,10,{"$f":"IFERROR(VLOOKUP(CONCATENATE(AH47,\" вес \",$W$6),'Участники чемпионата'!$A:$AA,13,0),\"\")","v":"Магомедов Бурагим"},{"$f":"IF(IFERROR(VLOOKUP(CONCATENATE(AH47,\" вес \",$W$6),'Участники чемпионата'!$A:$AA,25,0),\"\")=\"Шлем\",\"Ш\",\"\")","v":""},{"$f":"IFERROR(VLOOKUP(CONCATENATE(AH47,\" вес \",$W$6),'Участники чемпионата'!$A:$AA,5,0),\"\")","v":"г. Нижневартовск"}]
[null,19,{"$f":"IFERROR(VLOOKUP(CONCATENATE(B48,\" вес \",$W$6),'Участники чемпионата'!$A:$AA,13,0),\"\")","v":""},{"$f":"IF(IFERROR(VLOOKUP(CONCATENATE(B48,\" вес \",$W$6),'Участники чемпионата'!$A:$AA,25,0),\"\")=\"Шлем\",\"Ш\",\"\")","v":""},{"$f":"IFERROR(VLOOKUP(CONCATENATE(B48,\" вес \",$W$6),'Участники чемпионата'!$A:$AA,5,0),\"\")","v":""}]
[]
[]
[null,null,null,null,null,null,null,null,null,null,null,{"$f":"IFERROR(VLOOKUP(CONCATENATE(J50,\" вес \",$W$6),'Участники чемпионата'!$A:$AF,32,0),\"\")","v":""},null,null,null,null,null,null,null,null,null,null,null,null,null,null,{"$f":"IFERROR(VLOOKUP(CONCATENATE(AB50,\" вес \",$W$6),'Участники чемпионата'!$A:$AF,32,0),\"\")","v":""}]
[]
[null,null,null,null,null,null,21,null,null,null,null,null,null,null,null,null,null,null,null,null,null,null,null,null,null,null,null,null,null,null,null,null,null,6,{"$f":"IFERROR(VLOOKUP(CONCATENATE(AH53,\" вес \",$W$6),'Участники чемпионата'!$A:$AA,13,0),\"\")","v":"Адыгешаов Расим"},{"$f":"IF(IFERROR(VLOOKUP(CONCATENATE(AH53,\" вес \",$W$6),'Участники чемпионата'!$A:$AA,25,0),\"\")=\"Шлем\",\"Ш\",\"\")","v":"Ш"},{"$f":"IFERROR(VLOOKUP(CONCATENATE(AH53,\" вес \",$W$6),'Участники чемпионата'!$A:$AA,5,0),\"\")","v":"г. Сургут"}]
[null,21,{"$f":"IFERROR(VLOOKUP(CONCATENATE(B54,\" вес \",$W$6),'Участники чемпионата'!$A:$AA,13,0),\"\")","v":""},{"$f":"IF(IFERROR(VLOOKUP(CONCATENATE(B54,\" вес \",$W$6),'Участники чемпионата'!$A:$AA,25,0),\"\")=\"Шлем\",\"Ш\",\"\")","v":""},{"$f":"IFERROR(VLOOKUP(CONCATENATE(B54,\" вес \",$W$6),'Участники чемпионата'!$A:$AA,5,0),\"\")","v":""},null,null,null,{"$f":"IFERROR(VLOOKUP(CONCATENATE(G53,\" вес \",$W$6),'Участники чемпионата'!$A:$AF,32,0),\"\")","v":""},null,null,null,null,null,null,null,null,null,null,null,null,null,null,null,null,null,null,null,null,{"$f":"IFERROR(VLOOKUP(CONCATENATE(AE53,\" вес \",$W$6),'Участники чемпионата'!$A:$AF,32,0),\"\")","v":""},null,null,null,22,{"$f":"IFERROR(VLOOKUP(CONCATENATE(AH54,\" вес \",$W$6),'Участники чемпионата'!$A:$AA,13,0),\"\")","v":""},{"$f":"IF(IFERROR(VLOOKUP(CONCATENATE(AH54,\" вес \",$W$6),'Участники чемпионата'!$A:$AA,25,0),\"\")=\"Шлем\",\"Ш\",\"\")","v":""},{"$f":"IFERROR(VLOOKUP(CONCATENATE(AH54,\" вес \",$W$6),'Участники чемпионата'!$A:$AA,5,0),\"\")","v":""}]
[]
[null,"1/16",null,null,null,null,"1/8",null,null,"1/4",null,null,"1/2",null,null,"Финал",null,null,null,null,null,null,null,null,"1/2",null,null,"1/4",null,null,"1/8",null,null,"1/16"]
[]
[null,null,null,null,null,null,null,null,null,null,null,null,null,null,null,null,null,null,null,"Участников:",{"$f":"HLOOKUP(W6,Мандатка!$C$4:$I$5,2,0)","v":10}]
[]
[]
[null,null,"1 место"]
[null,{"$f":"IF(S32=\"\",\"\",S32)","v":""},{"$f":"IF(B62=\"\",\"\",IFERROR(VLOOKUP(CONCATENATE(B62,\" вес \",$W$6),'Участники чемпионата'!$A:$AA,13,0),\"\"))","v":""},{"$f":"IF(B62=\"\",\"\",IFERROR(VLOOKUP(CONCATENATE(B62,\" вес \",$W$6),'Участники чемпионата'!$A:$AA,5,0),\"\"))","v":""}]
[]
[null,null,"2 место"]
[null,{"$f":"IF(S32=\"\",\"\",IF(S32=V32,P32,V32))","v":""},{"$f":"IF(B65=\"\",\"\",IFERROR(VLOOKUP(CONCATENATE(B65,\" вес \",$W$6),'Участники чемпионата'!$A:$AA,13,0),\"\"))","v":""},{"$f":"IF(B65=\"\",\"\",IFERROR(VLOOKUP(CONCATENATE(B65,\" вес \",$W$6),'Участники чемпионата'!$A:$AA,5,0),\"\"))","v":""},null,null,null,null,null,null,null,null,null,null,null,null,null,null,null,null,null,null,null,null,null,null,null,null,null,null,null,null,null,"Главный судья соревнований",null,"/",{"$f":"IF(VLOOKUP(AH65,'Исходные данные по чемпионату'!B:C,2,0)=0,\"\",VLOOKUP(AH65,'Исходные данные по чемпионату'!B:C,2,0))","v":"Карташков К.В."},"/"]
[]
[null,null,"3 место"]
[null,{"$f":"IF(P32=\"\",\"\",IF(P32=M44,M20,M44))","v":""},{"$f":"IF(B68=\"\",\"\",IFERROR(VLOOKUP(CONCATENATE(B68,\" вес \",$W$6),'Участники чемпионата'!$A:$AA,13,0),\"\"))","v":""},{"$f":"IF(B68=\"\",\"\",IFERROR(VLOOKUP(CONCATENATE(B68,\" вес \",$W$6),'Участники чемпионата'!$A:$AA,5,0),\"\"))","v":""}]
[null,{"$f":"IF(V32=\"\",\"\",IF(V32=Y44,Y20,Y44))","v":""},{"$f":"IF(B69=\"\",\"\",IFERROR(VLOOKUP(CONCATENATE(B69,\" вес \",$W$6),'Участники чемпионата'!$A:$AA,13,0),\"\"))","v":""},{"$f":"IF(B69=\"\",\"\",IFERROR(VLOOKUP(CONCATENATE(B69,\" вес \",$W$6),'Участники чемпионата'!$A:$AA,5,0),\"\"))","v":""},null,null,null,null,null,null,null,null,null,null,null,null,null,null,null,null,null,null,null,null,null,null,null,null,null,null,null,null,null,"Главный секретарь",null,"/",{"$f":"IF(VLOOKUP(AH69,'Исходные данные по чемпионату'!B:C,2,0)=0,\"\",VLOOKUP(AH69,'Исходные данные по чемпионату'!B:C,2,0))","v":"Толстыгин А.Ю."},"/"]
[]
[null,null,null,null,null,null,null,null,null,null,null,null,null,null,null,null,null,null,null,null,null,null,null,null,null,null,null,null,null,null,null,null,null,null,null,null,null,0]
[]
[null,null,"5-8 места",null,null,null,null,null,null,null,null,null,null,"Результат боя описание",null,null,null,null,null,null,null,null,null,null,null,null,null,null,null,null,null,null,null,null,"Финалисты"]
[null,{"$f":"IF(M20=\"\",\"\",IF(OR(J14-M20=0),J26,J14))","v":""},{"$f":"IF(B74=\"\",\"\",IFERROR(VLOOKUP(CONCATENATE(B74,\" вес \",$W$6),'Участники чемпионата'!$A:$AA,13,0),\"\"))","v":""},{"$f":"IF(B74=\"\",\"\",IFERROR(VLOOKUP(CONCATENATE(B74,\" вес \",$W$6),'Участники чемпионата'!$A:$AA,5,0),\"\"))","v":""},null,null,null,null,null,null,null,null,null,{"$f":"'Unvisible Списки'!C9","v":"(ПО)"},null,null,null,{"$f":"'Unvisible Списки'!C27","v":"по очкам"},null,null,null,null,null,null,null,null,null,null,null,null,null,null,null,{"$f":"IF(P32=\"\",\"\",P32)","v":""},{"$f":"IFERROR(VLOOKUP(CONCATENATE(AH74,\" вес \",$W$6),'Участники чемпионата'!$A:$AA,13,0),\"\")","v":""},{"$f":"IFERROR(VLOOKUP(CONCATENATE(AH74,\" вес \",$W$6),'Участники чемпионата'!$A:$AA,5,0),\"\")","v":""}]
[null,{"$f":"IF(M44=\"\",\"\",IF(OR(J38-M44=0),J50,J38))","v":""},{"$f":"IF(B75=\"\",\"\",IFERROR(VLOOKUP(CONCATENATE(B75,\" вес \",$W$6),'Участники чемпионата'!$A:$AA,13,0),\"\"))","v":""},{"$f":"IF(B75=\"\",\"\",IFERROR(VLOOKUP(CONCATENATE(B75,\" вес \",$W$6),'Участники чемпионата'!$A:$AA,5,0),\"\"))","v":""},null,null,null,null,null,null,null,null,null,{"$f":"'Unvisible Списки'!C10","v":"(КО)"},null,null,null,{"$f":"'Unvisible Списки'!C28","v":"нокаут"},null,null,null,null,null,null,null,null,null,null,null,null,null,null,null,{"$f":"IF(V32=\"\",\"\",V32)","v":""},{"$f":"IFERROR(VLOOKUP(CONCATENATE(AH75,\" вес \",$W$6),'Участники чемпионата'!$A:$AA,13,0),\"\")","v":""},{"$f":"IFERROR(VLOOKUP(CONCATENATE(AH75,\" вес \",$W$6),'Участники чемпионата'!$A:$AA,5,0),\"\")","v":""}]
[null,{"$f":"IF(Y20=\"\",\"\",IF(OR(AB14-Y20=0),AB26,AB14))","v":""},{"$f":"IF(B76=\"\",\"\",IFERROR(VLOOKUP(CONCATENATE(B76,\" вес \",$W$6),'Участники чемпионата'!$A:$AA,13,0),\"\"))","v":""},{"$f":"IF(B76=\"\",\"\",IFERROR(VLOOKUP(CONCATENATE(B76,\" вес \",$W$6),'Участники чемпионата'!$A:$AA,5,0),\"\"))","v":""},null,null,null,null,null,null,null,null,null,{"$f":"'Unvisible Списки'!C11","v":"(БЛ)"},null,null,null,{"$f":"'Unvisible Списки'!C29","v":"болевой/удушающий"}]
[null,{"$f":"IF(Y44=\"\",\"\",IF(OR(AB38-Y44=0),AB50,AB38))","v":""},{"$f":"IF(B77=\"\",\"\",IFERROR(VLOOKUP(CONCATENATE(B77,\" вес \",$W$6),'Участники чемпионата'!$A:$AA,13,0),\"\"))","v":""},{"$f":"IF(B77=\"\",\"\",IFERROR(VLOOKUP(CONCATENATE(B77,\" вес \",$W$6),'Участники чемпионата'!$A:$AA,5,0),\"\"))","v":""},null,null,null,null,null,null,null,null,null,{"$f":"'Unvisible Списки'!C12","v":"(ТКО)"},null,null,null,{"$f":"'Unvisible Списки'!C30","v":"технический нокаут"}]
[null,null,null,null,null,null,null,null,null,null,null,null,null,{"$f":"'Unvisible Списки'!C13","v":"(СН)"},null,null,null,{"$f":"'Unvisible Списки'!C31","v":"снятие врачом"}]
[null,null,"9-16 места",null,null,null,null,null,null,null,null,null,null,{"$f":"'Unvisible Списки'!C14","v":"(ОТК)"},null,null,null,{"$f":"'Unvisible Списки'!C32","v":"отказ продолжать бой"}]
[null,{"$f":"IF(J14=\"\",\"\",IF(OR(G11-J14=0),G17,G11))","v":""},{"$f":"IF(B80=\"\",\"\",IFERROR(VLOOKUP(CONCATENATE(B80,\" вес \",$W$6),'Участники чемпионата'!$A:$AA,13,0),\"\"))","v":""},{"$f":"IF(B80=\"\",\"\",IFERROR(VLOOKUP(CONCATENATE(B80,\" вес \",$W$6),'Участники чемпионата'!$A:$AA,5,0),\"\"))","v":""},null,null,null,null,null,null,null,null,null,{"$f":"'Unvisible Списки'!C15","v":"(ДСК)"},null,null,null,{"$f":"'Unvisible Списки'!C33","v":"Дисквалификация"}]
[null,{"$f":"IF(J26=\"\",\"\",IF(OR(G23-J26=0),G29,G23))","v":""},{"$f":"IF(B81=\"\",\"\",IFERROR(VLOOKUP(CONCATENATE(B81,\" вес \",$W$6),'Участники чемпионата'!$A:$AA,13,0),\"\"))","v":""},{"$f":"IF(B81=\"\",\"\",IFERROR(VLOOKUP(CONCATENATE(B81,\" вес \",$W$6),'Участники чемпионата'!$A:$AA,5,0),\"\"))","v":""},null,null,null,null,null,null,null,null,null,{"$f":"'Unvisible Списки'!C16","v":"(РГСК)"},null,null,null,{"$f":"'Unvisible Списки'!C34","v":"решение главного судьи СК"}]
[null,{"$f":"IF(J38=\"\",\"\",IF(OR(G35-J38=0),G41,G35))","v":""},{"$f":"IF(B82=\"\",\"\",IFERROR(VLOOKUP(CONCATENATE(B82,\" вес \",$W$6),'Участники чемпионата'!$A:$AA,13,0),\"\"))","v":""},{"$f":"IF(B82=\"\",\"\",IFERROR(VLOOKUP(CONCATENATE(B82,\" вес \",$W$6),'Участники чемпионата'!$A:$AA,5,0),\"\"))","v":""},null,null,null,null,null,null,null,null,null,{"$f":"'Unvisible Списки'!C17","v":"(НЯ)"},null,null,null,{"$f":"'Unvisible Списки'!C35","v":"неявка"}]
[null,{"$f":"IF(J50=\"\",\"\",IF(OR(G47-J50=0),G53,G47))","v":""},{"$f":"IF(B83=\"\",\"\",IFERROR(VLOOKUP(CONCATENATE(B83,\" вес \",$W$6),'Участники чемпионата'!$A:$AA,13,0),\"\"))","v":""},{"$f":"IF(B83=\"\",\"\",IFERROR(VLOOKUP(CONCATENATE(B83,\" вес \",$W$6),'Участники чемпионата'!$A:$AA,5,0),\"\"))","v":""}]
[null,{"$f":"IF(AB14=\"\",\"\",IF(OR(AE11-AB14=0),AE17,AE11))","v":""},{"$f":"IF(B84=\"\",\"\",IFERROR(VLOOKUP(CONCATENATE(B84,\" вес \",$W$6),'Участники чемпионата'!$A:$AA,13,0),\"\"))","v":""},{"$f":"IF(B84=\"\",\"\",IFERROR(VLOOKUP(CONCATENATE(B84,\" вес \",$W$6),'Участники чемпионата'!$A:$AA,5,0),\"\"))","v":""}]
[null,{"$f":"IF(AB26=\"\",\"\",IF(OR(AE23-AB26=0),AE29,AE23))","v":""},{"$f":"IF(B85=\"\",\"\",IFERROR(VLOOKUP(CONCATENATE(B85,\" вес \",$W$6),'Участники чемпионата'!$A:$AA,13,0),\"\"))","v":""},{"$f":"IF(B85=\"\",\"\",IFERROR(VLOOKUP(CONCATENATE(B85,\" вес \",$W$6),'Участники чемпионата'!$A:$AA,5,0),\"\"))","v":""}]
[null,{"$f":"IF(AB38=\"\",\"\",IF(OR(AE35-AB38=0),AE41,AE35))","v":""},{"$f":"IF(B86=\"\",\"\",IFERROR(VLOOKUP(CONCATENATE(B86,\" вес \",$W$6),'Участники чемпионата'!$A:$AA,13,0),\"\"))","v":""},{"$f":"IF(B86=\"\",\"\",IFERROR(VLOOKUP(CONCATENATE(B86,\" вес \",$W$6),'Участники чемпионата'!$A:$AA,5,0),\"\"))","v":""}]
[null,{"$f":"IF(AB50=\"\",\"\",IF(OR(AE47-AB50=0),AE53,AE47))","v":""},{"$f":"IF(B87=\"\",\"\",IFERROR(VLOOKUP(CONCATENATE(B87,\" вес \",$W$6),'Участники чемпионата'!$A:$AA,13,0),\"\"))","v":""},{"$f":"IF(B87=\"\",\"\",IFERROR(VLOOKUP(CONCATENATE(B87,\" вес \",$W$6),'Участники чемпионата'!$A:$AA,5,0),\"\"))","v":""}]
[]
[null,null,"17-32 места"]
[null,{"$f":"IF(G11=\"\",\"\",IF(OR(B11-G11=0),B12,B11))","v":0},{"$f":"IF(B90=\"\",\"\",IFERROR(VLOOKUP(CONCATENATE(B90,\" вес \",$W$6),'Участники чемпионата'!$A:$AA,13,0),\"\"))","v":""},{"$f":"IF(B90=\"\",\"\",IFERROR(VLOOKUP(CONCATENATE(B90,\" вес \",$W$6),'Участники чемпионата'!$A:$AA,5,0),\"\"))","v":""}]
[null,{"$f":"IF(G17=\"\",\"\",IF(OR(B17-G17=0),B18,B17))","v":0},{"$f":"IF(B91=\"\",\"\",IFERROR(VLOOKUP(CONCATENATE(B91,\" вес \",$W$6),'Участники чемпионата'!$A:$AA,13,0),\"\"))","v":""},{"$f":"IF(B91=\"\",\"\",IFERROR(VLOOKUP(CONCATENATE(B91,\" вес \",$W$6),'Участники чемпионата'!$A:$AA,5,0),\"\"))","v":""}]
[null,{"$f":"IF(G23=\"\",\"\",IF(OR(B23-G23=0),B24,B23))","v":""},{"$f":"IF(B92=\"\",\"\",IFERROR(VLOOKUP(CONCATENATE(B92,\" вес \",$W$6),'Участники чемпионата'!$A:$AA,13,0),\"\"))","v":""},{"$f":"IF(B92=\"\",\"\",IFERROR(VLOOKUP(CONCATENATE(B92,\" вес \",$W$6),'Участники чемпионата'!$A:$AA,5,0),\"\"))","v":""}]
[null,{"$f":"IF(G29=\"\",\"\",IF(G29=\"\",\"\",IF(OR(B29-G29=0),B30,B29)))","v":0},{"$f":"IF(B93=\"\",\"\",IFERROR(VLOOKUP(CONCATENATE(B93,\" вес \",$W$6),'Участники чемпионата'!$A:$AA,13,0),\"\"))","v":""},{"$f":"IF(B93=\"\",\"\",IFERROR(VLOOKUP(CONCATENATE(B93,\" вес \",$W$6),'Участники чемпионата'!$A:$AA,5,0),\"\"))","v":""}]
[null,{"$f":"IF(G35=\"\",\"\",IF(OR(B35-G35=0),B36,B35))","v":""},{"$f":"IF(B94=\"\",\"\",IFERROR(VLOOKUP(CONCATENATE(B94,\" вес \",$W$6),'Участники чемпионата'!$A:$AA,13,0),\"\"))","v":""},{"$f":"IF(B94=\"\",\"\",IFERROR(VLOOKUP(CONCATENATE(B94,\" вес \",$W$6),'Участники чемпионата'!$A:$AA,5,0),\"\"))","v":""}]
[null,{"$f":"IF(G41=\"\",\"\",IF(OR(B41-G41=0),B42,B41))","v":0},{"$f":"IF(B95=\"\",\"\",IFERROR(VLOOKUP(CONCATENATE(B95,\" вес \",$W$6),'Участники чемпионата'!$A:$AA,13,0),\"\"))","v":""},{"$f":"IF(B95=\"\",\"\",IFERROR(VLOOKUP(CONCATENATE(B95,\" вес \",$W$6),'Участники чемпионата'!$A:$AA,5,0),\"\"))","v":""}]
[null,{"$f":"IF(G47=\"\",\"\",IF(OR(B47-G47=0),B48,B47))","v":""},{"$f":"IF(B96=\"\",\"\",IFERROR(VLOOKUP(CONCATENATE(B96,\" вес \",$W$6),'Участники чемпионата'!$A:$AA,13,0),\"\"))","v":""},{"$f":"IF(B96=\"\",\"\",IFERROR(VLOOKUP(CONCATENATE(B96,\" вес \",$W$6),'Участники чемпионата'!$A:$AA,5,0),\"\"))","v":""}]
[null,{"$f":"IF(G53=\"\",\"\",IF(OR(B53-G53=0),B54,B53))","v":0},{"$f":"IF(B97=\"\",\"\",IFERROR(VLOOKUP(CONCATENATE(B97,\" вес \",$W$6),'Участники чемпионата'!$A:$AA,13,0),\"\"))","v":""},{"$f":"IF(B97=\"\",\"\",IFERROR(VLOOKUP(CONCATENATE(B97,\" вес \",$W$6),'Участники чемпионата'!$A:$AA,5,0),\"\"))","v":""}]
[null,{"$f":"IF(AE11=\"\",\"\",IF(OR(AH11-AE11=0),AH12,AH11))","v":0},{"$f":"IF(B98=\"\",\"\",IFERROR(VLOOKUP(CONCATENATE(B98,\" вес \",$W$6),'Участники чемпионата'!$A:$AA,13,0),\"\"))","v":""},{"$f":"IF(B98=\"\",\"\",IFERROR(VLOOKUP(CONCATENATE(B98,\" вес \",$W$6),'Участники чемпионата'!$A:$AA,5,0),\"\"))","v":""}]
[null,{"$f":"IF(AE17=\"\",\"\",IF(OR(AH17-AE17=0),AH18,AH17))","v":""},{"$f":"IF(B99=\"\",\"\",IFERROR(VLOOKUP(CONCATENATE(B99,\" вес \",$W$6),'Участники чемпионата'!$A:$AA,13,0),\"\"))","v":""},{"$f":"IF(B99=\"\",\"\",IFERROR(VLOOKUP(CONCATENATE(B99,\" вес \",$W$6),'Участники чемпионата'!$A:$AA,5,0),\"\"))","v":""}]
[null,{"$f":"IF(AE23=\"\",\"\",IF(OR(AH23-AE23=0),AH24,AH23))","v":0},{"$f":"IF(B100=\"\",\"\",IFERROR(VLOOKUP(CONCATENATE(B100,\" вес \",$W$6),'Участники чемпионата'!$A:$AA,13,0),\"\"))","v":""},{"$f":"IF(B100=\"\",\"\",IFERROR(VLOOKUP(CONCATENATE(B100,\" вес \",$W$6),'Участники чемпионата'!$A:$AA,5,0),\"\"))","v":""}]
[null,{"$f":"IF(AE29=\"\",\"\",IF(OR(AH29-AE29=0),AH30,AH29))","v":0},{"$f":"IF(B101=\"\",\"\",IFERROR(VLOOKUP(CONCATENATE(B101,\" вес \",$W$6),'Участники чемпионата'!$A:$AA,13,0),\"\"))","v":""},{"$f":"IF(B101=\"\",\"\",IFERROR(VLOOKUP(CONCATENATE(B101,\" вес \",$W$6),'Участники чемпионата'!$A:$AA,5,0),\"\"))","v":""}]
[null,{"$f":"IF(AE35=\"\",\"\",IF(OR(AH35-AE35=0),AH36,AH35))","v":""},{"$f":"IF(B102=\"\",\"\",IFERROR(VLOOKUP(CONCATENATE(B102,\" вес \",$W$6),'Участники чемпионата'!$A:$AA,13,0),\"\"))","v":""},{"$f":"IF(B102=\"\",\"\",IFERROR(VLOOKUP(CONCATENATE(B102,\" вес \",$W$6),'Участники чемпионата'!$A:$AA,5,0),\"\"))","v":""}]
[null,{"$f":"IF(AE41=\"\",\"\",IF(OR(AH41-AE41=0),AH42,AH41))","v":0},{"$f":"IF(B103=\"\",\"\",IFERROR(VLOOKUP(CONCATENATE(B103,\" вес \",$W$6),'Участники чемпионата'!$A:$AA,13,0),\"\"))","v":""},{"$f":"IF(B103=\"\",\"\",IFERROR(VLOOKUP(CONCATENATE(B103,\" вес \",$W$6),'Участники чемпионата'!$A:$AA,5,0),\"\"))","v":""}]
[null,{"$f":"IF(AE47=\"\",\"\",IF(OR(AH47-AE47=0),AH48,AH47))","v":0},{"$f":"IF(B104=\"\",\"\",IFERROR(VLOOKUP(CONCATENATE(B104,\" вес \",$W$6),'Участники чемпионата'!$A:$AA,13,0),\"\"))","v":""},{"$f":"IF(B104=\"\",\"\",IFERROR(VLOOKUP(CONCATENATE(B104,\" вес \",$W$6),'Участники чемпионата'!$A:$AA,5,0),\"\"))","v":""}]
[null,{"$f":"IF(AE53=\"\",\"\",IF(OR(AH53-AE53=0),AH54,AH53))","v":""},{"$f":"IF(B105=\"\",\"\",IFERROR(VLOOKUP(CONCATENATE(B105,\" вес \",$W$6),'Участники чемпионата'!$A:$AA,13,0),\"\"))","v":""},{"$f":"IF(B105=\"\",\"\",IFERROR(VLOOKUP(CONCATENATE(B105,\" вес \",$W$6),'Участники чемпионата'!$A:$AA,5,0),\"\"))","v":""}]

{"sheet":"Сетка20","index":6,"n_rows":105,"n_cols":38,"rows_kept":105,"cut":false,"hidden":true,"merged":[[1,2,1,36],[3,5,3,33],[3,36,4,36],[5,22,5,24],[10,6,11,7],[10,30,11,31],[16,6,17,7],[16,30,17,31],[19,2,20,2],[19,12,20,13],[19,24,20,25],[19,36,20,36],[12,6,13,6],[12,7,13,7],[12,30,13,30],[12,31,13,31],[13,9,14,10],[13,27,14,28],[14,6,15,6],[14,7,15,7],[14,30,15,30],[14,31,15,31],[26,31,27,31],[28,6,29,7],[28,17,28,20],[28,30,29,31],[29,16,30,21],[22,6,23,7],[22,30,23,31],[24,6,25,6],[24,7,25,7],[24,30,25,30],[24,31,25,31],[25,9,26,10],[25,27,26,28],[26,6,27,6],[26,7,27,7],[31,15,32,16],[31,18,32,19],[31,21,32,22],[33,14,34,14],[33,15,34,15],[33,18,34,18],[33,19,34,19],[33,22,34,22],[26,30,27,30],[33,23,34,23],[34,6,35,7],[34,30,35,31],[35,16,35,21],[36,6,37,6],[36,7,37,7],[36,16,37,21],[36,30,37,30],[36,31,37,31],[37,9,38,10],[43,2,44,2],[43,12,44,13],[43,24,44,25],[43,36,44,36],[46,6,47,7],[46,30,47,31],[37,27,38,28],[38,6,39,6],[38,7,39,7],[38,30,39,30],[38,31,39,31],[40,6,41,7],[40,30,41,31],[48,6,49,6],[48,7,49,7],[48,30,49,30],[48,31,49,31],[49,9,50,10],[49,27,50,28],[50,6,51,6],[50,7,51,7],[50,30,51,30],[50,31,51,31],[52,6,53,7],[52,30,53,31],[55,1,55,4],[55,6,55,7],[55,9,55,10],[55,12,55,13],[55,15,55,22],[55,24,55,25],[55,27,55,28],[55,30,55,31],[73,35,73,36],[74,3,74,4],[74,13,74,16],[74,17,74,26],[74,35,74,36],[55,33,55,36],[57,20,57,21],[61,3,61,4],[64,3,64,4],[67,3,67,4],[68,3,68,4],[75,3,75,4],[75,13,75,16],[75,17,75,26],[76,3,76,4],[76,13,76,16],[76,17,76,26],[72,13,72,26],[73,3,73,4],[73,13,73,16],[73,17,73,26],[80,3,80,4],[80,13,80,16],[80,17,80,26],[81,3,81,4],[81,13,81,16],[81,17,81,26],[77,13,77,16],[77,17,77,26],[78,13,78,16],[78,17,78,26],[79,3,79,4],[79,13,79,16],[79,17,79,26],[90,3,90,4],[91,3,91,4],[92,3,92,4],[93,3,93,4],[94,3,94,4],[95,3,95,4],[82,3,82,4],[83,3,83,4],[84,3,84,4],[85,3,85,4],[86,3,86,4],[89,3,89,4],[102,3,102,4],[103,3,103,4],[104,3,104,4],[96,3,96,4],[97,3,97,4],[98,3,98,4],[99,3,99,4],[100,3,100,4],[101,3,101,4]]}
[]
[null,null,{"$f":"'Исходные данные по чемпионату'!C3","v":"Чемпионат ХМАО-Югры по СБЕ (ММА) среди муж. 18лет и старше,первенство среди юношей 16-17лет"}]
[]
[null,null,null,null,null,"ПРОТОКОЛ СОРЕВНОВАНИЙ",null,null,null,null,null,null,null,null,null,null,null,null,null,null,null,null,null,null,null,null,null,null,null,null,null,null,null,null,null,null,{"$f":"'Исходные данные по чемпионату'!C6","v":"г. Ханты-Мансийск"}]
[]
[null,null,null,null,null,null,null,null,null,null,null,null,null,null,null,null,null,null,null,null,null,"Весовая категория до","65,8",null,null,"кг",null,null,null,null,null,null,null,null,null,null,{"$f":"'Исходные данные по чемпионату'!C4","v":"с16 по 19 февраля 2018г."}]
[]
[]
[null,"№","Спортсмен","Шлем","Команда",null,null,null,null,null,null,null,null,null,null,null,null,null,null,null,null,null,null,null,null,null,null,null,null,null,null,null,null,"№","Спортсмен","Шлем","Команда"]
[]
[null,1,{"$f":"IFERROR(VLOOKUP(CONCATENATE(B11,\" вес \",$W$6),'Участники чемпионата'!$A:$AA,13,0),\"\")","v":"Мамедов Руслан"},{"$f":"IF(IFERROR(VLOOKUP(CONCATENATE(B11,\" вес \",$W$6),'Участники чемпионата'!$A:$AA,25,0),\"\")=\"Шлем\",\"Ш\",\"\")","v":""},{"$f":"IFERROR(VLOOKUP(CONCATENATE(B11,\" вес \",$W$6),'Участники чемпионата'!$A:$AA,5,0),\"\")","v":"Скорпион (г. Лангепас)"},null,1,null,{"$f":"IFERROR(VLOOKUP(CONCATENATE(G11,\" вес \",$W$6),'Участники чемпионата'!$A:$AF,32,0),\"\")","v":"Мамедов "},null,null,null,null,null,null,null,null,null,null,null,null,null,null,null,null,null,null,null,null,{"$f":"IFERROR(VLOOKUP(CONCATENATE(AE11,\" вес \",$W$6),'Участники чемпионата'!$A:$AF,32,0),\"\")","v":"Бердиев (Ш)"},2,null,null,2,{"$f":"IFERROR(VLOOKUP(CONCATENATE(AH11,\" вес \",$W$6),'Участники чемпионата'!$A:$AA,13,0),\"\")","v":"Бердиев Шахзод"},{"$f":"IF(IFERROR(VLOOKUP(CONCATENATE(AH11,\" вес \",$W$6),'Участники чемпионата'!$A:$AA,25,0),\"\")=\"Шлем\",\"Ш\",\"\")","v":"Ш"},{"$f":"IFERROR(VLOOKUP(CONCATENATE(AH11,\" вес \",$W$6),'Участники чемпионата'!$A:$AA,5,0),\"\")","v":"СДЮСШОР \"СПАРТАК\" (г.Нефтеюганск)"}]
[]
[]
[null,null,null,null,null,null,null,null,null,null,null,{"$f":"IFERROR(VLOOKUP(CONCATENATE(J14,\" вес \",$W$6),'Участники чемпионата'!$A:$AF,32,0),\"\")","v":""},null,null,null,null,null,null,null,null,null,null,null,null,null,null,{"$f":"IFERROR(VLOOKUP(CONCATENATE(AB14,\" вес \",$W$6),'Участники чемпионата'!$A:$AF,32,0),\"\")","v":""}]
[]
[]
[null,null,null,null,null,null,11,null,null,null,null,null,null,null,null,null,null,null,null,null,null,null,null,null,null,null,null,null,null,null,null,null,null,14,{"$f":"IFERROR(VLOOKUP(CONCATENATE(AH17,\" вес \",$W$6),'Участники чемпионата'!$A:$AA,13,0),\"\")","v":""},{"$f":"IF(IFERROR(VLOOKUP(CONCATENATE(AH17,\" вес \",$W$6),'Участники чемпионата'!$A:$AA,25,0),\"\")=\"Шлем\",\"Ш\",\"\")","v":""},{"$f":"IFERROR(VLOOKUP(CONCATENATE(AH17,\" вес \",$W$6),'Участники чемпионата'!$A:$AA,5,0),\"\")","v":""}]
[null,11,{"$f":"IFERROR(VLOOKUP(CONCATENATE(B18,\" вес \",$W$6),'Участники чемпионата'!$A:$AA,13,0),\"\")","v":""},{"$f":"IF(IFERROR(VLOOKUP(CONCATENATE(B18,\" вес \",$W$6),'Участники чемпионата'!$A:$AA,25,0),\"\")=\"Шлем\",\"Ш\",\"\")","v":""},{"$f":"IFERROR(VLOOKUP(CONCATENATE(B18,\" вес \",$W$6),'Участники чемпионата'!$A:$AA,5,0),\"\")","v":""},null,null,null,{"$f":"IFERROR(VLOOKUP(CONCATENATE(G17,\" вес \",$W$6),'Участники чемпионата'!$A:$AF,32,0),\"\")","v":""},null,null,null,null,null,null,null,null,null,null,null,null,null,null,null,null,null,null,null,null,{"$f":"IFERROR(VLOOKUP(CONCATENATE(AE17,\" вес \",$W$6),'Участники чемпионата'!$A:$AF,32,0),\"\")","v":""},null,null,null,6,{"$f":"IFERROR(VLOOKUP(CONCATENATE(AH18,\" вес \",$W$6),'Участники чемпионата'!$A:$AA,13,0),\"\")","v":"Адыгешаов Расим"},{"$f":"IF(IFERROR(VLOOKUP(CONCATENATE(AH18,\" вес \",$W$6),'Участники чемпионата'!$A:$AA,25,0),\"\")=\"Шлем\",\"Ш\",\"\")","v":"Ш"},{"$f":"IFERROR(VLOOKUP(CONCATENATE(AH18,\" вес \",$W$6),'Участники чемпионата'!$A:$AA,5,0),\"\")","v":"г. Сургут"}]
[]
[null,null,"A",null,null,null,null,null,null,null,null,null,null,null,{"$f":"IFERROR(VLOOKUP(CONCATENATE(M20,\" вес \",$W$6),'Участники чемпионата'!$A:$AF,32,0),\"\")","v":""},null,null,null,null,null,null,null,null,{"$f":"IFERROR(VLOOKUP(CONCATENATE(Y20,\" вес \",$W$6),'Участники чемпионата'!$A:$AF,32,0),\"\")","v":""},null,null,null,null,null,null,null,null,null,null,null,null,"C  "]
[]
[]
[null,5,{"$f":"IFERROR(VLOOKUP(CONCATENATE(B23,\" вес \",$W$6),'Участники чемпионата'!$A:$AA,13,0),\"\")","v":"Григоров Максим"},{"$f":"IF(IFERROR(VLOOKUP(CONCATENATE(B23,\" вес \",$W$6),'Участники чемпионата'!$A:$AA,25,0),\"\")=\"Шлем\",\"Ш\",\"\")","v":""},{"$f":"IFERROR(VLOOKUP(CONCATENATE(B23,\" вес \",$W$6),'Участники чемпионата'!$A:$AA,5,0),\"\")","v":"г. Ханты-Мансийск"},null,null,null,{"$f":"IFERROR(VLOOKUP(CONCATENATE(G23,\" вес \",$W$6),'Участники чемпионата'!$A:$AF,32,0),\"\")","v":""},null,null,null,null,null,null,null,null,null,null,null,null,null,null,null,null,null,null,null,null,{"$f":"IFERROR(VLOOKUP(CONCATENATE(AE23,\" вес \",$W$6),'Участники чемпионата'!$A:$AF,32,0),\"\")","v":""},18,null,null,18,{"$f":"IFERROR(VLOOKUP(CONCATENATE(AH23,\" вес \",$W$6),'Участники чемпионата'!$A:$AA,13,0),\"\")","v":""},{"$f":"IF(IFERROR(VLOOKUP(CONCATENATE(AH23,\" вес \",$W$6),'Участники чемпионата'!$A:$AA,25,0),\"\")=\"Шлем\",\"Ш\",\"\")","v":""},{"$f":"IFERROR(VLOOKUP(CONCATENATE(AH23,\" вес \",$W$6),'Участники чемпионата'!$A:$AA,5,0),\"\")","v":""}]
[null,17,{"$f":"IFERROR(VLOOKUP(CONCATENATE(B24,\" вес \",$W$6),'Участники чемпионата'!$A:$AA,13,0),\"\")","v":""},{"$f":"IF(IFERROR(VLOOKUP(CONCATENATE(B24,\" вес \",$W$6),'Участники чемпионата'!$A:$AA,25,0),\"\")=\"Шлем\",\"Ш\",\"\")","v":""},{"$f":"IFERROR(VLOOKUP(CONCATENATE(B24,\" вес \",$W$6),'Участники чемпионата'!$A:$AA,5,0),\"\")","v":""}]
[]
[]
[null,null,null,null,null,null,null,null,null,null,null,{"$f":"IFERROR(VLOOKUP(CONCATENATE(J26,\" вес \",$W$6),'Участники чемпионата'!$A:$AF,32,0),\"\")","v":""},null,null,null,null,null,null,null,null,null,null,null,null,null,null,{"$f":"IFERROR(VLOOKUP(CONCATENATE(AB26,\" вес \",$W$6),'Участники чемпионата'!$A:$AF,32,0),\"\")","v":""}]
[]
[null,null,null,null,null,null,9,null,null,null,null,null,null,null,null,null,null,"Чемпион",null,null,null,null,null,null,null,null,null,null,null,null,10]
[null,9,{"$f":"IFERROR(VLOOKUP(CONCATENATE(B30,\" вес \",$W$6),'Участники чемпионата'!$A:$AA,13,0),\"\")","v":"Касумов  Али"},{"$f":"IF(IFERROR(VLOOKUP(CONCATENATE(B30,\" вес \",$W$6),'Участники чемпионата'!$A:$AA,25,0),\"\")=\"Шлем\",\"Ш\",\"\")","v":""},{"$f":"IFERROR(VLOOKUP(CONCATENATE(B30,\" вес \",$W$6),'Участники чемпионата'!$A:$AA,5,0),\"\")","v":"г. Сургут"},null,null,null,{"$f":"IFERROR(VLOOKUP(CONCATENATE(G29,\" вес \",$W$6),'Участники чемпионата'!$A:$AF,32,0),\"\")","v":"Касумов  "},null,null,null,null,null,null,null,{"$f":"IFERROR(VLOOKUP(CONCATENATE(S32,\" вес \",$W$6),'Участники чемпионата'!$A:$AA,7,0),\"\")","v":""},null,null,null,null,null,null,null,null,null,null,null,null,{"$f":"IFERROR(VLOOKUP(CONCATENATE(AE29,\" вес \",$W$6),'Участники чемпионата'!$A:$AF,32,0),\"\")","v":"Магомедов "},null,null,null,10,{"$f":"IFERROR(VLOOKUP(CONCATENATE(AH30,\" вес \",$W$6),'Участники чемпионата'!$A:$AA,13,0),\"\")","v":"Магомедов Бурагим"},{"$f":"IF(IFERROR(VLOOKUP(CONCATENATE(AH30,\" вес \",$W$6),'Участники чемпионата'!$A:$AA,25,0),\"\")=\"Шлем\",\"Ш\",\"\")","v":""},{"$f":"IFERROR(VLOOKUP(CONCATENATE(AH30,\" вес \",$W$6),'Участники чемпионата'!$A:$AA,5,0),\"\")","v":"г. Нижневартовск"}]
[]
[null,null,null,null,null,null,null,null,null,null,null,null,null,null,{"$f":"IFERROR(VLOOKUP(CONCATENATE(P32,\" вес \",$W$6),'Участники чемпионата'!$A:$AF,32,0),\"\")","v":""},null,null,null,null,null,null,null,null,{"$f":"IFERROR(VLOOKUP(CONCATENATE(V32,\" вес \",$W$6),'Участники чемпионата'!$A:$AF,32,0),\"\")","v":""}]
[]
[]
[null,3,{"$f":"IFERROR(VLOOKUP(CONCATENATE(B35,\" вес \",$W$6),'Участники чемпионата'!$A:$AA,13,0),\"\")","v":"Рамазанов Джамал"},{"$f":"IF(IFERROR(VLOOKUP(CONCATENATE(B35,\" вес \",$W$6),'Участники чемпионата'!$A:$AA,25,0),\"\")=\"Шлем\",\"Ш\",\"\")","v":"Ш"},{"$f":"IFERROR(VLOOKUP(CONCATENATE(B35,\" вес \",$W$6),'Участники чемпионата'!$A:$AA,5,0),\"\")","v":"СДЮСШОР \"СПАРТАК\" (г.Нефтеюганск)"},null,null,null,{"$f":"IFERROR(VLOOKUP(CONCATENATE(G35,\" вес \",$W$6),'Участники чемпионата'!$A:$AF,32,0),\"\")","v":""},null,null,null,null,null,null,null,null,null,null,null,null,null,null,null,null,null,null,null,null,{"$f":"IFERROR(VLOOKUP(CONCATENATE(AE35,\" вес \",$W$6),'Участники чемпионата'!$A:$AF,32,0),\"\")","v":""},12,null,null,12,{"$f":"IFERROR(VLOOKUP(CONCATENATE(AH35,\" вес \",$W$6),'Участники чемпионата'!$A:$AA,13,0),\"\")","v":""},{"$f":"IF(IFERROR(VLOOKUP(CONCATENATE(AH35,\" вес \",$W$6),'Участники чемпионата'!$A:$AA,25,0),\"\")=\"Шлем\",\"Ш\",\"\")","v":""},{"$f":"IFERROR(VLOOKUP(CONCATENATE(AH35,\" вес \",$W$6),'Участники чемпионата'!$A:$AA,5,0),\"\")","v":""}]
[null,13,{"$f":"IFERROR(VLOOKUP(CONCATENATE(B36,\" вес \",$W$6),'Участники чемпионата'!$A:$AA,13,0),\"\")","v":""},{"$f":"IF(IFERROR(VLOOKUP(CONCATENATE(B36,\" вес \",$W$6),'Участники чемпионата'!$A:$AA,25,0),\"\")=\"Шлем\",\"Ш\",\"\")","v":""},{"$f":"IFERROR(VLOOKUP(CONCATENATE(B36,\" вес \",$W$6),'Участники чемпионата'!$A:$AA,5,0),\"\")","v":""}]
[]
[null,null,null,null,null,null,null,null,null,null,null,{"$f":"IFERROR(VLOOKUP(CONCATENATE(J38,\" вес \",$W$6),'Участники чемпионата'!$A:$AF,32,0),\"\")","v":""},null,null,null,null,null,null,null,null,null,null,null,null,null,null,{"$f":"IFERROR(VLOOKUP(CONCATENATE(AB38,\" вес \",$W$6),'Участники чемпионата'!$A:$AF,32,0),\"\")","v":""}]
[]
[]
[null,null,null,null,null,null,15,null,null,null,null,null,null,null,null,null,null,null,null,null,null,null,null,null,null,null,null,null,null,null,4]
[null,15,{"$f":"IFERROR(VLOOKUP(CONCATENATE(B42,\" вес \",$W$6),'Участники чемпионата'!$A:$AA,13,0),\"\")","v":""},{"$f":"IF(IFERROR(VLOOKUP(CONCATENATE(B42,\" вес \",$W$6),'Участники чемпионата'!$A:$AA,25,0),\"\")=\"Шлем\",\"Ш\",\"\")","v":""},{"$f":"IFERROR(VLOOKUP(CONCATENATE(B42,\" вес \",$W$6),'Участники чемпионата'!$A:$AA,5,0),\"\")","v":""},null,null,null,{"$f":"IFERROR(VLOOKUP(CONCATENATE(G41,\" вес \",$W$6),'Участники чемпионата'!$A:$AF,32,0),\"\")","v":""},null,null,null,null,null,null,null,null,null,null,null,null,null,null,null,null,null,null,null,null,{"$f":"IFERROR(VLOOKUP(CONCATENATE(AE41,\" вес \",$W$6),'Участники чемпионата'!$A:$AF,32,0),\"\")","v":"Дадаев (Ш)"},null,null,null,4,{"$f":"IFERROR(VLOOKUP(CONCATENATE(AH42,\" вес \",$W$6),'Участники чемпионата'!$A:$AA,13,0),\"\")","v":"Дадаев Мансур"},{"$f":"IF(IFERROR(VLOOKUP(CONCATENATE(AH42,\" вес \",$W$6),'Участники чемпионата'!$A:$AA,25,0),\"\")=\"Шлем\",\"Ш\",\"\")","v":"Ш"},{"$f":"IFERROR(VLOOKUP(CONCATENATE(AH42,\" вес \",$W$6),'Участники чемпионата'!$A:$AA,5,0),\"\")","v":"г. Ханты-Мансийск"}]
[]
[null,null,"B",null,null,null,null,null,null,null,null,null,null,null,null,null,null,null,null,null,null,null,null,null,null,null,null,null,null,null,null,null,null,null,null,null,"D  "]
[null,null,null,null,null,null,null,null,null,null,null,null,null,null,{"$f":"IFERROR(VLOOKUP(CONCATENATE(M44,\" вес \",$W$6),'Участники чемпионата'!$A:$AF,32,0),\"\")","v":""},null,null,null,null,null,null,null,null,{"$f":"IFERROR(VLOOKUP(CONCATENATE(Y44,\" вес \",$W$6),'Участники чемпионата'!$A:$AF,32,0),\"\")","v":""}]
[]
[null,7,{"$f":"IFERROR(VLOOKUP(CONCATENATE(B47,\" вес \",$W$6),'Участники чемпионата'!$A:$AA,13,0),\"\")","v":"Гаджиахмедов Магомед"},{"$f":"IF(IFERROR(VLOOKUP(CONCATENATE(B47,\" вес \",$W$6),'Участники чемпионата'!$A:$AA,25,0),\"\")=\"Шлем\",\"Ш\",\"\")","v":""},{"$f":"IFERROR(VLOOKUP(CONCATENATE(B47,\" вес \",$W$6),'Участники чемпионата'!$A:$AA,5,0),\"\")","v":"г. Сургут"},null,7,null,{"$f":"IFERROR(VLOOKUP(CONCATENATE(G47,\" вес \",$W$6),'Участники чемпионата'!$A:$AF,32,0),\"\")","v":"Гаджиахмедов "},null,null,null,null,null,null,null,null,null,null,null,null,null,null,null,null,null,null,null,null,{"$f":"IFERROR(VLOOKUP(CONCATENATE(AE47,\" вес \",$W$6),'Участники чемпионата'!$A:$AF,32,0),\"\")","v":""},16,null,null,16,{"$f":"IFERROR(VLOOKUP(CONCATENATE(AH47,\" вес \",$W$6),'Участники чемпионата'!$A:$AA,13,0),\"\")","v":""},{"$f":"IF(IFERROR(VLOOKUP(CONCATENATE(AH47,\" вес \",$W$6),'Участники чемпионата'!$A:$AA,25,0),\"\")=\"Шлем\",\"Ш\",\"\")","v":""},{"$f":"IFERROR(VLOOKUP(CONCATENATE(AH47,\" вес \",$W$6),'Участники чемпионата'!$A:$AA,5,0),\"\")","v":""}]
[]
[]
[]
[null,null,null,null,null,null,null,null,null,null,null,{"$f":"IFERROR(VLOOKUP(CONCATENATE(J50,\" вес \",$W$6),'Участники чемпионата'!$A:$AF,32,0),\"\")","v":""},null,null,null,null,null,null,null,null,null,null,null,null,null,null,{"$f":"IFERROR(VLOOKUP(CONCATENATE(AB50,\" вес \",$W$6),'Участники чемпионата'!$A:$AF,32,0),\"\")","v":""}]
[]
[null,null,null,null,null,null,19,null,null,null,null,null,null,null,null,null,null,null,null,null,null,null,null,null,null,null,null,null,null,null,null,null,null,8,{"$f":"IFERROR(VLOOKUP(CONCATENATE(AH53,\" вес \",$W$6),'Участники чемпионата'!$A:$AA,13,0),\"\")","v":"Ильясов Гасан"},{"$f":"IF(IFERROR(VLOOKUP(CONCATENATE(AH53,\" вес \",$W$6),'Участники чемпионата'!$A:$AA,25,0),\"\")=\"Шлем\",\"Ш\",\"\")","v":"Ш"},{"$f":"IFERROR(VLOOKUP(CONCATENATE(AH53,\" вес \",$W$6),'Участники чемпионата'!$A:$AA,5,0),\"\")","v":"г. Сургут"}]
[null,19,{"$f":"IFERROR(VLOOKUP(CONCATENATE(B54,\" вес \",$W$6),'Участники чемпионата'!$A:$AA,13,0),\"\")","v":""},{"$f":"IF(IFERROR(VLOOKUP(CONCATENATE(B54,\" вес \",$W$6),'Участники чемпионата'!$A:$AA,25,0),\"\")=\"Шлем\",\"Ш\",\"\")","v":""},{"$f":"IFERROR(VLOOKUP(CONCATENATE(B54,\" вес \",$W$6),'Участники чемпионата'!$A:$AA,5,0),\"\")","v":""},null,null,null,{"$f":"IFERROR(VLOOKUP(CONCATENATE(G53,\" вес \",$W$6),'Участники чемпионата'!$A:$AF,32,0),\"\")","v":""},null,null,null,null,null,null,null,null,null,null,null,null,null,null,null,null,null,null,null,null,{"$f":"IFERROR(VLOOKUP(CONCATENATE(AE53,\" вес \",$W$6),'Участники чемпионата'!$A:$AF,32,0),\"\")","v":""},null,null,null,20,{"$f":"IFERROR(VLOOKUP(CONCATENATE(AH54,\" вес \",$W$6),'Участники чемпионата'!$A:$AA,13,0),\"\")","v":""},{"$f":"IF(IFERROR(VLOOKUP(CONCATENATE(AH54,\" вес \",$W$6),'Участники чемпионата'!$A:$AA,25,0),\"\")=\"Шлем\",\"Ш\",\"\")","v":""},{"$f":"IFERROR(VLOOKUP(CONCATENATE(AH54,\" вес \",$W$6),'Участники чемпионата'!$A:$AA,5,0),\"\")","v":""}]
[]
[null,"1/16",null,null,null,null,"1/8",null,null,"1/4",null,null,"1/2",null,null,"Финал",null,null,null,null,null,null,null,null,"1/2",null,null,"1/4",null,null,"1/8",null,null,"1/16"]
[]
[null,null,null,null,null,null,null,null,null,null,null,null,null,null,null,null,null,null,null,"Участников:",{"$f":"HLOOKUP(W6,Мандатка!$C$4:$I$5,2,0)","v":10}]
[]
[]
[null,null,"1 место"]
[null,{"$f":"IF(S32=\"\",\"\",S32)","v":""},{"$f":"IF(B62=\"\",\"\",IFERROR(VLOOKUP(CONCATENATE(B62,\" вес \",$W$6),'Участники чемпионата'!$A:$AA,13,0),\"\"))","v":""},{"$f":"IF(B62=\"\",\"\",IFERROR(VLOOKUP(CONCATENATE(B62,\" вес \",$W$6),'Участники чемпионата'!$A:$AA,5,0),\"\"))","v":""}]
[]
[null,null,"2 место"]
[null,{"$f":"IF(S32=\"\",\"\",IF(S32=V32,P32,V32))","v":""},{"$f":"IF(B65=\"\",\"\",IFERROR(VLOOKUP(CONCATENATE(B65,\" вес \",$W$6),'Участники чемпионата'!$A:$AA,13,0),\"\"))","v":""},{"$f":"IF(B65=\"\",\"\",IFERROR(VLOOKUP(CONCATENATE(B65,\" вес \",$W$6),'Участники чемпионата'!$A:$AA,5,0),\"\"))","v":""},null,null,null,null,null,null,null,null,null,null,null,null,null,null,null,null,null,null,null,null,null,null,null,null,null,null,null,null,null,"Главный судья соревнований",null,"/",{"$f":"IF(VLOOKUP(AH65,'Исходные данные по чемпионату'!B:C,2,0)=0,\"\",VLOOKUP(AH65,'Исходные данные по чемпионату'!B:C,2,0))","v":"Карташков К.В."},"/"]
[]
[null,null,"3 место"]
[null,{"$f":"IF(P32=\"\",\"\",IF(P32=M44,M20,M44))","v":""},{"$f":"IF(B68=\"\",\"\",IFERROR(VLOOKUP(CONCATENATE(B68,\" вес \",$W$6),'Участники чемпионата'!$A:$AA,13,0),\"\"))","v":""},{"$f":"IF(B68=\"\",\"\",IFERROR(VLOOKUP(CONCATENATE(B68,\" вес \",$W$6),'Участники чемпионата'!$A:$AA,5,0),\"\"))","v":""}]
[null,{"$f":"IF(V32=\"\",\"\",IF(V32=Y44,Y20,Y44))","v":""},{"$f":"IF(B69=\"\",\"\",IFERROR(VLOOKUP(CONCATENATE(B69,\" вес \",$W$6),'Участники чемпионата'!$A:$AA,13,0),\"\"))","v":""},{"$f":"IF(B69=\"\",\"\",IFERROR(VLOOKUP(CONCATENATE(B69,\" вес \",$W$6),'Участники чемпионата'!$A:$AA,5,0),\"\"))","v":""},null,null,null,null,null,null,null,null,null,null,null,null,null,null,null,null,null,null,null,null,null,null,null,null,null,null,null,null,null,"Главный секретарь",null,"/",{"$f":"IF(VLOOKUP(AH69,'Исходные данные по чемпионату'!B:C,2,0)=0,\"\",VLOOKUP(AH69,'Исходные данные по чемпионату'!B:C,2,0))","v":"Толстыгин А.Ю."},"/"]
[]
[null,null,null,null,null,null,null,null,null,null,null,null,null,null,null,null,null,null,null,null,null,null,null,null,null,null,null,null,null,null,null,null,null,null,null,null,null,0]
[]
[null,null,"5-8 места",null,null,null,null,null,null,null,null,null,null,"Результат боя описание",null,null,null,null,null,null,null,null,null,null,null,null,null,null,null,null,null,null,null,null,"Финалисты"]
[null,{"$f":"IF(M20=\"\",\"\",IF(OR(J14-M20=0),J26,J14))","v":""},{"$f":"IF(B74=\"\",\"\",IFERROR(VLOOKUP(CONCATENATE(B74,\" вес \",$W$6),'Участники чемпионата'!$A:$AA,13,0),\"\"))","v":""},{"$f":"IF(B74=\"\",\"\",IFERROR(VLOOKUP(CONCATENATE(B74,\" вес \",$W$6),'Участники чемпионата'!$A:$AA,5,0),\"\"))","v":""},null,null,null,null,null,null,null,null,null,{"$f":"'Unvisible Списки'!C9","v":"(ПО)"},null,null,null,{"$f":"'Unvisible Списки'!C27","v":"по очкам"},null,null,null,null,null,null,null,null,null,null,null,null,null,null,null,{"$f":"IF(P32=\"\",\"\",P32)","v":""},{"$f":"IFERROR(VLOOKUP(CONCATENATE(AH74,\" вес \",$W$6),'Участники чемпионата'!$A:$AA,13,0),\"\")","v":""},{"$f":"IFERROR(VLOOKUP(CONCATENATE(AH74,\" вес \",$W$6),'Участники чемпионата'!$A:$AA,5,0),\"\")","v":""}]
[null,{"$f":"IF(M44=\"\",\"\",IF(OR(J38-M44=0),J50,J38))","v":""},{"$f":"IF(B75=\"\",\"\",IFERROR(VLOOKUP(CONCATENATE(B75,\" вес \",$W$6),'Участники чемпионата'!$A:$AA,13,0),\"\"))","v":""},{"$f":"IF(B75=\"\",\"\",IFERROR(VLOOKUP(CONCATENATE(B75,\" вес \",$W$6),'Участники чемпионата'!$A:$AA,5,0),\"\"))","v":""},null,null,null,null,null,null,null,null,null,{"$f":"'Unvisible Списки'!C10","v":"(КО)"},null,null,null,{"$f":"'Unvisible Списки'!C28","v":"нокаут"},null,null,null,null,null,null,null,null,null,null,null,null,null,null,null,{"$f":"IF(V32=\"\",\"\",V32)","v":""},{"$f":"IFERROR(VLOOKUP(CONCATENATE(AH75,\" вес \",$W$6),'Участники чемпионата'!$A:$AA,13,0),\"\")","v":""},{"$f":"IFERROR(VLOOKUP(CONCATENATE(AH75,\" вес \",$W$6),'Участники чемпионата'!$A:$AA,5,0),\"\")","v":""}]
[null,{"$f":"IF(Y20=\"\",\"\",IF(OR(AB14-Y20=0),AB26,AB14))","v":""},{"$f":"IF(B76=\"\",\"\",IFERROR(VLOOKUP(CONCATENATE(B76,\" вес \",$W$6),'Участники чемпионата'!$A:$AA,13,0),\"\"))","v":""},{"$f":"IF(B76=\"\",\"\",IFERROR(VLOOKUP(CONCATENATE(B76,\" вес \",$W$6),'Участники чемпионата'!$A:$AA,5,0),\"\"))","v":""},null,null,null,null,null,null,null,null,null,{"$f":"'Unvisible Списки'!C11","v":"(БЛ)"},null,null,null,{"$f":"'Unvisible Списки'!C29","v":"болевой/удушающий"}]
[null,{"$f":"IF(Y44=\"\",\"\",IF(OR(AB38-Y44=0),AB50,AB38))","v":""},{"$f":"IF(B77=\"\",\"\",IFERROR(VLOOKUP(CONCATENATE(B77,\" вес \",$W$6),'Участники чемпионата'!$A:$AA,13,0),\"\"))","v":""},{"$f":"IF(B77=\"\",\"\",IFERROR(VLOOKUP(CONCATENATE(B77,\" вес \",$W$6),'Участники чемпионата'!$A:$AA,5,0),\"\"))","v":""},null,null,null,null,null,null,null,null,null,{"$f":"'Unvisible Списки'!C12","v":"(ТКО)"},null,null,null,{"$f":"'Unvisible Списки'!C30","v":"технический нокаут"}]
[null,null,null,null,null,null,null,null,null,null,null,null,null,{"$f":"'Unvisible Списки'!C13","v":"(СН)"},null,null,null,{"$f":"'Unvisible Списки'!C31","v":"снятие врачом"}]
[null,null,"9-16 места",null,null,null,null,null,null,null,null,null,null,{"$f":"'Unvisible Списки'!C14","v":"(ОТК)"},null,null,null,{"$f":"'Unvisible Списки'!C32","v":"отказ продолжать бой"}]
[null,{"$f":"IF(J14=\"\",\"\",IF(OR(G11-J14=0),G17,G11))","v":""},{"$f":"IF(B80=\"\",\"\",IFERROR(VLOOKUP(CONCATENATE(B80,\" вес \",$W$6),'Участники чемпионата'!$A:$AA,13,0),\"\"))","v":""},{"$f":"IF(B80=\"\",\"\",IFERROR(VLOOKUP(CONCATENATE(B80,\" вес \",$W$6),'Участники чемпионата'!$A:$AA,5,0),\"\"))","v":""},null,null,null,null,null,null,null,null,null,{"$f":"'Unvisible Списки'!C15","v":"(ДСК)"},null,null,null,{"$f":"'Unvisible Списки'!C33","v":"Дисквалификация"}]
[null,{"$f":"IF(J26=\"\",\"\",IF(OR(G23-J26=0),G29,G23))","v":""},{"$f":"IF(B81=\"\",\"\",IFERROR(VLOOKUP(CONCATENATE(B81,\" вес \",$W$6),'Участники чемпионата'!$A:$AA,13,0),\"\"))","v":""},{"$f":"IF(B81=\"\",\"\",IFERROR(VLOOKUP(CONCATENATE(B81,\" вес \",$W$6),'Участники чемпионата'!$A:$AA,5,0),\"\"))","v":""},null,null,null,null,null,null,null,null,null,{"$f":"'Unvisible Списки'!C16","v":"(РГСК)"},null,null,null,{"$f":"'Unvisible Списки'!C34","v":"решение главного судьи СК"}]
[null,{"$f":"IF(J38=\"\",\"\",IF(OR(G35-J38=0),G41,G35))","v":""},{"$f":"IF(B82=\"\",\"\",IFERROR(VLOOKUP(CONCATENATE(B82,\" вес \",$W$6),'Участники чемпионата'!$A:$AA,13,0),\"\"))","v":""},{"$f":"IF(B82=\"\",\"\",IFERROR(VLOOKUP(CONCATENATE(B82,\" вес \",$W$6),'Участники чемпионата'!$A:$AA,5,0),\"\"))","v":""},null,null,null,null,null,null,null,null,null,{"$f":"'Unvisible Списки'!C17","v":"(НЯ)"},null,null,null,{"$f":"'Unvisible Списки'!C35","v":"неявка"}]
[null,{"$f":"IF(J50=\"\",\"\",IF(OR(G47-J50=0),G53,G47))","v":""},{"$f":"IF(B83=\"\",\"\",IFERROR(VLOOKUP(CONCATENATE(B83,\" вес \",$W$6),'Участники чемпионата'!$A:$AA,13,0),\"\"))","v":""},{"$f":"IF(B83=\"\",\"\",IFERROR(VLOOKUP(CONCATENATE(B83,\" вес \",$W$6),'Участники чемпионата'!$A:$AA,5,0),\"\"))","v":""}]
[null,{"$f":"IF(AB14=\"\",\"\",IF(OR(AE11-AB14=0),AE17,AE11))","v":""},{"$f":"IF(B84=\"\",\"\",IFERROR(VLOOKUP(CONCATENATE(B84,\" вес \",$W$6),'Участники чемпионата'!$A:$AA,13,0),\"\"))","v":""},{"$f":"IF(B84=\"\",\"\",IFERROR(VLOOKUP(CONCATENATE(B84,\" вес \",$W$6),'Участники чемпионата'!$A:$AA,5,0),\"\"))","v":""}]
[null,{"$f":"IF(AB26=\"\",\"\",IF(OR(AE23-AB26=0),AE29,AE23))","v":""},{"$f":"IF(B85=\"\",\"\",IFERROR(VLOOKUP(CONCATENATE(B85,\" вес \",$W$6),'Участники чемпионата'!$A:$AA,13,0),\"\"))","v":""},{"$f":"IF(B85=\"\",\"\",IFERROR(VLOOKUP(CONCATENATE(B85,\" вес \",$W$6),'Участники чемпионата'!$A:$AA,5,0),\"\"))","v":""}]
[null,{"$f":"IF(AB38=\"\",\"\",IF(OR(AE35-AB38=0),AE41,AE35))","v":""},{"$f":"IF(B86=\"\",\"\",IFERROR(VLOOKUP(CONCATENATE(B86,\" вес \",$W$6),'Участники чемпионата'!$A:$AA,13,0),\"\"))","v":""},{"$f":"IF(B86=\"\",\"\",IFERROR(VLOOKUP(CONCATENATE(B86,\" вес \",$W$6),'Участники чемпионата'!$A:$AA,5,0),\"\"))","v":""}]
[null,{"$f":"IF(AB50=\"\",\"\",IF(OR(AE47-AB50=0),AE53,AE47))","v":""},{"$f":"IF(B87=\"\",\"\",IFERROR(VLOOKUP(CONCATENATE(B87,\" вес \",$W$6),'Участники чемпионата'!$A:$AA,13,0),\"\"))","v":""},{"$f":"IF(B87=\"\",\"\",IFERROR(VLOOKUP(CONCATENATE(B87,\" вес \",$W$6),'Участники чемпионата'!$A:$AA,5,0),\"\"))","v":""}]
[]
[null,null,"17-32 места"]
[null,{"$f":"IF(G11=\"\",\"\",IF(OR(B11-G11=0),B12,B11))","v":0},{"$f":"IF(B90=\"\",\"\",IFERROR(VLOOKUP(CONCATENATE(B90,\" вес \",$W$6),'Участники чемпионата'!$A:$AA,13,0),\"\"))","v":""},{"$f":"IF(B90=\"\",\"\",IFERROR(VLOOKUP(CONCATENATE(B90,\" вес \",$W$6),'Участники чемпионата'!$A:$AA,5,0),\"\"))","v":""}]
[null,{"$f":"IF(G17=\"\",\"\",IF(OR(B17-G17=0),B18,B17))","v":0},{"$f":"IF(B91=\"\",\"\",IFERROR(VLOOKUP(CONCATENATE(B91,\" вес \",$W$6),'Участники чемпионата'!$A:$AA,13,0),\"\"))","v":""},{"$f":"IF(B91=\"\",\"\",IFERROR(VLOOKUP(CONCATENATE(B91,\" вес \",$W$6),'Участники чемпионата'!$A:$AA,5,0),\"\"))","v":""}]
[null,{"$f":"IF(G23=\"\",\"\",IF(OR(B23-G23=0),B24,B23))","v":""},{"$f":"IF(B92=\"\",\"\",IFERROR(VLOOKUP(CONCATENATE(B92,\" вес \",$W$6),'Участники чемпионата'!$A:$AA,13,0),\"\"))","v":""},{"$f":"IF(B92=\"\",\"\",IFERROR(VLOOKUP(CONCATENATE(B92,\" вес \",$W$6),'Участники чемпионата'!$A:$AA,5,0),\"\"))","v":""}]
[null,{"$f":"IF(G29=\"\",\"\",IF(G29=\"\",\"\",IF(OR(B29-G29=0),B30,B29)))","v":0},{"$f":"IF(B93=\"\",\"\",IFERROR(VLOOKUP(CONCATENATE(B93,\" вес \",$W$6),'Участники чемпионата'!$A:$AA,13,0),\"\"))","v":""},{"$f":"IF(B93=\"\",\"\",IFERROR(VLOOKUP(CONCATENATE(B93,\" вес \",$W$6),'Участники чемпионата'!$A:$AA,5,0),\"\"))","v":""}]
[null,{"$f":"IF(G35=\"\",\"\",IF(OR(B35-G35=0),B36,B35))","v":""},{"$f":"IF(B94=\"\",\"\",IFERROR(VLOOKUP(CONCATENATE(B94,\" вес \",$W$6),'Участники чемпионата'!$A:$AA,13,0),\"\"))","v":""},{"$f":"IF(B94=\"\",\"\",IFERROR(VLOOKUP(CONCATENATE(B94,\" вес \",$W$6),'Участники чемпионата'!$A:$AA,5,0),\"\"))","v":""}]
[null,{"$f":"IF(G41=\"\",\"\",IF(OR(B41-G41=0),B42,B41))","v":0},{"$f":"IF(B95=\"\",\"\",IFERROR(VLOOKUP(CONCATENATE(B95,\" вес \",$W$6),'Участники чемпионата'!$A:$AA,13,0),\"\"))","v":""},{"$f":"IF(B95=\"\",\"\",IFERROR(VLOOKUP(CONCATENATE(B95,\" вес \",$W$6),'Участники чемпионата'!$A:$AA,5,0),\"\"))","v":""}]
[null,{"$f":"IF(G47=\"\",\"\",IF(OR(B47-G47=0),B48,B47))","v":0},{"$f":"IF(B96=\"\",\"\",IFERROR(VLOOKUP(CONCATENATE(B96,\" вес \",$W$6),'Участники чемпионата'!$A:$AA,13,0),\"\"))","v":""},{"$f":"IF(B96=\"\",\"\",IFERROR(VLOOKUP(CONCATENATE(B96,\" вес \",$W$6),'Участники чемпионата'!$A:$AA,5,0),\"\"))","v":""}]
[null,{"$f":"IF(G53=\"\",\"\",IF(OR(B53-G53=0),B54,B53))","v":0},{"$f":"IF(B97=\"\",\"\",IFERROR(VLOOKUP(CONCATENATE(B97,\" вес \",$W$6),'Участники чемпионата'!$A:$AA,13,0),\"\"))","v":""},{"$f":"IF(B97=\"\",\"\",IFERROR(VLOOKUP(CONCATENATE(B97,\" вес \",$W$6),'Участники чемпионата'!$A:$AA,5,0),\"\"))","v":""}]
[null,{"$f":"IF(AE11=\"\",\"\",IF(OR(AH11-AE11=0),AH12,AH11))","v":0},{"$f":"IF(B98=\"\",\"\",IFERROR(VLOOKUP(CONCATENATE(B98,\" вес \",$W$6),'Участники чемпионата'!$A:$AA,13,0),\"\"))","v":""},{"$f":"IF(B98=\"\",\"\",IFERROR(VLOOKUP(CONCATENATE(B98,\" вес \",$W$6),'Участники чемпионата'!$A:$AA,5,0),\"\"))","v":""}]
[null,{"$f":"IF(AE17=\"\",\"\",IF(OR(AH17-AE17=0),AH18,AH17))","v":""},{"$f":"IF(B99=\"\",\"\",IFERROR(VLOOKUP(CONCATENATE(B99,\" вес \",$W$6),'Участники чемпионата'!$A:$AA,13,0),\"\"))","v":""},{"$f":"IF(B99=\"\",\"\",IFERROR(VLOOKUP(CONCATENATE(B99,\" вес \",$W$6),'Участники чемпионата'!$A:$AA,5,0),\"\"))","v":""}]
[null,{"$f":"IF(AE23=\"\",\"\",IF(OR(AH23-AE23=0),AH24,AH23))","v":0},{"$f":"IF(B100=\"\",\"\",IFERROR(VLOOKUP(CONCATENATE(B100,\" вес \",$W$6),'Участники чемпионата'!$A:$AA,13,0),\"\"))","v":""},{"$f":"IF(B100=\"\",\"\",IFERROR(VLOOKUP(CONCATENATE(B100,\" вес \",$W$6),'Участники чемпионата'!$A:$AA,5,0),\"\"))","v":""}]
[null,{"$f":"IF(AE29=\"\",\"\",IF(OR(AH29-AE29=0),AH30,AH29))","v":0},{"$f":"IF(B101=\"\",\"\",IFERROR(VLOOKUP(CONCATENATE(B101,\" вес \",$W$6),'Участники чемпионата'!$A:$AA,13,0),\"\"))","v":""},{"$f":"IF(B101=\"\",\"\",IFERROR(VLOOKUP(CONCATENATE(B101,\" вес \",$W$6),'Участники чемпионата'!$A:$AA,5,0),\"\"))","v":""}]
[null,{"$f":"IF(AE35=\"\",\"\",IF(OR(AH35-AE35=0),AH36,AH35))","v":0},{"$f":"IF(B102=\"\",\"\",IFERROR(VLOOKUP(CONCATENATE(B102,\" вес \",$W$6),'Участники чемпионата'!$A:$AA,13,0),\"\"))","v":""},{"$f":"IF(B102=\"\",\"\",IFERROR(VLOOKUP(CONCATENATE(B102,\" вес \",$W$6),'Участники чемпионата'!$A:$AA,5,0),\"\"))","v":""}]
[null,{"$f":"IF(AE41=\"\",\"\",IF(OR(AH41-AE41=0),AH42,AH41))","v":0},{"$f":"IF(B103=\"\",\"\",IFERROR(VLOOKUP(CONCATENATE(B103,\" вес \",$W$6),'Участники чемпионата'!$A:$AA,13,0),\"\"))","v":""},{"$f":"IF(B103=\"\",\"\",IFERROR(VLOOKUP(CONCATENATE(B103,\" вес \",$W$6),'Участники чемпионата'!$A:$AA,5,0),\"\"))","v":""}]
[null,{"$f":"IF(AE47=\"\",\"\",IF(OR(AH47-AE47=0),AH48,AH47))","v":0},{"$f":"IF(B104=\"\",\"\",IFERROR(VLOOKUP(CONCATENATE(B104,\" вес \",$W$6),'Участники чемпионата'!$A:$AA,13,0),\"\"))","v":""},{"$f":"IF(B104=\"\",\"\",IFERROR(VLOOKUP(CONCATENATE(B104,\" вес \",$W$6),'Участники чемпионата'!$A:$AA,5,0),\"\"))","v":""}]
[null,{"$f":"IF(AE53=\"\",\"\",IF(OR(AH53-AE53=0),AH54,AH53))","v":""},{"$f":"IF(B105=\"\",\"\",IFERROR(VLOOKUP(CONCATENATE(B105,\" вес \",$W$6),'Участники чемпионата'!$A:$AA,13,0),\"\"))","v":""},{"$f":"IF(B105=\"\",\"\",IFERROR(VLOOKUP(CONCATENATE(B105,\" вес \",$W$6),'Участники чемпионата'!$A:$AA,5,0),\"\"))","v":""}]

{"sheet":"Сетка18","index":7,"n_rows":105,"n_cols":38,"rows_kept":105,"cut":false,"hidden":true,"merged":[[1,2,1,36],[3,5,3,33],[3,36,4,36],[5,22,5,24],[10,6,11,7],[10,30,11,31],[16,6,17,7],[16,30,17,31],[19,2,20,2],[19,12,20,13],[19,24,20,25],[19,36,20,36],[12,6,13,6],[12,7,13,7],[12,30,13,30],[12,31,13,31],[13,9,14,10],[13,27,14,28],[14,6,15,6],[14,7,15,7],[14,30,15,30],[14,31,15,31],[26,31,27,31],[28,6,29,7],[28,17,28,20],[28,30,29,31],[29,16,30,21],[22,6,23,7],[22,30,23,31],[24,6,25,6],[24,7,25,7],[24,30,25,30],[24,31,25,31],[25,9,26,10],[25,27,26,28],[26,6,27,6],[26,7,27,7],[31,15,32,16],[31,18,32,19],[31,21,32,22],[33,14,34,14],[33,15,34,15],[33,18,34,18],[33,19,34,19],[33,22,34,22],[26,30,27,30],[33,23,34,23],[34,6,35,7],[34,30,35,31],[35,16,35,21],[36,6,37,6],[36,7,37,7],[36,16,37,21],[36,30,37,30],[36,31,37,31],[37,9,38,10],[43,2,44,2],[43,12,44,13],[43,24,44,25],[43,36,44,36],[46,6,47,7],[46,30,47,31],[37,27,38,28],[38,6,39,6],[38,7,39,7],[38,30,39,30],[38,31,39,31],[40,6,41,7],[40,30,41,31],[48,6,49,6],[48,7,49,7],[48,30,49,30],[48,31,49,31],[49,9,50,10],[49,27,50,28],[50,6,51,6],[50,7,51,7],[50,30,51,30],[50,31,51,31],[52,6,53,7],[52,30,53,31],[55,1,55,4],[55,6,55,7],[55,9,55,10],[55,12,55,13],[55,15,55,22],[55,24,55,25],[55,27,55,28],[55,30,55,31],[73,35,73,36],[74,3,74,4],[74,13,74,16],[74,17,74,26],[74,35,74,36],[55,33,55,36],[57,20,57,21],[61,3,61,4],[64,3,64,4],[67,3,67,4],[68,3,68,4],[75,3,75,4],[75,13,75,16],[75,17,75,26],[76,3,76,4],[76,13,76,16],[76,17,76,26],[72,13,72,26],[73,3,73,4],[73,13,73,16],[73,17,73,26],[80,3,80,4],[80,13,80,16],[80,17,80,26],[81,3,81,4],[81,13,81,16],[81,17,81,26],[77,13,77,16],[77,17,77,26],[78,13,78,16],[78,17,78,26],[79,3,79,4],[79,13,79,16],[79,17,79,26],[90,3,90,4],[91,3,91,4],[92,3,92,4],[93,3,93,4],[94,3,94,4],[95,3,95,4],[82,3,82,4],[83,3,83,4],[84,3,84,4],[85,3,85,4],[86,3,86,4],[89,3,89,4],[102,3,102,4],[103,3,103,4],[104,3,104,4],[96,3,96,4],[97,3,97,4],[98,3,98,4],[99,3,99,4],[100,3,100,4],[101,3,101,4]]}
[]
[null,null,{"$f":"'Исходные данные по чемпионату'!C3","v":"Чемпионат ХМАО-Югры по СБЕ (ММА) среди муж. 18лет и старше,первенство среди юношей 16-17лет"}]
[]
[null,null,null,null,null,"ПРОТОКОЛ СОРЕВНОВАНИЙ",null,null,null,null,null,null,null,null,null,null,null,null,null,null,null,null,null,null,null,null,null,null,null,null,null,null,null,null,null,null,{"$f":"'Исходные данные по чемпионату'!C6","v":"г. Ханты-Мансийск"}]
[]
[null,null,null,null,null,null,null,null,null,null,null,null,null,null,null,null,null,null,null,null,null,"Весовая категория до","65,8",null,null,"кг",null,null,null,null,null,null,null,null,null,null,{"$f":"'Исходные данные по чемпионату'!C4","v":"с16 по 19 февраля 2018г."}]
[]
[]
[null,"№","Спортсмен","Шлем","Команда",null,null,null,null,null,null,null,null,null,null,null,null,null,null,null,null,null,null,null,null,null,null,null,null,null,null,null,null,"№","Спортсмен","Шлем","Команда"]
[]
[null,1,{"$f":"IFERROR(VLOOKUP(CONCATENATE(B11,\" вес \",$W$6),'Участники чемпионата'!$A:$AA,13,0),\"\")","v":"Мамедов Руслан"},{"$f":"IF(IFERROR(VLOOKUP(CONCATENATE(B11,\" вес \",$W$6),'Участники чемпионата'!$A:$AA,25,0),\"\")=\"Шлем\",\"Ш\",\"\")","v":""},{"$f":"IFERROR(VLOOKUP(CONCATENATE(B11,\" вес \",$W$6),'Участники чемпионата'!$A:$AA,5,0),\"\")","v":"Скорпион (г. Лангепас)"},null,1,null,{"$f":"IFERROR(VLOOKUP(CONCATENATE(G11,\" вес \",$W$6),'Участники чемпионата'!$A:$AF,32,0),\"\")","v":"Мамедов "},null,null,null,null,null,null,null,null,null,null,null,null,null,null,null,null,null,null,null,null,{"$f":"IFERROR(VLOOKUP(CONCATENATE(AE11,\" вес \",$W$6),'Участники чемпионата'!$A:$AF,32,0),\"\")","v":"Бердиев (Ш)"},2,null,null,2,{"$f":"IFERROR(VLOOKUP(CONCATENATE(AH11,\" вес \",$W$6),'Участники чемпионата'!$A:$AA,13,0),\"\")","v":"Бердиев Шахзод"},{"$f":"IF(IFERROR(VLOOKUP(CONCATENATE(AH11,\" вес \",$W$6),'Участники чемпионата'!$A:$AA,25,0),\"\")=\"Шлем\",\"Ш\",\"\")","v":"Ш"},{"$f":"IFERROR(VLOOKUP(CONCATENATE(AH11,\" вес \",$W$6),'Участники чемпионата'!$A:$AA,5,0),\"\")","v":"СДЮСШОР \"СПАРТАК\" (г.Нефтеюганск)"}]
[]
[]
[null,null,null,null,null,null,null,null,null,null,null,{"$f":"IFERROR(VLOOKUP(CONCATENATE(J14,\" вес \",$W$6),'Участники чемпионата'!$A:$AF,32,0),\"\")","v":""},null,null,null,null,null,null,null,null,null,null,null,null,null,null,{"$f":"IFERROR(VLOOKUP(CONCATENATE(AB14,\" вес \",$W$6),'Участники чемпионата'!$A:$AF,32,0),\"\")","v":""}]
[]
[]
[null,null,null,null,null,null,11,null,null,null,null,null,null,null,null,null,null,null,null,null,null,null,null,null,null,null,null,null,null,null,12,null,null,12,{"$f":"IFERROR(VLOOKUP(CONCATENATE(AH17,\" вес \",$W$6),'Участники чемпионата'!$A:$AA,13,0),\"\")","v":""},{"$f":"IF(IFERROR(VLOOKUP(CONCATENATE(AH17,\" вес \",$W$6),'Участники чемпионата'!$A:$AA,25,0),\"\")=\"Шлем\",\"Ш\",\"\")","v":""},{"$f":"IFERROR(VLOOKUP(CONCATENATE(AH17,\" вес \",$W$6),'Участники чемпионата'!$A:$AA,5,0),\"\")","v":""}]
[null,11,{"$f":"IFERROR(VLOOKUP(CONCATENATE(B18,\" вес \",$W$6),'Участники чемпионата'!$A:$AA,13,0),\"\")","v":""},{"$f":"IF(IFERROR(VLOOKUP(CONCATENATE(B18,\" вес \",$W$6),'Участники чемпионата'!$A:$AA,25,0),\"\")=\"Шлем\",\"Ш\",\"\")","v":""},{"$f":"IFERROR(VLOOKUP(CONCATENATE(B18,\" вес \",$W$6),'Участники чемпионата'!$A:$AA,5,0),\"\")","v":""},null,null,null,{"$f":"IFERROR(VLOOKUP(CONCATENATE(G17,\" вес \",$W$6),'Участники чемпионата'!$A:$AF,32,0),\"\")","v":""},null,null,null,null,null,null,null,null,null,null,null,null,null,null,null,null,null,null,null,null,{"$f":"IFERROR(VLOOKUP(CONCATENATE(AE17,\" вес \",$W$6),'Участники чемпионата'!$A:$AF,32,0),\"\")","v":""}]
[]
[null,null,"A",null,null,null,null,null,null,null,null,null,null,null,{"$f":"IFERROR(VLOOKUP(CONCATENATE(M20,\" вес \",$W$6),'Участники чемпионата'!$A:$AF,32,0),\"\")","v":""},null,null,null,null,null,null,null,null,{"$f":"IFERROR(VLOOKUP(CONCATENATE(Y20,\" вес \",$W$6),'Участники чемпионата'!$A:$AF,32,0),\"\")","v":""},null,null,null,null,null,null,null,null,null,null,null,null,"C  "]
[]
[]
[null,5,{"$f":"IFERROR(VLOOKUP(CONCATENATE(B23,\" вес \",$W$6),'Участники чемпионата'!$A:$AA,13,0),\"\")","v":"Григоров Максим"},{"$f":"IF(IFERROR(VLOOKUP(CONCATENATE(B23,\" вес \",$W$6),'Участники чемпионата'!$A:$AA,25,0),\"\")=\"Шлем\",\"Ш\",\"\")","v":""},{"$f":"IFERROR(VLOOKUP(CONCATENATE(B23,\" вес \",$W$6),'Участники чемпионата'!$A:$AA,5,0),\"\")","v":"г. Ханты-Мансийск"},null,null,null,{"$f":"IFERROR(VLOOKUP(CONCATENATE(G23,\" вес \",$W$6),'Участники чемпионата'!$A:$AF,32,0),\"\")","v":""},null,null,null,null,null,null,null,null,null,null,null,null,null,null,null,null,null,null,null,null,{"$f":"IFERROR(VLOOKUP(CONCATENATE(AE23,\" вес \",$W$6),'Участники чемпионата'!$A:$AF,32,0),\"\")","v":"Адыгешаов (Ш)"},6,null,null,6,{"$f":"IFERROR(VLOOKUP(CONCATENATE(AH23,\" вес \",$W$6),'Участники чемпионата'!$A:$AA,13,0),\"\")","v":"Адыгешаов Расим"},{"$f":"IF(IFERROR(VLOOKUP(CONCATENATE(AH23,\" вес \",$W$6),'Участники чемпионата'!$A:$AA,25,0),\"\")=\"Шлем\",\"Ш\",\"\")","v":"Ш"},{"$f":"IFERROR(VLOOKUP(CONCATENATE(AH23,\" вес \",$W$6),'Участники чемпионата'!$A:$AA,5,0),\"\")","v":"г. Сургут"}]
[null,15,{"$f":"IFERROR(VLOOKUP(CONCATENATE(B24,\" вес \",$W$6),'Участники чемпионата'!$A:$AA,13,0),\"\")","v":""},{"$f":"IF(IFERROR(VLOOKUP(CONCATENATE(B24,\" вес \",$W$6),'Участники чемпионата'!$A:$AA,25,0),\"\")=\"Шлем\",\"Ш\",\"\")","v":""},{"$f":"IFERROR(VLOOKUP(CONCATENATE(B24,\" вес \",$W$6),'Участники чемпионата'!$A:$AA,5,0),\"\")","v":""}]
[]
[]
[null,null,null,null,null,null,null,null,null,null,null,{"$f":"IFERROR(VLOOKUP(CONCATENATE(J26,\" вес \",$W$6),'Участники чемпионата'!$A:$AF,32,0),\"\")","v":""},null,null,null,null,null,null,null,null,null,null,null,null,null,null,{"$f":"IFERROR(VLOOKUP(CONCATENATE(AB26,\" вес \",$W$6),'Участники чемпионата'!$A:$AF,32,0),\"\")","v":""}]
[]
[null,null,null,null,null,null,9,null,null,null,null,null,null,null,null,null,null,"Чемпион",null,null,null,null,null,null,null,null,null,null,null,null,16]
[null,9,{"$f":"IFERROR(VLOOKUP(CONCATENATE(B30,\" вес \",$W$6),'Участники чемпионата'!$A:$AA,13,0),\"\")","v":"Касумов  Али"},{"$f":"IF(IFERROR(VLOOKUP(CONCATENATE(B30,\" вес \",$W$6),'Участники чемпионата'!$A:$AA,25,0),\"\")=\"Шлем\",\"Ш\",\"\")","v":""},{"$f":"IFERROR(VLOOKUP(CONCATENATE(B30,\" вес \",$W$6),'Участники чемпионата'!$A:$AA,5,0),\"\")","v":"г. Сургут"},null,null,null,{"$f":"IFERROR(VLOOKUP(CONCATENATE(G29,\" вес \",$W$6),'Участники чемпионата'!$A:$AF,32,0),\"\")","v":"Касумов  "},null,null,null,null,null,null,null,{"$f":"IFERROR(VLOOKUP(CONCATENATE(S32,\" вес \",$W$6),'Участники чемпионата'!$A:$AA,7,0),\"\")","v":""},null,null,null,null,null,null,null,null,null,null,null,null,{"$f":"IFERROR(VLOOKUP(CONCATENATE(AE29,\" вес \",$W$6),'Участники чемпионата'!$A:$AF,32,0),\"\")","v":""},null,null,null,16,{"$f":"IFERROR(VLOOKUP(CONCATENATE(AH30,\" вес \",$W$6),'Участники чемпионата'!$A:$AA,13,0),\"\")","v":""},{"$f":"IF(IFERROR(VLOOKUP(CONCATENATE(AH30,\" вес \",$W$6),'Участники чемпионата'!$A:$AA,25,0),\"\")=\"Шлем\",\"Ш\",\"\")","v":""},{"$f":"IFERROR(VLOOKUP(CONCATENATE(AH30,\" вес \",$W$6),'Участники чемпионата'!$A:$AA,5,0),\"\")","v":""}]
[]
[null,null,null,null,null,null,null,null,null,null,null,null,null,null,{"$f":"IFERROR(VLOOKUP(CONCATENATE(P32,\" вес \",$W$6),'Участники чемпионата'!$A:$AF,32,0),\"\")","v":""},null,null,null,null,null,null,null,null,{"$f":"IFERROR(VLOOKUP(CONCATENATE(V32,\" вес \",$W$6),'Участники чемпионата'!$A:$AF,32,0),\"\")","v":""}]
[]
[]
[null,3,{"$f":"IFERROR(VLOOKUP(CONCATENATE(B35,\" вес \",$W$6),'Участники чемпионата'!$A:$AA,13,0),\"\")","v":"Рамазанов Джамал"},{"$f":"IF(IFERROR(VLOOKUP(CONCATENATE(B35,\" вес \",$W$6),'Участники чемпионата'!$A:$AA,25,0),\"\")=\"Шлем\",\"Ш\",\"\")","v":"Ш"},{"$f":"IFERROR(VLOOKUP(CONCATENATE(B35,\" вес \",$W$6),'Участники чемпионата'!$A:$AA,5,0),\"\")","v":"СДЮСШОР \"СПАРТАК\" (г.Нефтеюганск)"},null,3,null,{"$f":"IFERROR(VLOOKUP(CONCATENATE(G35,\" вес \",$W$6),'Участники чемпионата'!$A:$AF,32,0),\"\")","v":"Рамазанов (Ш)"},null,null,null,null,null,null,null,null,null,null,null,null,null,null,null,null,null,null,null,null,{"$f":"IFERROR(VLOOKUP(CONCATENATE(AE35,\" вес \",$W$6),'Участники чемпионата'!$A:$AF,32,0),\"\")","v":"Магомедов "},10,null,null,10,{"$f":"IFERROR(VLOOKUP(CONCATENATE(AH35,\" вес \",$W$6),'Участники чемпионата'!$A:$AA,13,0),\"\")","v":"Магомедов Бурагим"},{"$f":"IF(IFERROR(VLOOKUP(CONCATENATE(AH35,\" вес \",$W$6),'Участники чемпионата'!$A:$AA,25,0),\"\")=\"Шлем\",\"Ш\",\"\")","v":""},{"$f":"IFERROR(VLOOKUP(CONCATENATE(AH35,\" вес \",$W$6),'Участники чемпионата'!$A:$AA,5,0),\"\")","v":"г. Нижневартовск"}]
[]
[]
[null,null,null,null,null,null,null,null,null,null,null,{"$f":"IFERROR(VLOOKUP(CONCATENATE(J38,\" вес \",$W$6),'Участники чемпионата'!$A:$AF,32,0),\"\")","v":""},null,null,null,null,null,null,null,null,null,null,null,null,null,null,{"$f":"IFERROR(VLOOKUP(CONCATENATE(AB38,\" вес \",$W$6),'Участники чемпионата'!$A:$AF,32,0),\"\")","v":""}]
[]
[]
[null,null,null,null,null,null,13,null,null,null,null,null,null,null,null,null,null,null,null,null,null,null,null,null,null,null,null,null,null,null,4]
[null,13,{"$f":"IFERROR(VLOOKUP(CONCATENATE(B42,\" вес \",$W$6),'Участники чемпионата'!$A:$AA,13,0),\"\")","v":""},{"$f":"IF(IFERROR(VLOOKUP(CONCATENATE(B42,\" вес \",$W$6),'Участники чемпионата'!$A:$AA,25,0),\"\")=\"Шлем\",\"Ш\",\"\")","v":""},{"$f":"IFERROR(VLOOKUP(CONCATENATE(B42,\" вес \",$W$6),'Участники чемпионата'!$A:$AA,5,0),\"\")","v":""},null,null,null,{"$f":"IFERROR(VLOOKUP(CONCATENATE(G41,\" вес \",$W$6),'Участники чемпионата'!$A:$AF,32,0),\"\")","v":""},null,null,null,null,null,null,null,null,null,null,null,null,null,null,null,null,null,null,null,null,{"$f":"IFERROR(VLOOKUP(CONCATENATE(AE41,\" вес \",$W$6),'Участники чемпионата'!$A:$AF,32,0),\"\")","v":"Дадаев (Ш)"},null,null,null,4,{"$f":"IFERROR(VLOOKUP(CONCATENATE(AH42,\" вес \",$W$6),'Участники чемпионата'!$A:$AA,13,0),\"\")","v":"Дадаев Мансур"},{"$f":"IF(IFERROR(VLOOKUP(CONCATENATE(AH42,\" вес \",$W$6),'Участники чемпионата'!$A:$AA,25,0),\"\")=\"Шлем\",\"Ш\",\"\")","v":"Ш"},{"$f":"IFERROR(VLOOKUP(CONCATENATE(AH42,\" вес \",$W$6),'Участники чемпионата'!$A:$AA,5,0),\"\")","v":"г. Ханты-Мансийск"}]
[]
[null,null,"B",null,null,null,null,null,null,null,null,null,null,null,null,null,null,null,null,null,null,null,null,null,null,null,null,null,null,null,null,null,null,null,null,null,"D  "]
[null,null,null,null,null,null,null,null,null,null,null,null,null,null,{"$f":"IFERROR(VLOOKUP(CONCATENATE(M44,\" вес \",$W$6),'Участники чемпионата'!$A:$AF,32,0),\"\")","v":""},null,null,null,null,null,null,null,null,{"$f":"IFERROR(VLOOKUP(CONCATENATE(Y44,\" вес \",$W$6),'Участники чемпионата'!$A:$AF,32,0),\"\")","v":""}]
[]
[null,7,{"$f":"IFERROR(VLOOKUP(CONCATENATE(B47,\" вес \",$W$6),'Участники чемпионата'!$A:$AA,13,0),\"\")","v":"Гаджиахмедов Магомед"},{"$f":"IF(IFERROR(VLOOKUP(CONCATENATE(B47,\" вес \",$W$6),'Участники чемпионата'!$A:$AA,25,0),\"\")=\"Шлем\",\"Ш\",\"\")","v":""},{"$f":"IFERROR(VLOOKUP(CONCATENATE(B47,\" вес \",$W$6),'Участники чемпионата'!$A:$AA,5,0),\"\")","v":"г. Сургут"},null,7,null,{"$f":"IFERROR(VLOOKUP(CONCATENATE(G47,\" вес \",$W$6),'Участники чемпионата'!$A:$AF,32,0),\"\")","v":"Гаджиахмедов "},null,null,null,null,null,null,null,null,null,null,null,null,null,null,null,null,null,null,null,null,{"$f":"IFERROR(VLOOKUP(CONCATENATE(AE47,\" вес \",$W$6),'Участники чемпионата'!$A:$AF,32,0),\"\")","v":""},14,null,null,14,{"$f":"IFERROR(VLOOKUP(CONCATENATE(AH47,\" вес \",$W$6),'Участники чемпионата'!$A:$AA,13,0),\"\")","v":""},{"$f":"IF(IFERROR(VLOOKUP(CONCATENATE(AH47,\" вес \",$W$6),'Участники чемпионата'!$A:$AA,25,0),\"\")=\"Шлем\",\"Ш\",\"\")","v":""},{"$f":"IFERROR(VLOOKUP(CONCATENATE(AH47,\" вес \",$W$6),'Участники чемпионата'!$A:$AA,5,0),\"\")","v":""}]
[]
[]
[]
[null,null,null,null,null,null,null,null,null,null,null,{"$f":"IFERROR(VLOOKUP(CONCATENATE(J50,\" вес \",$W$6),'Участники чемпионата'!$A:$AF,32,0),\"\")","v":""},null,null,null,null,null,null,null,null,null,null,null,null,null,null,{"$f":"IFERROR(VLOOKUP(CONCATENATE(AB50,\" вес \",$W$6),'Участники чемпионата'!$A:$AF,32,0),\"\")","v":""}]
[]
[null,null,null,null,null,null,17,null,null,null,null,null,null,null,null,null,null,null,null,null,null,null,null,null,null,null,null,null,null,null,null,null,null,8,{"$f":"IFERROR(VLOOKUP(CONCATENATE(AH53,\" вес \",$W$6),'Участники чемпионата'!$A:$AA,13,0),\"\")","v":"Ильясов Гасан"},{"$f":"IF(IFERROR(VLOOKUP(CONCATENATE(AH53,\" вес \",$W$6),'Участники чемпионата'!$A:$AA,25,0),\"\")=\"Шлем\",\"Ш\",\"\")","v":"Ш"},{"$f":"IFERROR(VLOOKUP(CONCATENATE(AH53,\" вес \",$W$6),'Участники чемпионата'!$A:$AA,5,0),\"\")","v":"г. Сургут"}]
[null,17,{"$f":"IFERROR(VLOOKUP(CONCATENATE(B54,\" вес \",$W$6),'Участники чемпионата'!$A:$AA,13,0),\"\")","v":""},{"$f":"IF(IFERROR(VLOOKUP(CONCATENATE(B54,\" вес \",$W$6),'Участники чемпионата'!$A:$AA,25,0),\"\")=\"Шлем\",\"Ш\",\"\")","v":""},{"$f":"IFERROR(VLOOKUP(CONCATENATE(B54,\" вес \",$W$6),'Участники чемпионата'!$A:$AA,5,0),\"\")","v":""},null,null,null,{"$f":"IFERROR(VLOOKUP(CONCATENATE(G53,\" вес \",$W$6),'Участники чемпионата'!$A:$AF,32,0),\"\")","v":""},null,null,null,null,null,null,null,null,null,null,null,null,null,null,null,null,null,null,null,null,{"$f":"IFERROR(VLOOKUP(CONCATENATE(AE53,\" вес \",$W$6),'Участники чемпионата'!$A:$AF,32,0),\"\")","v":""},null,null,null,18,{"$f":"IFERROR(VLOOKUP(CONCATENATE(AH54,\" вес \",$W$6),'Участники чемпионата'!$A:$AA,13,0),\"\")","v":""},{"$f":"IF(IFERROR(VLOOKUP(CONCATENATE(AH54,\" вес \",$W$6),'Участники чемпионата'!$A:$AA,25,0),\"\")=\"Шлем\",\"Ш\",\"\")","v":""},{"$f":"IFERROR(VLOOKUP(CONCATENATE(AH54,\" вес \",$W$6),'Участники чемпионата'!$A:$AA,5,0),\"\")","v":""}]
[]
[null,"1/16",null,null,null,null,"1/8",null,null,"1/4",null,null,"1/2",null,null,"Финал",null,null,null,null,null,null,null,null,"1/2",null,null,"1/4",null,null,"1/8",null,null,"1/16"]
[]
[null,null,null,null,null,null,null,null,null,null,null,null,null,null,null,null,null,null,null,"Участников:",{"$f":"HLOOKUP(W6,Мандатка!$C$4:$I$5,2,0)","v":10}]
[]
[]
[null,null,"1 место"]
[null,{"$f":"IF(S32=\"\",\"\",S32)","v":""},{"$f":"IF(B62=\"\",\"\",IFERROR(VLOOKUP(CONCATENATE(B62,\" вес \",$W$6),'Участники чемпионата'!$A:$AA,13,0),\"\"))","v":""},{"$f":"IF(B62=\"\",\"\",IFERROR(VLOOKUP(CONCATENATE(B62,\" вес \",$W$6),'Участники чемпионата'!$A:$AA,5,0),\"\"))","v":""}]
[]
[null,null,"2 место"]
[null,{"$f":"IF(S32=\"\",\"\",IF(S32=V32,P32,V32))","v":""},{"$f":"IF(B65=\"\",\"\",IFERROR(VLOOKUP(CONCATENATE(B65,\" вес \",$W$6),'Участники чемпионата'!$A:$AA,13,0),\"\"))","v":""},{"$f":"IF(B65=\"\",\"\",IFERROR(VLOOKUP(CONCATENATE(B65,\" вес \",$W$6),'Участники чемпионата'!$A:$AA,5,0),\"\"))","v":""},null,null,null,null,null,null,null,null,null,null,null,null,null,null,null,null,null,null,null,null,null,null,null,null,null,null,null,null,null,"Главный судья соревнований",null,"/",{"$f":"IF(VLOOKUP(AH65,'Исходные данные по чемпионату'!B:C,2,0)=0,\"\",VLOOKUP(AH65,'Исходные данные по чемпионату'!B:C,2,0))","v":"Карташков К.В."},"/"]
[]
[null,null,"3 место"]
[null,{"$f":"IF(P32=\"\",\"\",IF(P32=M44,M20,M44))","v":""},{"$f":"IF(B68=\"\",\"\",IFERROR(VLOOKUP(CONCATENATE(B68,\" вес \",$W$6),'Участники чемпионата'!$A:$AA,13,0),\"\"))","v":""},{"$f":"IF(B68=\"\",\"\",IFERROR(VLOOKUP(CONCATENATE(B68,\" вес \",$W$6),'Участники чемпионата'!$A:$AA,5,0),\"\"))","v":""}]
[null,{"$f":"IF(V32=\"\",\"\",IF(V32=Y44,Y20,Y44))","v":""},{"$f":"IF(B69=\"\",\"\",IFERROR(VLOOKUP(CONCATENATE(B69,\" вес \",$W$6),'Участники чемпионата'!$A:$AA,13,0),\"\"))","v":""},{"$f":"IF(B69=\"\",\"\",IFERROR(VLOOKUP(CONCATENATE(B69,\" вес \",$W$6),'Участники чемпионата'!$A:$AA,5,0),\"\"))","v":""},null,null,null,null,null,null,null,null,null,null,null,null,null,null,null,null,null,null,null,null,null,null,null,null,null,null,null,null,null,"Главный секретарь",null,"/",{"$f":"IF(VLOOKUP(AH69,'Исходные данные по чемпионату'!B:C,2,0)=0,\"\",VLOOKUP(AH69,'Исходные данные по чемпионату'!B:C,2,0))","v":"Толстыгин А.Ю."},"/"]
[]
[null,null,null,null,null,null,null,null,null,null,null,null,null,null,null,null,null,null,null,null,null,null,null,null,null,null,null,null,null,null,null,null,null,null,null,null,null,0]
[]
[null,null,"5-8 места",null,null,null,null,null,null,null,null,null,null,"Результат боя описание",null,null,null,null,null,null,null,null,null,null,null,null,null,null,null,null,null,null,null,null,"Финалисты"]
[null,{"$f":"IF(M20=\"\",\"\",IF(OR(J14-M20=0),J26,J14))","v":""},{"$f":"IF(B74=\"\",\"\",IFERROR(VLOOKUP(CONCATENATE(B74,\" вес \",$W$6),'Участники чемпионата'!$A:$AA,13,0),\"\"))","v":""},{"$f":"IF(B74=\"\",\"\",IFERROR(VLOOKUP(CONCATENATE(B74,\" вес \",$W$6),'Участники чемпионата'!$A:$AA,5,0),\"\"))","v":""},null,null,null,null,null,null,null,null,null,{"$f":"'Unvisible Списки'!C9","v":"(ПО)"},null,null,null,{"$f":"'Unvisible Списки'!C27","v":"по очкам"},null,null,null,null,null,null,null,null,null,null,null,null,null,null,null,{"$f":"IF(P32=\"\",\"\",P32)","v":""},{"$f":"IFERROR(VLOOKUP(CONCATENATE(AH74,\" вес \",$W$6),'Участники чемпионата'!$A:$AA,13,0),\"\")","v":""},{"$f":"IFERROR(VLOOKUP(CONCATENATE(AH74,\" вес \",$W$6),'Участники чемпионата'!$A:$AA,5,0),\"\")","v":""}]
[null,{"$f":"IF(M44=\"\",\"\",IF(OR(J38-M44=0),J50,J38))","v":""},{"$f":"IF(B75=\"\",\"\",IFERROR(VLOOKUP(CONCATENATE(B75,\" вес \",$W$6),'Участники чемпионата'!$A:$AA,13,0),\"\"))","v":""},{"$f":"IF(B75=\"\",\"\",IFERROR(VLOOKUP(CONCATENATE(B75,\" вес \",$W$6),'Участники чемпионата'!$A:$AA,5,0),\"\"))","v":""},null,null,null,null,null,null,null,null,null,{"$f":"'Unvisible Списки'!C10","v":"(КО)"},null,null,null,{"$f":"'Unvisible Списки'!C28","v":"нокаут"},null,null,null,null,null,null,null,null,null,null,null,null,null,null,null,{"$f":"IF(V32=\"\",\"\",V32)","v":""},{"$f":"IFERROR(VLOOKUP(CONCATENATE(AH75,\" вес \",$W$6),'Участники чемпионата'!$A:$AA,13,0),\"\")","v":""},{"$f":"IFERROR(VLOOKUP(CONCATENATE(AH75,\" вес \",$W$6),'Участники чемпионата'!$A:$AA,5,0),\"\")","v":""}]
[null,{"$f":"IF(Y20=\"\",\"\",IF(OR(AB14-Y20=0),AB26,AB14))","v":""},{"$f":"IF(B76=\"\",\"\",IFERROR(VLOOKUP(CONCATENATE(B76,\" вес \",$W$6),'Участники чемпионата'!$A:$AA,13,0),\"\"))","v":""},{"$f":"IF(B76=\"\",\"\",IFERROR(VLOOKUP(CONCATENATE(B76,\" вес \",$W$6),'Участники чемпионата'!$A:$AA,5,0),\"\"))","v":""},null,null,null,null,null,null,null,null,null,{"$f":"'Unvisible Списки'!C11","v":"(БЛ)"},null,null,null,{"$f":"'Unvisible Списки'!C29","v":"болевой/удушающий"}]
[null,{"$f":"IF(Y44=\"\",\"\",IF(OR(AB38-Y44=0),AB50,AB38))","v":""},{"$f":"IF(B77=\"\",\"\",IFERROR(VLOOKUP(CONCATENATE(B77,\" вес \",$W$6),'Участники чемпионата'!$A:$AA,13,0),\"\"))","v":""},{"$f":"IF(B77=\"\",\"\",IFERROR(VLOOKUP(CONCATENATE(B77,\" вес \",$W$6),'Участники чемпионата'!$A:$AA,5,0),\"\"))","v":""},null,null,null,null,null,null,null,null,null,{"$f":"'Unvisible Списки'!C12","v":"(ТКО)"},null,null,null,{"$f":"'Unvisible Списки'!C30","v":"технический нокаут"}]
[null,null,null,null,null,null,null,null,null,null,null,null,null,{"$f":"'Unvisible Списки'!C13","v":"(СН)"},null,null,null,{"$f":"'Unvisible Списки'!C31","v":"снятие врачом"}]
[null,null,"9-16 места",null,null,null,null,null,null,null,null,null,null,{"$f":"'Unvisible Списки'!C14","v":"(ОТК)"},null,null,null,{"$f":"'Unvisible Списки'!C32","v":"отказ продолжать бой"}]
[null,{"$f":"IF(J14=\"\",\"\",IF(OR(G11-J14=0),G17,G11))","v":""},{"$f":"IF(B80=\"\",\"\",IFERROR(VLOOKUP(CONCATENATE(B80,\" вес \",$W$6),'Участники чемпионата'!$A:$AA,13,0),\"\"))","v":""},{"$f":"IF(B80=\"\",\"\",IFERROR(VLOOKUP(CONCATENATE(B80,\" вес \",$W$6),'Участники чемпионата'!$A:$AA,5,0),\"\"))","v":""},null,null,null,null,null,null,null,null,null,{"$f":"'Unvisible Списки'!C15","v":"(ДСК)"},null,null,null,{"$f":"'Unvisible Списки'!C33","v":"Дисквалификация"}]
[null,{"$f":"IF(J26=\"\",\"\",IF(OR(G23-J26=0),G29,G23))","v":""},{"$f":"IF(B81=\"\",\"\",IFERROR(VLOOKUP(CONCATENATE(B81,\" вес \",$W$6),'Участники чемпионата'!$A:$AA,13,0),\"\"))","v":""},{"$f":"IF(B81=\"\",\"\",IFERROR(VLOOKUP(CONCATENATE(B81,\" вес \",$W$6),'Участники чемпионата'!$A:$AA,5,0),\"\"))","v":""},null,null,null,null,null,null,null,null,null,{"$f":"'Unvisible Списки'!C16","v":"(РГСК)"},null,null,null,{"$f":"'Unvisible Списки'!C34","v":"решение главного судьи СК"}]
[null,{"$f":"IF(J38=\"\",\"\",IF(OR(G35-J38=0),G41,G35))","v":""},{"$f":"IF(B82=\"\",\"\",IFERROR(VLOOKUP(CONCATENATE(B82,\" вес \",$W$6),'Участники чемпионата'!$A:$AA,13,0),\"\"))","v":""},{"$f":"IF(B82=\"\",\"\",IFERROR(VLOOKUP(CONCATENATE(B82,\" вес \",$W$6),'Участники чемпионата'!$A:$AA,5,0),\"\"))","v":""},null,null,null,null,null,null,null,null,null,{"$f":"'Unvisible Списки'!C17","v":"(НЯ)"},null,null,null,{"$f":"'Unvisible Списки'!C35","v":"неявка"}]
[null,{"$f":"IF(J50=\"\",\"\",IF(OR(G47-J50=0),G53,G47))","v":""},{"$f":"IF(B83=\"\",\"\",IFERROR(VLOOKUP(CONCATENATE(B83,\" вес \",$W$6),'Участники чемпионата'!$A:$AA,13,0),\"\"))","v":""},{"$f":"IF(B83=\"\",\"\",IFERROR(VLOOKUP(CONCATENATE(B83,\" вес \",$W$6),'Участники чемпионата'!$A:$AA,5,0),\"\"))","v":""}]
[null,{"$f":"IF(AB14=\"\",\"\",IF(OR(AE11-AB14=0),AE17,AE11))","v":""},{"$f":"IF(B84=\"\",\"\",IFERROR(VLOOKUP(CONCATENATE(B84,\" вес \",$W$6),'Участники чемпионата'!$A:$AA,13,0),\"\"))","v":""},{"$f":"IF(B84=\"\",\"\",IFERROR(VLOOKUP(CONCATENATE(B84,\" вес \",$W$6),'Участники чемпионата'!$A:$AA,5,0),\"\"))","v":""}]
[null,{"$f":"IF(AB26=\"\",\"\",IF(OR(AE23-AB26=0),AE29,AE23))","v":""},{"$f":"IF(B85=\"\",\"\",IFERROR(VLOOKUP(CONCATENATE(B85,\" вес \",$W$6),'Участники чемпионата'!$A:$AA,13,0),\"\"))","v":""},{"$f":"IF(B85=\"\",\"\",IFERROR(VLOOKUP(CONCATENATE(B85,\" вес \",$W$6),'Участники чемпионата'!$A:$AA,5,0),\"\"))","v":""}]
[null,{"$f":"IF(AB38=\"\",\"\",IF(OR(AE35-AB38=0),AE41,AE35))","v":""},{"$f":"IF(B86=\"\",\"\",IFERROR(VLOOKUP(CONCATENATE(B86,\" вес \",$W$6),'Участники чемпионата'!$A:$AA,13,0),\"\"))","v":""},{"$f":"IF(B86=\"\",\"\",IFERROR(VLOOKUP(CONCATENATE(B86,\" вес \",$W$6),'Участники чемпионата'!$A:$AA,5,0),\"\"))","v":""}]
[null,{"$f":"IF(AB50=\"\",\"\",IF(OR(AE47-AB50=0),AE53,AE47))","v":""},{"$f":"IF(B87=\"\",\"\",IFERROR(VLOOKUP(CONCATENATE(B87,\" вес \",$W$6),'Участники чемпионата'!$A:$AA,13,0),\"\"))","v":""},{"$f":"IF(B87=\"\",\"\",IFERROR(VLOOKUP(CONCATENATE(B87,\" вес \",$W$6),'Участники чемпионата'!$A:$AA,5,0),\"\"))","v":""}]
[]
[null,null,"17-32 места"]
[null,{"$f":"IF(G11=\"\",\"\",IF(OR(B11-G11=0),B12,B11))","v":0},{"$f":"IF(B90=\"\",\"\",IFERROR(VLOOKUP(CONCATENATE(B90,\" вес \",$W$6),'Участники чемпионата'!$A:$AA,13,0),\"\"))","v":""},{"$f":"IF(B90=\"\",\"\",IFERROR(VLOOKUP(CONCATENATE(B90,\" вес \",$W$6),'Участники чемпионата'!$A:$AA,5,0),\"\"))","v":""}]
[null,{"$f":"IF(G17=\"\",\"\",IF(OR(B17-G17=0),B18,B17))","v":0},{"$f":"IF(B91=\"\",\"\",IFERROR(VLOOKUP(CONCATENATE(B91,\" вес \",$W$6),'Участники чемпионата'!$A:$AA,13,0),\"\"))","v":""},{"$f":"IF(B91=\"\",\"\",IFERROR(VLOOKUP(CONCATENATE(B91,\" вес \",$W$6),'Участники чемпионата'!$A:$AA,5,0),\"\"))","v":""}]
[null,{"$f":"IF(G23=\"\",\"\",IF(OR(B23-G23=0),B24,B23))","v":""},{"$f":"IF(B92=\"\",\"\",IFERROR(VLOOKUP(CONCATENATE(B92,\" вес \",$W$6),'Участники чемпионата'!$A:$AA,13,0),\"\"))","v":""},{"$f":"IF(B92=\"\",\"\",IFERROR(VLOOKUP(CONCATENATE(B92,\" вес \",$W$6),'Участники чемпионата'!$A:$AA,5,0),\"\"))","v":""}]
[null,{"$f":"IF(G29=\"\",\"\",IF(G29=\"\",\"\",IF(OR(B29-G29=0),B30,B29)))","v":0},{"$f":"IF(B93=\"\",\"\",IFERROR(VLOOKUP(CONCATENATE(B93,\" вес \",$W$6),'Участники чемпионата'!$A:$AA,13,0),\"\"))","v":""},{"$f":"IF(B93=\"\",\"\",IFERROR(VLOOKUP(CONCATENATE(B93,\" вес \",$W$6),'Участники чемпионата'!$A:$AA,5,0),\"\"))","v":""}]
[null,{"$f":"IF(G35=\"\",\"\",IF(OR(B35-G35=0),B36,B35))","v":0},{"$f":"IF(B94=\"\",\"\",IFERROR(VLOOKUP(CONCATENATE(B94,\" вес \",$W$6),'Участники чемпионата'!$A:$AA,13,0),\"\"))","v":""},{"$f":"IF(B94=\"\",\"\",IFERROR(VLOOKUP(CONCATENATE(B94,\" вес \",$W$6),'Участники чемпионата'!$A:$AA,5,0),\"\"))","v":""}]
[null,{"$f":"IF(G41=\"\",\"\",IF(OR(B41-G41=0),B42,B41))","v":0},{"$f":"IF(B95=\"\",\"\",IFERROR(VLOOKUP(CONCATENATE(B95,\" вес \",$W$6),'Участники чемпионата'!$A:$AA,13,0),\"\"))","v":""},{"$f":"IF(B95=\"\",\"\",IFERROR(VLOOKUP(CONCATENATE(B95,\" вес \",$W$6),'Участники чемпионата'!$A:$AA,5,0),\"\"))","v":""}]
[null,{"$f":"IF(G47=\"\",\"\",IF(OR(B47-G47=0),B48,B47))","v":0},{"$f":"IF(B96=\"\",\"\",IFERROR(VLOOKUP(CONCATENATE(B96,\" вес \",$W$6),'Участники чемпионата'!$A:$AA,13,0),\"\"))","v":""},{"$f":"IF(B96=\"\",\"\",IFERROR(VLOOKUP(CONCATENATE(B96,\" вес \",$W$6),'Участники чемпионата'!$A:$AA,5,0),\"\"))","v":""}]
[null,{"$f":"IF(G53=\"\",\"\",IF(OR(B53-G53=0),B54,B53))","v":0},{"$f":"IF(B97=\"\",\"\",IFERROR(VLOOKUP(CONCATENATE(B97,\" вес \",$W$6),'Участники чемпионата'!$A:$AA,13,0),\"\"))","v":""},{"$f":"IF(B97=\"\",\"\",IFERROR(VLOOKUP(CONCATENATE(B97,\" вес \",$W$6),'Участники чемпионата'!$A:$AA,5,0),\"\"))","v":""}]
[null,{"$f":"IF(AE11=\"\",\"\",IF(OR(AH11-AE11=0),AH12,AH11))","v":0},{"$f":"IF(B98=\"\",\"\",IFERROR(VLOOKUP(CONCATENATE(B98,\" вес \",$W$6),'Участники чемпионата'!$A:$AA,13,0),\"\"))","v":""},{"$f":"IF(B98=\"\",\"\",IFERROR(VLOOKUP(CONCATENATE(B98,\" вес \",$W$6),'Участники чемпионата'!$A:$AA,5,0),\"\"))","v":""}]
[null,{"$f":"IF(AE17=\"\",\"\",IF(OR(AH17-AE17=0),AH18,AH17))","v":0},{"$f":"IF(B99=\"\",\"\",IFERROR(VLOOKUP(CONCATENATE(B99,\" вес \",$W$6),'Участники чемпионата'!$A:$AA,13,0),\"\"))","v":""},{"$f":"IF(B99=\"\",\"\",IFERROR(VLOOKUP(CONCATENATE(B99,\" вес \",$W$6),'Участники чемпионата'!$A:$AA,5,0),\"\"))","v":""}]
[null,{"$f":"IF(AE23=\"\",\"\",IF(OR(AH23-AE23=0),AH24,AH23))","v":0},{"$f":"IF(B100=\"\",\"\",IFERROR(VLOOKUP(CONCATENATE(B100,\" вес \",$W$6),'Участники чемпионата'!$A:$AA,13,0),\"\"))","v":""},{"$f":"IF(B100=\"\",\"\",IFERROR(VLOOKUP(CONCATENATE(B100,\" вес \",$W$6),'Участники чемпионата'!$A:$AA,5,0),\"\"))","v":""}]
[null,{"$f":"IF(AE29=\"\",\"\",IF(OR(AH29-AE29=0),AH30,AH29))","v":0},{"$f":"IF(B101=\"\",\"\",IFERROR(VLOOKUP(CONCATENATE(B101,\" вес \",$W$6),'Участники чемпионата'!$A:$AA,13,0),\"\"))","v":""},{"$f":"IF(B101=\"\",\"\",IFERROR(VLOOKUP(CONCATENATE(B101,\" вес \",$W$6),'Участники чемпионата'!$A:$AA,5,0),\"\"))","v":""}]
[null,{"$f":"IF(AE35=\"\",\"\",IF(OR(AH35-AE35=0),AH36,AH35))","v":0},{"$f":"IF(B102=\"\",\"\",IFERROR(VLOOKUP(CONCATENATE(B102,\" вес \",$W$6),'Участники чемпионата'!$A:$AA,13,0),\"\"))","v":""},{"$f":"IF(B102=\"\",\"\",IFERROR(VLOOKUP(CONCATENATE(B102,\" вес \",$W$6),'Участники чемпионата'!$A:$AA,5,0),\"\"))","v":""}]
[null,{"$f":"IF(AE41=\"\",\"\",IF(OR(AH41-AE41=0),AH42,AH41))","v":0},{"$f":"IF(B103=\"\",\"\",IFERROR(VLOOKUP(CONCATENATE(B103,\" вес \",$W$6),'Участники чемпионата'!$A:$AA,13,0),\"\"))","v":""},{"$f":"IF(B103=\"\",\"\",IFERROR(VLOOKUP(CONCATENATE(B103,\" вес \",$W$6),'Участники чемпионата'!$A:$AA,5,0),\"\"))","v":""}]
[null,{"$f":"IF(AE47=\"\",\"\",IF(OR(AH47-AE47=0),AH48,AH47))","v":0},{"$f":"IF(B104=\"\",\"\",IFERROR(VLOOKUP(CONCATENATE(B104,\" вес \",$W$6),'Участники чемпионата'!$A:$AA,13,0),\"\"))","v":""},{"$f":"IF(B104=\"\",\"\",IFERROR(VLOOKUP(CONCATENATE(B104,\" вес \",$W$6),'Участники чемпионата'!$A:$AA,5,0),\"\"))","v":""}]
[null,{"$f":"IF(AE53=\"\",\"\",IF(OR(AH53-AE53=0),AH54,AH53))","v":""},{"$f":"IF(B105=\"\",\"\",IFERROR(VLOOKUP(CONCATENATE(B105,\" вес \",$W$6),'Участники чемпионата'!$A:$AA,13,0),\"\"))","v":""},{"$f":"IF(B105=\"\",\"\",IFERROR(VLOOKUP(CONCATENATE(B105,\" вес \",$W$6),'Участники чемпионата'!$A:$AA,5,0),\"\"))","v":""}]

{"sheet":"Сетка16","index":8,"n_rows":87,"n_cols":38,"rows_kept":87,"cut":false,"hidden":true,"merged":[[86,3,86,4],[76,3,76,4],[79,3,79,4],[80,3,80,4],[81,3,81,4],[82,3,82,4],[83,3,83,4],[35,26,36,27],[73,35,73,36],[74,35,74,36],[84,3,84,4],[85,3,85,4],[75,3,75,4],[74,3,74,4],[77,13,77,16],[77,17,77,26],[78,13,78,16],[74,13,74,16],[74,17,74,26],[75,13,75,16],[75,17,75,26],[76,13,76,16],[76,17,76,26],[1,2,1,36],[3,5,3,33],[3,36,4,36],[5,22,5,24],[14,7,15,8],[14,29,15,30],[18,10,19,11],[18,26,19,27],[23,7,24,8],[23,29,24,30],[39,7,40,8],[39,29,40,30],[25,17,25,20],[26,16,26,21],[27,15,28,16],[27,18,28,19],[27,21,28,22],[30,16,30,21],[31,7,32,8],[31,16,31,21],[31,29,32,30],[35,10,36,11],[73,3,73,4],[42,7,42,8],[42,10,42,11],[42,26,42,27],[42,29,42,30],[44,20,44,21],[42,15,42,22],[61,3,61,4],[64,3,64,4],[67,3,67,4],[68,3,68,4],[18,2,19,2],[35,2,36,2],[18,36,19,36],[35,36,36,36],[81,13,81,16],[81,17,81,26],[78,17,78,26],[79,13,79,16],[79,17,79,26],[80,13,80,16],[80,17,80,26],[42,33,42,36],[72,13,72,26],[73,13,73,16],[73,17,73,26],[42,1,42,4]]}
[]
[null,null,{"$f":"'Исходные данные по чемпионату'!C3","v":"Чемпионат ХМАО-Югры по СБЕ (ММА) среди муж. 18лет и старше,первенство среди юношей 16-17лет"}]
[]
[null,null,null,null,null,"ПРОТОКОЛ СОРЕВНОВАНИЙ",null,null,null,null,null,null,null,null,null,null,null,null,null,null,null,null,null,null,null,null,null,null,null,null,null,null,null,null,null,null,{"$f":"'Исходные данные по чемпионату'!C6","v":"г. Ханты-Мансийск"}]
[]
[null,null,null,null,null,null,null,null,null,null,null,null,null,null,null,null,null,null,null,null,null,"Весовая категория до","65,8",null,null,"кг",null,null,null,null,null,null,null,null,null,null,{"$f":"'Исходные данные по чемпионату'!C4","v":"с16 по 19 февраля 2018г."}]
[]
[]
[]
[]
[]
[]
[null,"№","Спортсмен","Шлем","Команда",null,null,null,null,null,null,null,null,null,null,null,null,null,null,null,null,null,null,null,null,null,null,null,null,null,null,null,null,"№","Спортсмен","Шлем","Команда"]
[]
[null,1,{"$f":"IFERROR(VLOOKUP(CONCATENATE(B15,\" вес \",$W$6),'Участники чемпионата'!$A:$AA,13,0),\"\")","v":"Мамедов Руслан"},{"$f":"IF(IFERROR(VLOOKUP(CONCATENATE(B15,\" вес \",$W$6),'Участники чемпионата'!$A:$AA,25,0),\"\")=\"Шлем\",\"Ш\",\"\")","v":""},{"$f":"IFERROR(VLOOKUP(CONCATENATE(B15,\" вес \",$W$6),'Участники чемпионата'!$A:$AA,5,0),\"\")","v":"Скорпион (г. Лангепас)"},null,null,null,null,{"$f":"IFERROR(VLOOKUP(CONCATENATE(H15,\" вес \",$W$6),'Участники чемпионата'!$A:$AF,32,0),\"\")","v":""},null,null,null,null,null,null,null,null,null,null,null,null,null,null,null,null,null,null,{"$f":"IFERROR(VLOOKUP(CONCATENATE(AD15,\" вес \",$W$6),'Участники чемпионата'!$A:$AF,32,0),\"\")","v":""},null,null,null,null,2,{"$f":"IFERROR(VLOOKUP(CONCATENATE(AH15,\" вес \",$W$6),'Участники чемпионата'!$A:$AA,13,0),\"\")","v":"Бердиев Шахзод"},{"$f":"IF(IFERROR(VLOOKUP(CONCATENATE(AH15,\" вес \",$W$6),'Участники чемпионата'!$A:$AA,25,0),\"\")=\"Шлем\",\"Ш\",\"\")","v":"Ш"},{"$f":"IFERROR(VLOOKUP(CONCATENATE(AH15,\" вес \",$W$6),'Участники чемпионата'!$A:$AA,5,0),\"\")","v":"СДЮСШОР \"СПАРТАК\" (г.Нефтеюганск)"}]
[null,11,{"$f":"IFERROR(VLOOKUP(CONCATENATE(B16,\" вес \",$W$6),'Участники чемпионата'!$A:$AA,13,0),\"\")","v":""},{"$f":"IF(IFERROR(VLOOKUP(CONCATENATE(B16,\" вес \",$W$6),'Участники чемпионата'!$A:$AA,25,0),\"\")=\"Шлем\",\"Ш\",\"\")","v":""},{"$f":"IFERROR(VLOOKUP(CONCATENATE(B16,\" вес \",$W$6),'Участники чемпионата'!$A:$AA,5,0),\"\")","v":""},null,null,null,null,null,null,null,null,null,null,null,null,null,null,null,null,null,null,null,null,null,null,null,null,null,null,null,null,12,{"$f":"IFERROR(VLOOKUP(CONCATENATE(AH16,\" вес \",$W$6),'Участники чемпионата'!$A:$AA,13,0),\"\")","v":""},{"$f":"IF(IFERROR(VLOOKUP(CONCATENATE(AH16,\" вес \",$W$6),'Участники чемпионата'!$A:$AA,25,0),\"\")=\"Шлем\",\"Ш\",\"\")","v":""},{"$f":"IFERROR(VLOOKUP(CONCATENATE(AH16,\" вес \",$W$6),'Участники чемпионата'!$A:$AA,5,0),\"\")","v":""}]
[]
[]
[null,null,"A",null,null,null,null,null,null,null,null,null,{"$f":"IFERROR(VLOOKUP(CONCATENATE(K19,\" вес \",$W$6),'Участники чемпионата'!$A:$AF,32,0),\"\")","v":""},null,null,null,null,null,null,null,null,null,null,null,null,{"$f":"IFERROR(VLOOKUP(CONCATENATE(AA19,\" вес \",$W$6),'Участники чемпионата'!$A:$AF,32,0),\"\")","v":""},null,null,null,null,null,null,null,null,null,null,"C  "]
[]
[]
[]
[]
[null,5,{"$f":"IFERROR(VLOOKUP(CONCATENATE(B24,\" вес \",$W$6),'Участники чемпионата'!$A:$AA,13,0),\"\")","v":"Григоров Максим"},{"$f":"IF(IFERROR(VLOOKUP(CONCATENATE(B24,\" вес \",$W$6),'Участники чемпионата'!$A:$AA,25,0),\"\")=\"Шлем\",\"Ш\",\"\")","v":""},{"$f":"IFERROR(VLOOKUP(CONCATENATE(B24,\" вес \",$W$6),'Участники чемпионата'!$A:$AA,5,0),\"\")","v":"г. Ханты-Мансийск"},null,null,null,null,null,null,null,null,null,null,null,null,null,null,null,null,null,null,null,null,null,null,null,null,null,null,null,null,6,{"$f":"IFERROR(VLOOKUP(CONCATENATE(AH24,\" вес \",$W$6),'Участники чемпионата'!$A:$AA,13,0),\"\")","v":"Адыгешаов Расим"},{"$f":"IF(IFERROR(VLOOKUP(CONCATENATE(AH24,\" вес \",$W$6),'Участники чемпионата'!$A:$AA,25,0),\"\")=\"Шлем\",\"Ш\",\"\")","v":"Ш"},{"$f":"IFERROR(VLOOKUP(CONCATENATE(AH24,\" вес \",$W$6),'Участники чемпионата'!$A:$AA,5,0),\"\")","v":"г. Сургут"}]
[null,15,{"$f":"IFERROR(VLOOKUP(CONCATENATE(B25,\" вес \",$W$6),'Участники чемпионата'!$A:$AA,13,0),\"\")","v":""},{"$f":"IF(IFERROR(VLOOKUP(CONCATENATE(B25,\" вес \",$W$6),'Участники чемпионата'!$A:$AA,25,0),\"\")=\"Шлем\",\"Ш\",\"\")","v":""},{"$f":"IFERROR(VLOOKUP(CONCATENATE(B25,\" вес \",$W$6),'Участники чемпионата'!$A:$AA,5,0),\"\")","v":""},null,null,null,null,{"$f":"IFERROR(VLOOKUP(CONCATENATE(H24,\" вес \",$W$6),'Участники чемпионата'!$A:$AF,32,0),\"\")","v":""},null,null,null,null,null,null,null,null,null,null,null,null,null,null,null,null,null,null,{"$f":"IFERROR(VLOOKUP(CONCATENATE(AD24,\" вес \",$W$6),'Участники чемпионата'!$A:$AF,32,0),\"\")","v":""},null,null,null,null,14,{"$f":"IFERROR(VLOOKUP(CONCATENATE(AH25,\" вес \",$W$6),'Участники чемпионата'!$A:$AA,13,0),\"\")","v":""},{"$f":"IF(IFERROR(VLOOKUP(CONCATENATE(AH25,\" вес \",$W$6),'Участники чемпионата'!$A:$AA,25,0),\"\")=\"Шлем\",\"Ш\",\"\")","v":""},{"$f":"IFERROR(VLOOKUP(CONCATENATE(AH25,\" вес \",$W$6),'Участники чемпионата'!$A:$AA,5,0),\"\")","v":""}]
[null,null,null,null,null,null,null,null,null,null,null,null,null,null,null,null,null,"Чемпион"]
[null,null,null,null,null,null,null,null,"",null,null,null,null,null,null,null,{"$f":"IFERROR(VLOOKUP(CONCATENATE(S28,\" вес \",$W$6),'Участники чемпионата'!$A:$AA,7,0),\"\")","v":""},null,null,null,null,null,null,null,null,null,null,null,null,""]
[null,null,null,null,null,null,null,null,null,null,null,null,null,null,{"$f":"IFERROR(VLOOKUP(CONCATENATE(P28,\" вес \",$W$6),'Участники чемпионата'!$A:$AF,32,0),\"\")","v":""},null,null,null,null,null,null,null,null,{"$f":"IFERROR(VLOOKUP(CONCATENATE(V28,\" вес \",$W$6),'Участники чемпионата'!$A:$AF,32,0),\"\")","v":""}]
[]
[]
[]
[null,3,{"$f":"IFERROR(VLOOKUP(CONCATENATE(B32,\" вес \",$W$6),'Участники чемпионата'!$A:$AA,13,0),\"\")","v":"Рамазанов Джамал"},{"$f":"IF(IFERROR(VLOOKUP(CONCATENATE(B32,\" вес \",$W$6),'Участники чемпионата'!$A:$AA,25,0),\"\")=\"Шлем\",\"Ш\",\"\")","v":"Ш"},{"$f":"IFERROR(VLOOKUP(CONCATENATE(B32,\" вес \",$W$6),'Участники чемпионата'!$A:$AA,5,0),\"\")","v":"СДЮСШОР \"СПАРТАК\" (г.Нефтеюганск)"},null,null,null,null,{"$f":"IFERROR(VLOOKUP(CONCATENATE(H32,\" вес \",$W$6),'Участники чемпионата'!$A:$AF,32,0),\"\")","v":""},null,null,null,null,null,null,null,null,null,null,null,null,null,null,null,null,null,null,{"$f":"IFERROR(VLOOKUP(CONCATENATE(AD32,\" вес \",$W$6),'Участники чемпионата'!$A:$AF,32,0),\"\")","v":""},null,null,null,null,10,{"$f":"IFERROR(VLOOKUP(CONCATENATE(AH32,\" вес \",$W$6),'Участники чемпионата'!$A:$AA,13,0),\"\")","v":"Магомедов Бурагим"},{"$f":"IF(IFERROR(VLOOKUP(CONCATENATE(AH32,\" вес \",$W$6),'Участники чемпионата'!$A:$AA,25,0),\"\")=\"Шлем\",\"Ш\",\"\")","v":""},{"$f":"IFERROR(VLOOKUP(CONCATENATE(AH32,\" вес \",$W$6),'Участники чемпионата'!$A:$AA,5,0),\"\")","v":"г. Нижневартовск"}]
[null,9,{"$f":"IFERROR(VLOOKUP(CONCATENATE(B33,\" вес \",$W$6),'Участники чемпионата'!$A:$AA,13,0),\"\")","v":"Касумов  Али"},{"$f":"IF(IFERROR(VLOOKUP(CONCATENATE(B33,\" вес \",$W$6),'Участники чемпионата'!$A:$AA,25,0),\"\")=\"Шлем\",\"Ш\",\"\")","v":""},{"$f":"IFERROR(VLOOKUP(CONCATENATE(B33,\" вес \",$W$6),'Участники чемпионата'!$A:$AA,5,0),\"\")","v":"г. Сургут"},null,null,null,null,null,null,null,null,null,null,null,null,null,null,null,null,null,null,null,null,null,null,null,null,null,null,null,null,4,{"$f":"IFERROR(VLOOKUP(CONCATENATE(AH33,\" вес \",$W$6),'Участники чемпионата'!$A:$AA,13,0),\"\")","v":"Дадаев Мансур"},{"$f":"IF(IFERROR(VLOOKUP(CONCATENATE(AH33,\" вес \",$W$6),'Участники чемпионата'!$A:$AA,25,0),\"\")=\"Шлем\",\"Ш\",\"\")","v":"Ш"},{"$f":"IFERROR(VLOOKUP(CONCATENATE(AH33,\" вес \",$W$6),'Участники чемпионата'!$A:$AA,5,0),\"\")","v":"г. Ханты-Мансийск"}]
[]
[]
[null,null,"B",null,null,null,null,null,null,null,null,null,null,null,null,null,null,null,null,null,null,null,null,null,null,null,null,null,null,null,null,null,null,null,null,null,"D  "]
[null,null,null,null,null,null,null,null,null,null,null,null,{"$f":"IFERROR(VLOOKUP(CONCATENATE(K36,\" вес \",$W$6),'Участники чемпионата'!$A:$AF,32,0),\"\")","v":""},null,null,null,null,null,null,null,null,null,null,null,null,{"$f":"IFERROR(VLOOKUP(CONCATENATE(AA36,\" вес \",$W$6),'Участники чемпионата'!$A:$AF,32,0),\"\")","v":""}]
[]
[]
[null,13,{"$f":"IFERROR(VLOOKUP(CONCATENATE(B40,\" вес \",$W$6),'Участники чемпионата'!$A:$AA,13,0),\"\")","v":""},{"$f":"IF(IFERROR(VLOOKUP(CONCATENATE(B40,\" вес \",$W$6),'Участники чемпионата'!$A:$AA,25,0),\"\")=\"Шлем\",\"Ш\",\"\")","v":""},{"$f":"IFERROR(VLOOKUP(CONCATENATE(B40,\" вес \",$W$6),'Участники чемпионата'!$A:$AA,5,0),\"\")","v":""},null,null,null,null,null,null,null,null,null,null,null,null,null,null,null,null,null,null,null,null,null,null,null,null,null,null,null,null,8,{"$f":"IFERROR(VLOOKUP(CONCATENATE(AH40,\" вес \",$W$6),'Участники чемпионата'!$A:$AA,13,0),\"\")","v":"Ильясов Гасан"},{"$f":"IF(IFERROR(VLOOKUP(CONCATENATE(AH40,\" вес \",$W$6),'Участники чемпионата'!$A:$AA,25,0),\"\")=\"Шлем\",\"Ш\",\"\")","v":"Ш"},{"$f":"IFERROR(VLOOKUP(CONCATENATE(AH40,\" вес \",$W$6),'Участники чемпионата'!$A:$AA,5,0),\"\")","v":"г. Сургут"}]
[null,7,{"$f":"IFERROR(VLOOKUP(CONCATENATE(B41,\" вес \",$W$6),'Участники чемпионата'!$A:$AA,13,0),\"\")","v":"Гаджиахмедов Магомед"},{"$f":"IF(IFERROR(VLOOKUP(CONCATENATE(B41,\" вес \",$W$6),'Участники чемпионата'!$A:$AA,25,0),\"\")=\"Шлем\",\"Ш\",\"\")","v":""},{"$f":"IFERROR(VLOOKUP(CONCATENATE(B41,\" вес \",$W$6),'Участники чемпионата'!$A:$AA,5,0),\"\")","v":"г. Сургут"},null,null,null,null,{"$f":"IFERROR(VLOOKUP(CONCATENATE(H40,\" вес \",$W$6),'Участники чемпионата'!$A:$AF,32,0),\"\")","v":""},null,null,null,null,null,null,null,null,null,null,null,null,null,null,null,null,null,null,{"$f":"IFERROR(VLOOKUP(CONCATENATE(AD40,\" вес \",$W$6),'Участники чемпионата'!$A:$AF,32,0),\"\")","v":""},null,null,null,null,16,{"$f":"IFERROR(VLOOKUP(CONCATENATE(AH41,\" вес \",$W$6),'Участники чемпионата'!$A:$AA,13,0),\"\")","v":""},{"$f":"IF(IFERROR(VLOOKUP(CONCATENATE(AH41,\" вес \",$W$6),'Участники чемпионата'!$A:$AA,25,0),\"\")=\"Шлем\",\"Ш\",\"\")","v":""},{"$f":"IFERROR(VLOOKUP(CONCATENATE(AH41,\" вес \",$W$6),'Участники чемпионата'!$A:$AA,5,0),\"\")","v":""}]
[]
[null,"1/8",null,null,null,null,null,"1/4",null,null,"1/2",null,null,null,null,"Финал",null,null,null,null,null,null,null,null,null,null,"1/2",null,null,"1/4",null,null,null,"1/8"]
[]
[null,null,null,null,null,null,null,null,null,null,null,null,null,null,null,null,null,null,null,"Участников:",{"$f":"HLOOKUP(W6,Мандатка!$C$4:$I$5,2,0)","v":10}]
[]
[]
[]
[]
[]
["Скрыть"]
["Скрыть"]
["Скрыть"]
["Скрыть"]
["Скрыть"]
[]
[]
[]
[]
[]
[null,null,"1 место"]
[null,{"$f":"IF(S28=\"\",\"\",S28)","v":""},{"$f":"IF(B62=\"\",\"\",IFERROR(VLOOKUP(CONCATENATE(B62,\" вес \",$W$6),'Участники чемпионата'!$A:$AA,13,0),\"\"))","v":""},{"$f":"IF(B62=\"\",\"\",IFERROR(VLOOKUP(CONCATENATE(B62,\" вес \",$W$6),'Участники чемпионата'!$A:$AA,5,0),\"\"))","v":""}]
[]
[null,null,"2 место"]
[null,{"$f":"IF(S28=\"\",\"\",IF(S28=V28,P28,V28))","v":""},{"$f":"IF(B65=\"\",\"\",IFERROR(VLOOKUP(CONCATENATE(B65,\" вес \",$W$6),'Участники чемпионата'!$A:$AA,13,0),\"\"))","v":""},{"$f":"IF(B65=\"\",\"\",IFERROR(VLOOKUP(CONCATENATE(B65,\" вес \",$W$6),'Участники чемпионата'!$A:$AA,5,0),\"\"))","v":""},null,null,null,null,null,null,null,null,null,null,null,null,null,null,null,null,null,null,null,null,null,null,null,null,null,null,null,null,null,"Главный судья соревнований",null,"/",{"$f":"IF(VLOOKUP(AH65,'Исходные данные по чемпионату'!B:C,2,0)=0,\"\",VLOOKUP(AH65,'Исходные данные по чемпионату'!B:C,2,0))","v":"Карташков К.В."},"/"]
[]
[null,null,"3 место"]
[null,{"$f":"IF(P28=\"\",\"\",IF(P28=K36,K19,K36))","v":""},{"$f":"IF(B68=\"\",\"\",IFERROR(VLOOKUP(CONCATENATE(B68,\" вес \",$W$6),'Участники чемпионата'!$A:$AA,13,0),\"\"))","v":""},{"$f":"IF(B68=\"\",\"\",IFERROR(VLOOKUP(CONCATENATE(B68,\" вес \",$W$6),'Участники чемпионата'!$A:$AA,5,0),\"\"))","v":""}]
[null,{"$f":"IF(V28=\"\",\"\",IF(V28=AA36,AA19,AA36))","v":""},{"$f":"IF(B69=\"\",\"\",IFERROR(VLOOKUP(CONCATENATE(B69,\" вес \",$W$6),'Участники чемпионата'!$A:$AA,13,0),\"\"))","v":""},{"$f":"IF(B69=\"\",\"\",IFERROR(VLOOKUP(CONCATENATE(B69,\" вес \",$W$6),'Участники чемпионата'!$A:$AA,5,0),\"\"))","v":""},null,null,null,null,null,null,null,null,null,null,null,null,null,null,null,null,null,null,null,null,null,null,null,null,null,null,null,null,null,"Главный секретарь",null,"/",{"$f":"IF(VLOOKUP(AH69,'Исходные данные по чемпионату'!B:C,2,0)=0,\"\",VLOOKUP(AH69,'Исходные данные по чемпионату'!B:C,2,0))","v":"Толстыгин А.Ю."},"/"]
[]
[null,null,null,null,null,null,null,null,null,null,null,null,null,null,null,null,null,null,null,null,null,null,null,null,null,null,null,null,null,null,null,null,null,null,null,null,null,0]
[]
[null,null,"5-8 места",null,null,null,null,null,null,null,null,null,null,"Результат боя описание",null,null,null,null,null,null,null,null,null,null,null,null,null,null,null,null,null,null,null,null,"Финалисты"]
[null,{"$f":"IF(K19=\"\",\"\",IF(OR(H15-K19=0),H24,H15))","v":""},{"$f":"IF(B74=\"\",\"\",IFERROR(VLOOKUP(CONCATENATE(B74,\" вес \",$W$6),'Участники чемпионата'!$A:$AA,13,0),\"\"))","v":""},{"$f":"IF(B74=\"\",\"\",IFERROR(VLOOKUP(CONCATENATE(B74,\" вес \",$W$6),'Участники чемпионата'!$A:$AA,5,0),\"\"))","v":""},null,null,null,null,null,null,null,null,null,{"$f":"'Unvisible Списки'!C9","v":"(ПО)"},null,null,null,{"$f":"'Unvisible Списки'!C27","v":"по очкам"},null,null,null,null,null,null,null,null,null,null,null,null,null,null,null,{"$f":"IF(P28=\"\",\"\",P28)","v":""},{"$f":"IFERROR(VLOOKUP(CONCATENATE(AH74,\" вес \",$W$6),'Участники чемпионата'!$A:$AA,13,0),\"\")","v":""},{"$f":"IFERROR(VLOOKUP(CONCATENATE(AH74,\" вес \",$W$6),'Участники чемпионата'!$A:$AA,5,0),\"\")","v":""}]
[null,{"$f":"IF(K36=\"\",\"\",IF(OR(H32-K36=0),H40,H32))","v":""},{"$f":"IF(B75=\"\",\"\",IFERROR(VLOOKUP(CONCATENATE(B75,\" вес \",$W$6),'Участники чемпионата'!$A:$AA,13,0),\"\"))","v":""},{"$f":"IF(B75=\"\",\"\",IFERROR(VLOOKUP(CONCATENATE(B75,\" вес \",$W$6),'Участники чемпионата'!$A:$AA,5,0),\"\"))","v":""},null,null,null,null,null,null,null,null,null,{"$f":"'Unvisible Списки'!C10","v":"(КО)"},null,null,null,{"$f":"'Unvisible Списки'!C28","v":"нокаут"},null,null,null,null,null,null,null,null,null,null,null,null,null,null,null,{"$f":"IF(V28=\"\",\"\",V28)","v":""},{"$f":"IFERROR(VLOOKUP(CONCATENATE(AH75,\" вес \",$W$6),'Участники чемпионата'!$A:$AA,13,0),\"\")","v":""},{"$f":"IFERROR(VLOOKUP(CONCATENATE(AH75,\" вес \",$W$6),'Участники чемпионата'!$A:$AA,5,0),\"\")","v":""}]
[null,{"$f":"IF(AA19=\"\",\"\",IF(OR(AD15-AA19=0),AD24,AD15))","v":""},{"$f":"IF(B76=\"\",\"\",IFERROR(VLOOKUP(CONCATENATE(B76,\" вес \",$W$6),'Участники чемпионата'!$A:$AA,13,0),\"\"))","v":""},{"$f":"IF(B76=\"\",\"\",IFERROR(VLOOKUP(CONCATENATE(B76,\" вес \",$W$6),'Участники чемпионата'!$A:$AA,5,0),\"\"))","v":""},null,null,null,null,null,null,null,null,null,{"$f":"'Unvisible Списки'!C11","v":"(БЛ)"},null,null,null,{"$f":"'Unvisible Списки'!C29","v":"болевой/удушающий"}]
[null,{"$f":"IF(AA36=\"\",\"\",IF(OR(AD32-AA36=0),AD40,AD32))","v":""},{"$f":"IF(B77=\"\",\"\",IFERROR(VLOOKUP(CONCATENATE(B77,\" вес \",$W$6),'Участники чемпионата'!$A:$AA,13,0),\"\"))","v":""},{"$f":"IF(B77=\"\",\"\",IFERROR(VLOOKUP(CONCATENATE(B77,\" вес \",$W$6),'Участники чемпионата'!$A:$AA,5,0),\"\"))","v":""},null,null,null,null,null,null,null,null,null,{"$f":"'Unvisible Списки'!C12","v":"(ТКО)"},null,null,null,{"$f":"'Unvisible Списки'!C30","v":"технический нокаут"}]
[null,null,null,null,null,null,null,null,null,null,null,null,null,{"$f":"'Unvisible Списки'!C13","v":"(СН)"},null,null,null,{"$f":"'Unvisible Списки'!C31","v":"снятие врачом"}]
[null,null,"9-16 места",null,null,null,null,null,null,null,null,null,null,{"$f":"'Unvisible Списки'!C14","v":"(ОТК)"},null,null,null,{"$f":"'Unvisible Списки'!C32","v":"отказ продолжать бой"}]
[null,{"$f":"IF(H15=\"\",\"\",IF(OR(B15-H15=0),B16,B15))","v":""},{"$f":"IF(B80=\"\",\"\",IFERROR(VLOOKUP(CONCATENATE(B80,\" вес \",$W$6),'Участники чемпионата'!$A:$AA,13,0),\"\"))","v":""},{"$f":"IF(B80=\"\",\"\",IFERROR(VLOOKUP(CONCATENATE(B80,\" вес \",$W$6),'Участники чемпионата'!$A:$AA,5,0),\"\"))","v":""},null,null,null,null,null,null,null,null,null,{"$f":"'Unvisible Списки'!C15","v":"(ДСК)"},null,null,null,{"$f":"'Unvisible Списки'!C33","v":"Дисквалификация"}]
[null,{"$f":"IF(H24=\"\",\"\",IF(OR(B24-H24=0),B25,B24))","v":""},{"$f":"IF(B81=\"\",\"\",IFERROR(VLOOKUP(CONCATENATE(B81,\" вес \",$W$6),'Участники чемпионата'!$A:$AA,13,0),\"\"))","v":""},{"$f":"IF(B81=\"\",\"\",IFERROR(VLOOKUP(CONCATENATE(B81,\" вес \",$W$6),'Участники чемпионата'!$A:$AA,5,0),\"\"))","v":""},null,null,null,null,null,null,null,null,null,{"$f":"'Unvisible Списки'!C16","v":"(РГСК)"},null,null,null,{"$f":"'Unvisible Списки'!C34","v":"решение главного судьи СК"}]
[null,{"$f":"IF(H32=\"\",\"\",IF(OR(B32-H32=0),B33,B32))","v":""},{"$f":"IF(B82=\"\",\"\",IFERROR(VLOOKUP(CONCATENATE(B82,\" вес \",$W$6),'Участники чемпионата'!$A:$AA,13,0),\"\"))","v":""},{"$f":"IF(B82=\"\",\"\",IFERROR(VLOOKUP(CONCATENATE(B82,\" вес \",$W$6),'Участники чемпионата'!$A:$AA,5,0),\"\"))","v":""},null,null,null,null,null,null,null,null,null,{"$f":"'Unvisible Списки'!C17","v":"(НЯ)"},null,null,null,{"$f":"'Unvisible Списки'!C35","v":"неявка"}]
[null,{"$f":"IF(H40=\"\",\"\",IF(OR(B40-H40=0),B41,B40))","v":""},{"$f":"IF(B83=\"\",\"\",IFERROR(VLOOKUP(CONCATENATE(B83,\" вес \",$W$6),'Участники чемпионата'!$A:$AA,13,0),\"\"))","v":""},{"$f":"IF(B83=\"\",\"\",IFERROR(VLOOKUP(CONCATENATE(B83,\" вес \",$W$6),'Участники чемпионата'!$A:$AA,5,0),\"\"))","v":""}]
[null,{"$f":"IF(AD15=\"\",\"\",IF(OR(AH15-AD15=0),AH16,AH15))","v":""},{"$f":"IF(B84=\"\",\"\",IFERROR(VLOOKUP(CONCATENATE(B84,\" вес \",$W$6),'Участники чемпионата'!$A:$AA,13,0),\"\"))","v":""},{"$f":"IF(B84=\"\",\"\",IFERROR(VLOOKUP(CONCATENATE(B84,\" вес \",$W$6),'Участники чемпионата'!$A:$AA,5,0),\"\"))","v":""}]
[null,{"$f":"IF(AD24=\"\",\"\",IF(OR(AH24-AD24=0),AH25,AH24))","v":""},{"$f":"IF(B85=\"\",\"\",IFERROR(VLOOKUP(CONCATENATE(B85,\" вес \",$W$6),'Участники чемпионата'!$A:$AA,13,0),\"\"))","v":""},{"$f":"IF(B85=\"\",\"\",IFERROR(VLOOKUP(CONCATENATE(B85,\" вес \",$W$6),'Участники чемпионата'!$A:$AA,5,0),\"\"))","v":""}]
[null,{"$f":"IF(AD32=\"\",\"\",IF(OR(AH32-AD32=0),AH33,AH32))","v":""},{"$f":"IF(B86=\"\",\"\",IFERROR(VLOOKUP(CONCATENATE(B86,\" вес \",$W$6),'Участники чемпионата'!$A:$AA,13,0),\"\"))","v":""},{"$f":"IF(B86=\"\",\"\",IFERROR(VLOOKUP(CONCATENATE(B86,\" вес \",$W$6),'Участники чемпионата'!$A:$AA,5,0),\"\"))","v":""}]
[null,{"$f":"IF(AD40=\"\",\"\",IF(OR(AH40-AD40=0),AH41,AH40))","v":""},{"$f":"IF(B87=\"\",\"\",IFERROR(VLOOKUP(CONCATENATE(B87,\" вес \",$W$6),'Участники чемпионата'!$A:$AA,13,0),\"\"))","v":""},{"$f":"IF(B87=\"\",\"\",IFERROR(VLOOKUP(CONCATENATE(B87,\" вес \",$W$6),'Участники чемпионата'!$A:$AA,5,0),\"\"))","v":""}]

{"sheet":"Сетка14","index":9,"n_rows":87,"n_cols":38,"rows_kept":87,"cut":false,"hidden":true,"merged":[[1,2,1,36],[3,5,3,33],[3,36,4,36],[5,22,5,24],[14,7,15,8],[14,29,15,30],[30,16,30,21],[18,2,19,2],[18,10,19,11],[18,26,19,27],[18,36,19,36],[23,7,24,8],[23,29,24,30],[25,17,25,20],[26,16,26,21],[27,15,28,16],[27,18,28,19],[27,21,28,22],[31,7,32,8],[31,16,31,21],[31,29,32,30],[35,2,36,2],[35,10,36,11],[35,26,36,27],[72,13,72,26],[35,36,36,36],[39,7,40,8],[39,29,40,30],[42,1,42,4],[42,7,42,8],[42,10,42,11],[42,15,42,22],[42,26,42,27],[42,29,42,30],[42,33,42,36],[44,20,44,21],[61,3,61,4],[64,3,64,4],[67,3,67,4],[68,3,68,4],[73,3,73,4],[73,13,73,16],[73,17,73,26],[73,35,73,36],[74,3,74,4],[74,13,74,16],[74,17,74,26],[74,35,74,36],[75,3,75,4],[75,13,75,16],[75,17,75,26],[76,3,76,4],[76,13,76,16],[76,17,76,26],[77,13,77,16],[77,17,77,26],[78,13,78,16],[78,17,78,26],[79,3,79,4],[79,13,79,16],[79,17,79,26],[80,3,80,4],[80,13,80,16],[80,17,80,26],[81,3,81,4],[81,13,81,16],[81,17,81,26],[82,3,82,4],[83,3,83,4],[84,3,84,4],[85,3,85,4],[86,3,86,4]]}
[]
[null,null,{"$f":"'Исходные данные по чемпионату'!C3","v":"Чемпионат ХМАО-Югры по СБЕ (ММА) среди муж. 18лет и старше,первенство среди юношей 16-17лет"}]
[]
[null,null,null,null,null,"ПРОТОКОЛ СОРЕВНОВАНИЙ",null,null,null,null,null,null,null,null,null,null,null,null,null,null,null,null,null,null,null,null,null,null,null,null,null,null,null,null,null,null,{"$f":"'Исходные данные по чемпионату'!C6","v":"г. Ханты-Мансийск"}]
[]
[null,null,null,null,null,null,null,null,null,null,null,null,null,null,null,null,null,null,null,null,null,"Весовая категория до","65,8",null,null,"кг",null,null,null,null,null,null,null,null,null,null,{"$f":"'Исходные данные по чемпионату'!C4","v":"с16 по 19 февраля 2018г."}]
[]
[]
[]
[]
[]
[]
[null,"№","Спортсмен","Шлем","Команда",null,null,null,null,null,null,null,null,null,null,null,null,null,null,null,null,null,null,null,null,null,null,null,null,null,null,null,null,"№","Спортсмен","Шлем","Команда"]
[]
[null,1,{"$f":"IFERROR(VLOOKUP(CONCATENATE(B15,\" вес \",$W$6),'Участники чемпионата'!$A:$AA,13,0),\"\")","v":"Мамедов Руслан"},{"$f":"IF(IFERROR(VLOOKUP(CONCATENATE(B15,\" вес \",$W$6),'Участники чемпионата'!$A:$AA,25,0),\"\")=\"Шлем\",\"Ш\",\"\")","v":""},{"$f":"IFERROR(VLOOKUP(CONCATENATE(B15,\" вес \",$W$6),'Участники чемпионата'!$A:$AA,5,0),\"\")","v":"Скорпион (г. Лангепас)"},null,null,null,null,{"$f":"IFERROR(VLOOKUP(CONCATENATE(H15,\" вес \",$W$6),'Участники чемпионата'!$A:$AF,32,0),\"\")","v":""},null,null,null,null,null,null,null,null,null,null,null,null,null,null,null,null,null,null,{"$f":"IFERROR(VLOOKUP(CONCATENATE(AD15,\" вес \",$W$6),'Участники чемпионата'!$A:$AF,32,0),\"\")","v":"Бердиев (Ш)"},2,null,null,null,2,{"$f":"IFERROR(VLOOKUP(CONCATENATE(AH15,\" вес \",$W$6),'Участники чемпионата'!$A:$AA,13,0),\"\")","v":"Бердиев Шахзод"},{"$f":"IF(IFERROR(VLOOKUP(CONCATENATE(AH15,\" вес \",$W$6),'Участники чемпионата'!$A:$AA,25,0),\"\")=\"Шлем\",\"Ш\",\"\")","v":"Ш"},{"$f":"IFERROR(VLOOKUP(CONCATENATE(AH15,\" вес \",$W$6),'Участники чемпионата'!$A:$AA,5,0),\"\")","v":"СДЮСШОР \"СПАРТАК\" (г.Нефтеюганск)"}]
[null,9,{"$f":"IFERROR(VLOOKUP(CONCATENATE(B16,\" вес \",$W$6),'Участники чемпионата'!$A:$AA,13,0),\"\")","v":"Касумов  Али"},{"$f":"IF(IFERROR(VLOOKUP(CONCATENATE(B16,\" вес \",$W$6),'Участники чемпионата'!$A:$AA,25,0),\"\")=\"Шлем\",\"Ш\",\"\")","v":""},{"$f":"IFERROR(VLOOKUP(CONCATENATE(B16,\" вес \",$W$6),'Участники чемпионата'!$A:$AA,5,0),\"\")","v":"г. Сургут"}]
[]
[]
[null,null,"A",null,null,null,null,null,null,null,null,null,{"$f":"IFERROR(VLOOKUP(CONCATENATE(K19,\" вес \",$W$6),'Участники чемпионата'!$A:$AF,32,0),\"\")","v":""},null,null,null,null,null,null,null,null,null,null,null,null,{"$f":"IFERROR(VLOOKUP(CONCATENATE(AA19,\" вес \",$W$6),'Участники чемпионата'!$A:$AF,32,0),\"\")","v":""},null,null,null,null,null,null,null,null,null,null,"C  "]
[]
[]
[]
[]
[null,5,{"$f":"IFERROR(VLOOKUP(CONCATENATE(B24,\" вес \",$W$6),'Участники чемпионата'!$A:$AA,13,0),\"\")","v":"Григоров Максим"},{"$f":"IF(IFERROR(VLOOKUP(CONCATENATE(B24,\" вес \",$W$6),'Участники чемпионата'!$A:$AA,25,0),\"\")=\"Шлем\",\"Ш\",\"\")","v":""},{"$f":"IFERROR(VLOOKUP(CONCATENATE(B24,\" вес \",$W$6),'Участники чемпионата'!$A:$AA,5,0),\"\")","v":"г. Ханты-Мансийск"},null,null,null,null,null,null,null,null,null,null,null,null,null,null,null,null,null,null,null,null,null,null,null,null,null,null,null,null,12,{"$f":"IFERROR(VLOOKUP(CONCATENATE(AH24,\" вес \",$W$6),'Участники чемпионата'!$A:$AA,13,0),\"\")","v":""},{"$f":"IF(IFERROR(VLOOKUP(CONCATENATE(AH24,\" вес \",$W$6),'Участники чемпионата'!$A:$AA,25,0),\"\")=\"Шлем\",\"Ш\",\"\")","v":""},{"$f":"IFERROR(VLOOKUP(CONCATENATE(AH24,\" вес \",$W$6),'Участники чемпионата'!$A:$AA,5,0),\"\")","v":""}]
[null,11,{"$f":"IFERROR(VLOOKUP(CONCATENATE(B25,\" вес \",$W$6),'Участники чемпионата'!$A:$AA,13,0),\"\")","v":""},{"$f":"IF(IFERROR(VLOOKUP(CONCATENATE(B25,\" вес \",$W$6),'Участники чемпионата'!$A:$AA,25,0),\"\")=\"Шлем\",\"Ш\",\"\")","v":""},{"$f":"IFERROR(VLOOKUP(CONCATENATE(B25,\" вес \",$W$6),'Участники чемпионата'!$A:$AA,5,0),\"\")","v":""},null,null,null,null,{"$f":"IFERROR(VLOOKUP(CONCATENATE(H24,\" вес \",$W$6),'Участники чемпионата'!$A:$AF,32,0),\"\")","v":""},null,null,null,null,null,null,null,null,null,null,null,null,null,null,null,null,null,null,{"$f":"IFERROR(VLOOKUP(CONCATENATE(AD24,\" вес \",$W$6),'Участники чемпионата'!$A:$AF,32,0),\"\")","v":""},null,null,null,null,6,{"$f":"IFERROR(VLOOKUP(CONCATENATE(AH25,\" вес \",$W$6),'Участники чемпионата'!$A:$AA,13,0),\"\")","v":"Адыгешаов Расим"},{"$f":"IF(IFERROR(VLOOKUP(CONCATENATE(AH25,\" вес \",$W$6),'Участники чемпионата'!$A:$AA,25,0),\"\")=\"Шлем\",\"Ш\",\"\")","v":"Ш"},{"$f":"IFERROR(VLOOKUP(CONCATENATE(AH25,\" вес \",$W$6),'Участники чемпионата'!$A:$AA,5,0),\"\")","v":"г. Сургут"}]
[null,null,null,null,null,null,null,null,null,null,null,null,null,null,null,null,null,"Чемпион"]
[null,null,null,null,null,null,null,null,"",null,null,null,null,null,null,null,{"$f":"IFERROR(VLOOKUP(CONCATENATE(S28,\" вес \",$W$6),'Участники чемпионата'!$A:$AA,7,0),\"\")","v":""},null,null,null,null,null,null,null,null,null,null,null,null,""]
[null,null,null,null,null,null,null,null,null,null,null,null,null,null,{"$f":"IFERROR(VLOOKUP(CONCATENATE(P28,\" вес \",$W$6),'Участники чемпионата'!$A:$AF,32,0),\"\")","v":""},null,null,null,null,null,null,null,null,{"$f":"IFERROR(VLOOKUP(CONCATENATE(V28,\" вес \",$W$6),'Участники чемпионата'!$A:$AF,32,0),\"\")","v":""}]
[]
[]
[]
[null,7,{"$f":"IFERROR(VLOOKUP(CONCATENATE(B32,\" вес \",$W$6),'Участники чемпионата'!$A:$AA,13,0),\"\")","v":"Гаджиахмедов Магомед"},{"$f":"IF(IFERROR(VLOOKUP(CONCATENATE(B32,\" вес \",$W$6),'Участники чемпионата'!$A:$AA,25,0),\"\")=\"Шлем\",\"Ш\",\"\")","v":""},{"$f":"IFERROR(VLOOKUP(CONCATENATE(B32,\" вес \",$W$6),'Участники чемпионата'!$A:$AA,5,0),\"\")","v":"г. Сургут"},null,null,7,null,{"$f":"IFERROR(VLOOKUP(CONCATENATE(H32,\" вес \",$W$6),'Участники чемпионата'!$A:$AF,32,0),\"\")","v":"Гаджиахмедов "},null,null,null,null,null,null,null,null,null,null,null,null,null,null,null,null,null,null,{"$f":"IFERROR(VLOOKUP(CONCATENATE(AD32,\" вес \",$W$6),'Участники чемпионата'!$A:$AF,32,0),\"\")","v":""},null,null,null,null,10,{"$f":"IFERROR(VLOOKUP(CONCATENATE(AH32,\" вес \",$W$6),'Участники чемпионата'!$A:$AA,13,0),\"\")","v":"Магомедов Бурагим"},{"$f":"IF(IFERROR(VLOOKUP(CONCATENATE(AH32,\" вес \",$W$6),'Участники чемпионата'!$A:$AA,25,0),\"\")=\"Шлем\",\"Ш\",\"\")","v":""},{"$f":"IFERROR(VLOOKUP(CONCATENATE(AH32,\" вес \",$W$6),'Участники чемпионата'!$A:$AA,5,0),\"\")","v":"г. Нижневартовск"}]
[null,null,null,null,null,null,null,null,null,null,null,null,null,null,null,null,null,null,null,null,null,null,null,null,null,null,null,null,null,null,null,null,null,4,{"$f":"IFERROR(VLOOKUP(CONCATENATE(AH33,\" вес \",$W$6),'Участники чемпионата'!$A:$AA,13,0),\"\")","v":"Дадаев Мансур"},{"$f":"IF(IFERROR(VLOOKUP(CONCATENATE(AH33,\" вес \",$W$6),'Участники чемпионата'!$A:$AA,25,0),\"\")=\"Шлем\",\"Ш\",\"\")","v":"Ш"},{"$f":"IFERROR(VLOOKUP(CONCATENATE(AH33,\" вес \",$W$6),'Участники чемпионата'!$A:$AA,5,0),\"\")","v":"г. Ханты-Мансийск"}]
[]
[]
[null,null,"B",null,null,null,null,null,null,null,null,null,null,null,null,null,null,null,null,null,null,null,null,null,null,null,null,null,null,null,null,null,null,null,null,null,"D  "]
[null,null,null,null,null,null,null,null,null,null,null,null,{"$f":"IFERROR(VLOOKUP(CONCATENATE(K36,\" вес \",$W$6),'Участники чемпионата'!$A:$AF,32,0),\"\")","v":""},null,null,null,null,null,null,null,null,null,null,null,null,{"$f":"IFERROR(VLOOKUP(CONCATENATE(AA36,\" вес \",$W$6),'Участники чемпионата'!$A:$AF,32,0),\"\")","v":""}]
[]
[]
[null,3,{"$f":"IFERROR(VLOOKUP(CONCATENATE(B40,\" вес \",$W$6),'Участники чемпионата'!$A:$AA,13,0),\"\")","v":"Рамазанов Джамал"},{"$f":"IF(IFERROR(VLOOKUP(CONCATENATE(B40,\" вес \",$W$6),'Участники чемпионата'!$A:$AA,25,0),\"\")=\"Шлем\",\"Ш\",\"\")","v":"Ш"},{"$f":"IFERROR(VLOOKUP(CONCATENATE(B40,\" вес \",$W$6),'Участники чемпионата'!$A:$AA,5,0),\"\")","v":"СДЮСШОР \"СПАРТАК\" (г.Нефтеюганск)"},null,null,null,null,null,null,null,null,null,null,null,null,null,null,null,null,null,null,null,null,null,null,null,null,null,null,null,null,8,{"$f":"IFERROR(VLOOKUP(CONCATENATE(AH40,\" вес \",$W$6),'Участники чемпионата'!$A:$AA,13,0),\"\")","v":"Ильясов Гасан"},{"$f":"IF(IFERROR(VLOOKUP(CONCATENATE(AH40,\" вес \",$W$6),'Участники чемпионата'!$A:$AA,25,0),\"\")=\"Шлем\",\"Ш\",\"\")","v":"Ш"},{"$f":"IFERROR(VLOOKUP(CONCATENATE(AH40,\" вес \",$W$6),'Участники чемпионата'!$A:$AA,5,0),\"\")","v":"г. Сургут"}]
[null,13,{"$f":"IFERROR(VLOOKUP(CONCATENATE(B41,\" вес \",$W$6),'Участники чемпионата'!$A:$AA,13,0),\"\")","v":""},{"$f":"IF(IFERROR(VLOOKUP(CONCATENATE(B41,\" вес \",$W$6),'Участники чемпионата'!$A:$AA,25,0),\"\")=\"Шлем\",\"Ш\",\"\")","v":""},{"$f":"IFERROR(VLOOKUP(CONCATENATE(B41,\" вес \",$W$6),'Участники чемпионата'!$A:$AA,5,0),\"\")","v":""},null,null,null,null,{"$f":"IFERROR(VLOOKUP(CONCATENATE(H40,\" вес \",$W$6),'Участники чемпионата'!$A:$AF,32,0),\"\")","v":""},null,null,null,null,null,null,null,null,null,null,null,null,null,null,null,null,null,null,{"$f":"IFERROR(VLOOKUP(CONCATENATE(AD40,\" вес \",$W$6),'Участники чемпионата'!$A:$AF,32,0),\"\")","v":""},null,null,null,null,14,{"$f":"IFERROR(VLOOKUP(CONCATENATE(AH41,\" вес \",$W$6),'Участники чемпионата'!$A:$AA,13,0),\"\")","v":""},{"$f":"IF(IFERROR(VLOOKUP(CONCATENATE(AH41,\" вес \",$W$6),'Участники чемпионата'!$A:$AA,25,0),\"\")=\"Шлем\",\"Ш\",\"\")","v":""},{"$f":"IFERROR(VLOOKUP(CONCATENATE(AH41,\" вес \",$W$6),'Участники чемпионата'!$A:$AA,5,0),\"\")","v":""}]
[]
[null,"1/8",null,null,null,null,null,"1/4",null,null,"1/2",null,null,null,null,"Финал",null,null,null,null,null,null,null,null,null,null,"1/2",null,null,"1/4",null,null,null,"1/8"]
[]
[null,null,null,null,null,null,null,null,null,null,null,null,null,null,null,null,null,null,null,"Участников:",{"$f":"HLOOKUP(W6,Мандатка!$C$4:$I$5,2,0)","v":10}]
[]
[]
[]
[]
[]
["Скрыть"]
["Скрыть"]
["Скрыть"]
["Скрыть"]
["Скрыть"]
[]
[]
[]
[]
[]
[null,null,"1 место"]
[null,{"$f":"IF(S28=\"\",\"\",S28)","v":""},{"$f":"IF(B62=\"\",\"\",IFERROR(VLOOKUP(CONCATENATE(B62,\" вес \",$W$6),'Участники чемпионата'!$A:$AA,13,0),\"\"))","v":""},{"$f":"IF(B62=\"\",\"\",IFERROR(VLOOKUP(CONCATENATE(B62,\" вес \",$W$6),'Участники чемпионата'!$A:$AA,5,0),\"\"))","v":""}]
[]
[null,null,"2 место"]
[null,{"$f":"IF(S28=\"\",\"\",IF(S28=V28,P28,V28))","v":""},{"$f":"IF(B65=\"\",\"\",IFERROR(VLOOKUP(CONCATENATE(B65,\" вес \",$W$6),'Участники чемпионата'!$A:$AA,13,0),\"\"))","v":""},{"$f":"IF(B65=\"\",\"\",IFERROR(VLOOKUP(CONCATENATE(B65,\" вес \",$W$6),'Участники чемпионата'!$A:$AA,5,0),\"\"))","v":""},null,null,null,null,null,null,null,null,null,null,null,null,null,null,null,null,null,null,null,null,null,null,null,null,null,null,null,null,null,"Главный судья соревнований",null,"/",{"$f":"IF(VLOOKUP(AH65,'Исходные данные по чемпионату'!B:C,2,0)=0,\"\",VLOOKUP(AH65,'Исходные данные по чемпионату'!B:C,2,0))","v":"Карташков К.В."},"/"]
[]
[null,null,"3 место"]
[null,{"$f":"IF(P28=\"\",\"\",IF(P28=K36,K19,K36))","v":""},{"$f":"IF(B68=\"\",\"\",IFERROR(VLOOKUP(CONCATENATE(B68,\" вес \",$W$6),'Участники чемпионата'!$A:$AA,13,0),\"\"))","v":""},{"$f":"IF(B68=\"\",\"\",IFERROR(VLOOKUP(CONCATENATE(B68,\" вес \",$W$6),'Участники чемпионата'!$A:$AA,5,0),\"\"))","v":""}]
[null,{"$f":"IF(V28=\"\",\"\",IF(V28=AA36,AA19,AA36))","v":""},{"$f":"IF(B69=\"\",\"\",IFERROR(VLOOKUP(CONCATENATE(B69,\" вес \",$W$6),'Участники чемпионата'!$A:$AA,13,0),\"\"))","v":""},{"$f":"IF(B69=\"\",\"\",IFERROR(VLOOKUP(CONCATENATE(B69,\" вес \",$W$6),'Участники чемпионата'!$A:$AA,5,0),\"\"))","v":""},null,null,null,null,null,null,null,null,null,null,null,null,null,null,null,null,null,null,null,null,null,null,null,null,null,null,null,null,null,"Главный секретарь",null,"/",{"$f":"IF(VLOOKUP(AH69,'Исходные данные по чемпионату'!B:C,2,0)=0,\"\",VLOOKUP(AH69,'Исходные данные по чемпионату'!B:C,2,0))","v":"Толстыгин А.Ю."},"/"]
[]
[null,null,null,null,null,null,null,null,null,null,null,null,null,null,null,null,null,null,null,null,null,null,null,null,null,null,null,null,null,null,null,null,null,null,null,null,null,0]
[]
[null,null,"5-8 места",null,null,null,null,null,null,null,null,null,null,"Результат боя описание",null,null,null,null,null,null,null,null,null,null,null,null,null,null,null,null,null,null,null,null,"Финалисты"]
[null,{"$f":"IF(K19=\"\",\"\",IF(OR(H15-K19=0),H24,H15))","v":""},{"$f":"IF(B74=\"\",\"\",IFERROR(VLOOKUP(CONCATENATE(B74,\" вес \",$W$6),'Участники чемпионата'!$A:$AA,13,0),\"\"))","v":""},{"$f":"IF(B74=\"\",\"\",IFERROR(VLOOKUP(CONCATENATE(B74,\" вес \",$W$6),'Участники чемпионата'!$A:$AA,5,0),\"\"))","v":""},null,null,null,null,null,null,null,null,null,{"$f":"'Unvisible Списки'!C9","v":"(ПО)"},null,null,null,{"$f":"'Unvisible Списки'!C27","v":"по очкам"},null,null,null,null,null,null,null,null,null,null,null,null,null,null,null,{"$f":"IF(P28=\"\",\"\",P28)","v":""},{"$f":"IFERROR(VLOOKUP(CONCATENATE(AH74,\" вес \",$W$6),'Участники чемпионата'!$A:$AA,13,0),\"\")","v":""},{"$f":"IFERROR(VLOOKUP(CONCATENATE(AH74,\" вес \",$W$6),'Участники чемпионата'!$A:$AA,5,0),\"\")","v":""}]
[null,{"$f":"IF(K36=\"\",\"\",IF(OR(H32-K36=0),H40,H32))","v":""},{"$f":"IF(B75=\"\",\"\",IFERROR(VLOOKUP(CONCATENATE(B75,\" вес \",$W$6),'Участники чемпионата'!$A:$AA,13,0),\"\"))","v":""},{"$f":"IF(B75=\"\",\"\",IFERROR(VLOOKUP(CONCATENATE(B75,\" вес \",$W$6),'Участники чемпионата'!$A:$AA,5,0),\"\"))","v":""},null,null,null,null,null,null,null,null,null,{"$f":"'Unvisible Списки'!C10","v":"(КО)"},null,null,null,{"$f":"'Unvisible Списки'!C28","v":"нокаут"},null,null,null,null,null,null,null,null,null,null,null,null,null,null,null,{"$f":"IF(V28=\"\",\"\",V28)","v":""},{"$f":"IFERROR(VLOOKUP(CONCATENATE(AH75,\" вес \",$W$6),'Участники чемпионата'!$A:$AA,13,0),\"\")","v":""},{"$f":"IFERROR(VLOOKUP(CONCATENATE(AH75,\" вес \",$W$6),'Участники чемпионата'!$A:$AA,5,0),\"\")","v":""}]
[null,{"$f":"IF(AA19=\"\",\"\",IF(OR(AD15-AA19=0),AD24,AD15))","v":""},{"$f":"IF(B76=\"\",\"\",IFERROR(VLOOKUP(CONCATENATE(B76,\" вес \",$W$6),'Участники чемпионата'!$A:$AA,13,0),\"\"))","v":""},{"$f":"IF(B76=\"\",\"\",IFERROR(VLOOKUP(CONCATENATE(B76,\" вес \",$W$6),'Участники чемпионата'!$A:$AA,5,0),\"\"))","v":""},null,null,null,null,null,null,null,null,null,{"$f":"'Unvisible Списки'!C11","v":"(БЛ)"},null,null,null,{"$f":"'Unvisible Списки'!C29","v":"болевой/удушающий"}]
[null,{"$f":"IF(AA36=\"\",\"\",IF(OR(AD32-AA36=0),AD40,AD32))","v":""},{"$f":"IF(B77=\"\",\"\",IFERROR(VLOOKUP(CONCATENATE(B77,\" вес \",$W$6),'Участники чемпионата'!$A:$AA,13,0),\"\"))","v":""},{"$f":"IF(B77=\"\",\"\",IFERROR(VLOOKUP(CONCATENATE(B77,\" вес \",$W$6),'Участники чемпионата'!$A:$AA,5,0),\"\"))","v":""},null,null,null,null,null,null,null,null,null,{"$f":"'Unvisible Списки'!C12","v":"(ТКО)"},null,null,null,{"$f":"'Unvisible Списки'!C30","v":"технический нокаут"}]
[null,null,null,null,null,null,null,null,null,null,null,null,null,{"$f":"'Unvisible Списки'!C13","v":"(СН)"},null,null,null,{"$f":"'Unvisible Списки'!C31","v":"снятие врачом"}]
[null,null,"9-16 места",null,null,null,null,null,null,null,null,null,null,{"$f":"'Unvisible Списки'!C14","v":"(ОТК)"},null,null,null,{"$f":"'Unvisible Списки'!C32","v":"отказ продолжать бой"}]
[null,{"$f":"IF(H15=\"\",\"\",IF(OR(B15-H15=0),B16,B15))","v":""},{"$f":"IF(B80=\"\",\"\",IFERROR(VLOOKUP(CONCATENATE(B80,\" вес \",$W$6),'Участники чемпионата'!$A:$AA,13,0),\"\"))","v":""},{"$f":"IF(B80=\"\",\"\",IFERROR(VLOOKUP(CONCATENATE(B80,\" вес \",$W$6),'Участники чемпионата'!$A:$AA,5,0),\"\"))","v":""},null,null,null,null,null,null,null,null,null,{"$f":"'Unvisible Списки'!C15","v":"(ДСК)"},null,null,null,{"$f":"'Unvisible Списки'!C33","v":"Дисквалификация"}]
[null,{"$f":"IF(H24=\"\",\"\",IF(OR(B24-H24=0),B25,B24))","v":""},{"$f":"IF(B81=\"\",\"\",IFERROR(VLOOKUP(CONCATENATE(B81,\" вес \",$W$6),'Участники чемпионата'!$A:$AA,13,0),\"\"))","v":""},{"$f":"IF(B81=\"\",\"\",IFERROR(VLOOKUP(CONCATENATE(B81,\" вес \",$W$6),'Участники чемпионата'!$A:$AA,5,0),\"\"))","v":""},null,null,null,null,null,null,null,null,null,{"$f":"'Unvisible Списки'!C16","v":"(РГСК)"},null,null,null,{"$f":"'Unvisible Списки'!C34","v":"решение главного судьи СК"}]
[null,{"$f":"IF(H32=\"\",\"\",IF(OR(B32-H32=0),B33,B32))","v":0},{"$f":"IF(B82=\"\",\"\",IFERROR(VLOOKUP(CONCATENATE(B82,\" вес \",$W$6),'Участники чемпионата'!$A:$AA,13,0),\"\"))","v":""},{"$f":"IF(B82=\"\",\"\",IFERROR(VLOOKUP(CONCATENATE(B82,\" вес \",$W$6),'Участники чемпионата'!$A:$AA,5,0),\"\"))","v":""},null,null,null,null,null,null,null,null,null,{"$f":"'Unvisible Списки'!C17","v":"(НЯ)"},null,null,null,{"$f":"'Unvisible Списки'!C35","v":"неявка"}]
[null,{"$f":"IF(H40=\"\",\"\",IF(OR(B40-H40=0),B41,B40))","v":""},{"$f":"IF(B83=\"\",\"\",IFERROR(VLOOKUP(CONCATENATE(B83,\" вес \",$W$6),'Участники чемпионата'!$A:$AA,13,0),\"\"))","v":""},{"$f":"IF(B83=\"\",\"\",IFERROR(VLOOKUP(CONCATENATE(B83,\" вес \",$W$6),'Участники чемпионата'!$A:$AA,5,0),\"\"))","v":""}]
[null,{"$f":"IF(AD15=\"\",\"\",IF(OR(AH15-AD15=0),AH16,AH15))","v":0},{"$f":"IF(B84=\"\",\"\",IFERROR(VLOOKUP(CONCATENATE(B84,\" вес \",$W$6),'Участники чемпионата'!$A:$AA,13,0),\"\"))","v":""},{"$f":"IF(B84=\"\",\"\",IFERROR(VLOOKUP(CONCATENATE(B84,\" вес \",$W$6),'Участники чемпионата'!$A:$AA,5,0),\"\"))","v":""}]
[null,{"$f":"IF(AD24=\"\",\"\",IF(OR(AH24-AD24=0),AH25,AH24))","v":""},{"$f":"IF(B85=\"\",\"\",IFERROR(VLOOKUP(CONCATENATE(B85,\" вес \",$W$6),'Участники чемпионата'!$A:$AA,13,0),\"\"))","v":""},{"$f":"IF(B85=\"\",\"\",IFERROR(VLOOKUP(CONCATENATE(B85,\" вес \",$W$6),'Участники чемпионата'!$A:$AA,5,0),\"\"))","v":""}]
[null,{"$f":"IF(AD32=\"\",\"\",IF(OR(AH32-AD32=0),AH33,AH32))","v":""},{"$f":"IF(B86=\"\",\"\",IFERROR(VLOOKUP(CONCATENATE(B86,\" вес \",$W$6),'Участники чемпионата'!$A:$AA,13,0),\"\"))","v":""},{"$f":"IF(B86=\"\",\"\",IFERROR(VLOOKUP(CONCATENATE(B86,\" вес \",$W$6),'Участники чемпионата'!$A:$AA,5,0),\"\"))","v":""}]
[null,{"$f":"IF(AD40=\"\",\"\",IF(OR(AH40-AD40=0),AH41,AH40))","v":""},{"$f":"IF(B87=\"\",\"\",IFERROR(VLOOKUP(CONCATENATE(B87,\" вес \",$W$6),'Участники чемпионата'!$A:$AA,13,0),\"\"))","v":""},{"$f":"IF(B87=\"\",\"\",IFERROR(VLOOKUP(CONCATENATE(B87,\" вес \",$W$6),'Участники чемпионата'!$A:$AA,5,0),\"\"))","v":""}]

{"sheet":"11. Сетка61,2","index":10,"n_rows":87,"n_cols":38,"rows_kept":87,"cut":false,"hidden":false,"merged":[[82,3,82,4],[83,3,83,4],[84,3,84,4],[85,3,85,4],[86,3,86,4],[80,3,80,4],[80,13,80,16],[80,17,80,26],[81,3,81,4],[81,13,81,16],[81,17,81,26],[77,13,77,16],[77,17,77,26],[78,13,78,16],[78,17,78,26],[79,3,79,4],[79,13,79,16],[79,17,79,26],[75,3,75,4],[75,13,75,16],[75,17,75,26],[76,3,76,4],[76,13,76,16],[76,17,76,26],[73,3,73,4],[73,13,73,16],[73,17,73,26],[73,35,73,36],[74,3,74,4],[74,13,74,16],[74,17,74,26],[74,35,74,36],[72,13,72,26],[35,36,36,36],[39,7,40,8],[39,29,40,30],[42,1,42,4],[42,7,42,8],[42,10,42,11],[42,15,42,22],[42,26,42,27],[42,29,42,30],[42,33,42,36],[44,20,44,21],[61,3,61,4],[64,3,64,4],[67,3,67,4],[68,3,68,4],[31,7,32,8],[31,16,31,21],[31,29,32,30],[35,2,36,2],[35,10,36,11],[35,26,36,27],[30,16,30,21],[18,2,19,2],[18,10,19,11],[18,26,19,27],[18,36,19,36],[23,7,24,8],[23,29,24,30],[25,17,25,20],[26,16,26,21],[27,15,28,16],[27,18,28,19],[27,21,28,22],[1,2,1,36],[3,5,3,33],[3,36,4,36],[5,22,5,24],[14,7,15,8],[14,29,15,30]]}
[]
[null,null,"Чемпионат ХМАО-Югры по СБЕ (ММА) среди муж. 18лет и старше,первенство среди юношей 16-17лет"]
[]
[null,null,null,null,null,"ПРОТОКОЛ СОРЕВНОВАНИЙ",null,null,null,null,null,null,null,null,null,null,null,null,null,null,null,null,null,null,null,null,null,null,null,null,null,null,null,null,null,null,"г. Ханты-Мансийск"]
[]
[null,null,null,null,null,null,null,null,null,null,null,null,null,null,null,null,null,null,null,null,null,"Весовая категория до","61,2",null,null,"кг",null,null,null,null,null,null,null,null,null,null,"с16 по 19 февраля 2018г."]
[]
[]
[]
[]
[]
[]
[null,"№","Спортсмен","Шлем","Команда",null,null,null,null,null,null,null,null,null,null,null,null,null,null,null,null,null,null,null,null,null,null,null,null,null,null,null,null,"№","Спортсмен","Шлем","Команда"]
[]
[null,1,"Балащенко Динат","Ш","г. Нижневартовск",null,null,1,null,"Балащенко (Ш)",null,null,null,null,null,null,null,null,null,null,null,null,null,null,null,null,null,null,"Латипов ",2,null,null,null,2,"Латипов Эльдар","","Скорпион (г. Лангепас)"]
[]
[]
[]
[null,null,"A",null,null,null,null,null,null,null,9,null,"Юсупов (Ш)",null,null,null,null,null,null,null,null,null,null,null,null,"Латипов ",2,null,null,null,null,null,null,null,null,null,"C  "]
[]
[]
[]
[]
[null,9,"Юсупов Багавдин","Ш","СДЮСШОР \"СПАРТАК\" (г.Нефтеюганск)",null,null,9,null,null,null,null,null,null,null,null,null,null,null,null,null,null,null,null,null,null,null,null,null,8]
[null,5,"Рыбин Олег","","г. Ханты-Мансийск",null,null,null,null,"Юсупов (Ш)",null,null,null,null,null,null,null,null,null,null,null,null,null,null,null,null,null,null,"Ильясов ",null,null,null,null,8,"Ильясов Магомед","","г. Ханты-Мансийск"]
[null,null,null,null,null,null,null,null,null,null,null,null,null,null,null,null,null,"Чемпион"]
[null,null,null,null,null,null,null,null,"",null,null,null,null,null,null,null,"Латипов",null,null,null,null,null,null,null,null,null,null,null,null,""]
[null,null,null,null,null,null,null,null,null,null,null,null,null,null,"Абдуллаев ",3,null,null,2,null,null,2,null,"Латипов "]
[]
[]
[]
[null,7,"Джумакаев Абдулбек","Ш","г. Ханты-Мансийск",null,null,7,null,"Джумакаев (Ш)",null,null,null,null,null,null,null,null,null,null,null,null,null,null,null,null,null,null,"Наврузов ",4,null,null,null,4,"Наврузов Расул","","г. Сургут"]
[]
[]
[]
[null,null,"B",null,null,null,null,null,null,null,3,null,null,null,null,null,null,null,null,null,null,null,null,null,null,null,6,null,null,null,null,null,null,null,null,null,"D  "]
[null,null,null,null,null,null,null,null,null,null,null,null,"Абдуллаев ",null,null,null,null,null,null,null,null,null,null,null,null,"Магомедов "]
[]
[]
[null,null,null,null,null,null,null,3,null,null,null,null,null,null,null,null,null,null,null,null,null,null,null,null,null,null,null,null,null,6,null,null,null,6,"Магомедов Хайрулла","","г. Ханты-Мансийск"]
[null,3,"Абдуллаев Элшан","","г. Нижневартовск (СБЕ КОБРА)",null,null,null,null,"Абдуллаев ",null,null,null,null,null,null,null,null,null,null,null,null,null,null,null,null,null,null,"Магомедов ",null,null,null,null,10,"Гимаев Ильвир","","г. Нижневартовск (СБЕ КОБРА)"]
[]
[null,"1/8",null,null,null,null,null,"1/4",null,null,"1/2",null,null,null,null,"Финал",null,null,null,null,null,null,null,null,null,null,"1/2",null,null,"1/4",null,null,null,"1/8"]
[]
[null,null,null,null,null,null,null,null,null,null,null,null,null,null,null,null,null,null,null,"Участников:",10]
[]
[]
[]
[]
[]
["Скрыть"]
["Скрыть"]
["Скрыть"]
["Скрыть"]
["Скрыть"]
[]
[]
[]
[]
[]
[null,null,"1 место"]
[null,2,"Латипов Эльдар","Скорпион (г. Лангепас)"]
[]
[null,null,"2 место"]
[null,3,"Абдуллаев Элшан","г. Нижневартовск (СБЕ КОБРА)",null,null,null,null,null,null,null,null,null,null,null,null,null,null,null,null,null,null,null,null,null,null,null,null,null,null,null,null,null,"Главный судья соревнований",null,"/","Карташков К.В.","/"]
[]
[null,null,"3 место"]
[null,9,"Юсупов Багавдин","СДЮСШОР \"СПАРТАК\" (г.Нефтеюганск)"]
[null,6,"Магомедов Хайрулла","г. Ханты-Мансийск",null,null,null,null,null,null,null,null,null,null,null,null,null,null,null,null,null,null,null,null,null,null,null,null,null,null,null,null,null,"Главный секретарь",null,"/","Толстыгин А.Ю.","/"]
[]
[null,null,null,null,null,null,null,null,null,null,null,null,null,null,null,null,null,null,null,null,null,null,null,null,null,null,null,null,null,null,null,null,null,null,null,null,null,11]
[]
[null,null,"5-8 места",null,null,null,null,null,null,null,null,null,null,"Результат боя описание",null,null,null,null,null,null,null,null,null,null,null,null,null,null,null,null,null,null,null,null,"Финалисты"]
[null,1,"Балащенко Динат","г. Нижневартовск",null,null,null,null,null,null,null,null,null,"(ПО)",null,null,null,"по очкам",null,null,null,null,null,null,null,null,null,null,null,null,null,null,null,3,"Абдуллаев Элшан","г. Нижневартовск (СБЕ КОБРА)"]
[null,7,"Джумакаев Абдулбек","г. Ханты-Мансийск",null,null,null,null,null,null,null,null,null,"(КО)",null,null,null,"нокаут",null,null,null,null,null,null,null,null,null,null,null,null,null,null,null,2,"Латипов Эльдар","Скорпион (г. Лангепас)"]
[null,8,"Ильясов Магомед","г. Ханты-Мансийск",null,null,null,null,null,null,null,null,null,"(БЛ)",null,null,null,"болевой/удушающий"]
[null,4,"Наврузов Расул","г. Сургут",null,null,null,null,null,null,null,null,null,"(ТКО)",null,null,null,"технический нокаут"]
[null,null,null,null,null,null,null,null,null,null,null,null,null,"(СН)",null,null,null,"снятие врачом"]
[null,null,"9-16 места",null,null,null,null,null,null,null,null,null,null,"(ОТК)",null,null,null,"отказ продолжать бой"]
[null,0,"","",null,null,null,null,null,null,null,null,null,"(ДСК)",null,null,null,"Дисквалификация"]
[null,5,"Рыбин Олег","г. Ханты-Мансийск",null,null,null,null,null,null,null,null,null,"(РГСК)",null,null,null,"решение главного судьи СК"]
[null,0,"","",null,null,null,null,null,null,null,null,null,"(НЯ)",null,null,null,"неявка"]
[null,0,"",""]
[null,0,"",""]
[null,0,"",""]
[null,0,"",""]
[null,10,"Гимаев Ильвир","г. Нижневартовск (СБЕ КОБРА)"]

{"sheet":"12. Сетка65,8","index":11,"n_rows":87,"n_cols":38,"rows_kept":87,"cut":false,"hidden":false,"merged":[[82,3,82,4],[83,3,83,4],[84,3,84,4],[85,3,85,4],[86,3,86,4],[80,3,80,4],[80,13,80,16],[80,17,80,26],[81,3,81,4],[81,13,81,16],[81,17,81,26],[77,13,77,16],[77,17,77,26],[78,13,78,16],[78,17,78,26],[79,3,79,4],[79,13,79,16],[79,17,79,26],[75,3,75,4],[75,13,75,16],[75,17,75,26],[76,3,76,4],[76,13,76,16],[76,17,76,26],[73,3,73,4],[73,13,73,16],[73,17,73,26],[73,35,73,36],[74,3,74,4],[74,13,74,16],[74,17,74,26],[74,35,74,36],[72,13,72,26],[35,36,36,36],[39,7,40,8],[39,29,40,30],[42,1,42,4],[42,7,42,8],[42,10,42,11],[42,15,42,22],[42,26,42,27],[42,29,42,30],[42,33,42,36],[44,20,44,21],[61,3,61,4],[64,3,64,4],[67,3,67,4],[68,3,68,4],[31,7,32,8],[31,16,31,21],[31,29,32,30],[35,2,36,2],[35,10,36,11],[35,26,36,27],[30,16,30,21],[18,2,19,2],[18,10,19,11],[18,26,19,27],[18,36,19,36],[23,7,24,8],[23,29,24,30],[25,17,25,20],[26,16,26,21],[27,15,28,16],[27,18,28,19],[27,21,28,22],[1,2,1,36],[3,5,3,33],[3,36,4,36],[5,22,5,24],[14,7,15,8],[14,29,15,30]]}
[]
[null,null,"Чемпионат ХМАО-Югры по СБЕ (ММА) среди муж. 18лет и старше,первенство среди юношей 16-17лет"]
[]
[null,null,null,null,null,"ПРОТОКОЛ СОРЕВНОВАНИЙ",null,null,null,null,null,null,null,null,null,null,null,null,null,null,null,null,null,null,null,null,null,null,null,null,null,null,null,null,null,null,"г. Ханты-Мансийск"]
[]
[null,null,null,null,null,null,null,null,null,null,null,null,null,null,null,null,null,null,null,null,null,"Весовая категория до","65,8",null,null,"кг",null,null,null,null,null,null,null,null,null,null,"с16 по 19 февраля 2018г."]
[]
[]
[]
[]
[]
[]
[null,"№","Спортсмен","Шлем","Команда",null,null,null,null,null,null,null,null,null,null,null,null,null,null,null,null,null,null,null,null,null,null,null,null,null,null,null,null,"№","Спортсмен","Шлем","Команда"]
[]
[null,1,"Мамедов Руслан","","Скорпион (г. Лангепас)",null,null,1,null,"Мамедов ",null,null,null,null,null,null,null,null,null,null,null,null,null,null,null,null,null,null,"Бердиев (Ш)",2,null,null,null,2,"Бердиев Шахзод","Ш","СДЮСШОР \"СПАРТАК\" (г.Нефтеюганск)"]
[]
[]
[]
[null,null,"A",null,null,null,null,null,null,null,1,null,"Мамедов ",null,null,null,null,null,null,null,null,null,null,null,null,"Ильясов (Ш)",8,null,null,null,null,null,null,null,null,null,"C  "]
[]
[]
[]
[]
[null,9,"Касумов  Али","","г. Сургут",null,null,5,null,null,null,null,null,null,null,null,null,null,null,null,null,null,null,null,null,null,null,null,null,8]
[null,5,"Григоров Максим","","г. Ханты-Мансийск",null,null,null,null,"Григоров ",null,null,null,null,null,null,null,null,null,null,null,null,null,null,null,null,null,null,"Ильясов (Ш)",null,null,null,null,8,"Ильясов Гасан","Ш","г. Сургут"]
[null,null,null,null,null,null,null,null,null,null,null,null,null,null,null,null,null,"Чемпион"]
[null,null,null,null,null,null,null,null,"",null,null,null,null,null,null,null,"Мамедов",null,null,null,null,null,null,null,null,null,null,null,null,""]
[null,null,null,null,null,null,null,null,null,null,null,null,null,null,"Мамедов ",1,null,null,1,null,null,4,null,"Дадаев (Ш)"]
[]
[]
[]
[null,7,"Гаджиахмедов Магомед","","г. Сургут",null,null,7,null,"Гаджиахмедов ",null,null,null,null,null,null,null,null,null,null,null,null,null,null,null,null,null,null,"Дадаев (Ш)",4,null,null,null,4,"Дадаев Мансур","Ш","г. Ханты-Мансийск"]
[]
[]
[]
[null,null,"B",null,null,null,null,null,null,null,7,null,null,null,null,null,null,null,null,null,null,null,null,null,null,null,4,null,null,null,null,null,null,null,null,null,"D  "]
[null,null,null,null,null,null,null,null,null,null,null,null,"Гаджиахмедов ",null,null,null,null,null,null,null,null,null,null,null,null,"Дадаев (Ш)"]
[]
[]
[null,null,null,null,null,null,null,3,null,null,null,null,null,null,null,null,null,null,null,null,null,null,null,null,null,null,null,null,null,10,null,null,null,6,"Адыгешаов Расим","Ш","г. Сургут"]
[null,3,"Рамазанов Джамал","Ш","СДЮСШОР \"СПАРТАК\" (г.Нефтеюганск)",null,null,null,null,"Рамазанов (Ш)",null,null,null,null,null,null,null,null,null,null,null,null,null,null,null,null,null,null,"Магомедов ",null,null,null,null,10,"Магомедов Бурагим","","г. Нижневартовск"]
[]
[null,"1/8",null,null,null,null,null,"1/4",null,null,"1/2",null,null,null,null,"Финал",null,null,null,null,null,null,null,null,null,null,"1/2",null,null,"1/4",null,null,null,"1/8"]
[]
[null,null,null,null,null,null,null,null,null,null,null,null,null,null,null,null,null,null,null,"Участников:",10]
[]
[]
[]
[]
[]
["Скрыть"]
["Скрыть"]
["Скрыть"]
["Скрыть"]
["Скрыть"]
[]
[]
[]
[]
[]
[null,null,"1 место"]
[null,1,"Мамедов Руслан","Скорпион (г. Лангепас)"]
[]
[null,null,"2 место"]
[null,4,"Дадаев Мансур","г. Ханты-Мансийск",null,null,null,null,null,null,null,null,null,null,null,null,null,null,null,null,null,null,null,null,null,null,null,null,null,null,null,null,null,"Главный судья соревнований",null,"/","Карташков К.В.","/"]
[]
[null,null,"3 место"]
[null,7,"Гаджиахмедов Магомед","г. Сургут"]
[null,8,"Ильясов Гасан","г. Сургут",null,null,null,null,null,null,null,null,null,null,null,null,null,null,null,null,null,null,null,null,null,null,null,null,null,null,null,null,null,"Главный секретарь",null,"/","Толстыгин А.Ю.","/"]
[]
[null,null,null,null,null,null,null,null,null,null,null,null,null,null,null,null,null,null,null,null,null,null,null,null,null,null,null,null,null,null,null,null,null,null,null,null,null,12]
[]
[null,null,"5-8 места",null,null,null,null,null,null,null,null,null,null,"Результат боя описание",null,null,null,null,null,null,null,null,null,null,null,null,null,null,null,null,null,null,null,null,"Финалисты"]
[null,5,"Григоров Максим","г. Ханты-Мансийск",null,null,null,null,null,null,null,null,null,"(ПО)",null,null,null,"по очкам",null,null,null,null,null,null,null,null,null,null,null,null,null,null,null,1,"Мамедов Руслан","Скорпион (г. Лангепас)"]
[null,3,"Рамазанов Джамал","СДЮСШОР \"СПАРТАК\" (г.Нефтеюганск)",null,null,null,null,null,null,null,null,null,"(КО)",null,null,null,"нокаут",null,null,null,null,null,null,null,null,null,null,null,null,null,null,null,4,"Дадаев Мансур","г. Ханты-Мансийск"]
[null,2,"Бердиев Шахзод","СДЮСШОР \"СПАРТАК\" (г.Нефтеюганск)",null,null,null,null,null,null,null,null,null,"(БЛ)",null,null,null,"болевой/удушающий"]
[null,10,"Магомедов Бурагим","г. Нижневартовск",null,null,null,null,null,null,null,null,null,"(ТКО)",null,null,null,"технический нокаут"]
[null,null,null,null,null,null,null,null,null,null,null,null,null,"(СН)",null,null,null,"снятие врачом"]
[null,null,"9-16 места",null,null,null,null,null,null,null,null,null,null,"(ОТК)",null,null,null,"отказ продолжать бой"]
[null,0,"","",null,null,null,null,null,null,null,null,null,"(ДСК)",null,null,null,"Дисквалификация"]
[null,9,"Касумов  Али","г. Сургут",null,null,null,null,null,null,null,null,null,"(РГСК)",null,null,null,"решение главного судьи СК"]
[null,0,"","",null,null,null,null,null,null,null,null,null,"(НЯ)",null,null,null,"неявка"]
[null,0,"",""]
[null,0,"",""]
[null,0,"",""]
[null,0,"",""]
[null,6,"Адыгешаов Расим","г. Сургут"]

{"sheet":"13. Сетка70,3","index":12,"n_rows":87,"n_cols":38,"rows_kept":87,"cut":false,"hidden":false,"merged":[[82,3,82,4],[83,3,83,4],[84,3,84,4],[85,3,85,4],[86,3,86,4],[80,3,80,4],[80,13,80,16],[80,17,80,26],[81,3,81,4],[81,13,81,16],[81,17,81,26],[77,13,77,16],[77,17,77,26],[78,13,78,16],[78,17,78,26],[79,3,79,4],[79,13,79,16],[79,17,79,26],[75,3,75,4],[75,13,75,16],[75,17,75,26],[76,3,76,4],[76,13,76,16],[76,17,76,26],[73,3,73,4],[73,13,73,16],[73,17,73,26],[73,35,73,36],[74,3,74,4],[74,13,74,16],[74,17,74,26],[74,35,74,36],[72,13,72,26],[35,36,36,36],[39,7,40,8],[39,29,40,30],[42,1,42,4],[42,7,42,8],[42,10,42,11],[42,15,42,22],[42,26,42,27],[42,29,42,30],[42,33,42,36],[44,20,44,21],[61,3,61,4],[64,3,64,4],[67,3,67,4],[68,3,68,4],[31,7,32,8],[31,16,31,21],[31,29,32,30],[35,2,36,2],[35,10,36,11],[35,26,36,27],[30,16,30,21],[18,2,19,2],[18,10,19,11],[18,26,19,27],[18,36,19,36],[23,7,24,8],[23,29,24,30],[25,17,25,20],[26,16,26,21],[27,15,28,16],[27,18,28,19],[27,21,28,22],[1,2,1,36],[3,5,3,33],[3,36,4,36],[5,22,5,24],[14,7,15,8],[14,29,15,30]]}
[]
[null,null,"Чемпионат ХМАО-Югры по СБЕ (ММА) среди муж. 18лет и старше,первенство среди юношей 16-17лет"]
[]
[null,null,null,null,null,"ПРОТОКОЛ СОРЕВНОВАНИЙ",null,null,null,null,null,null,null,null,null,null,null,null,null,null,null,null,null,null,null,null,null,null,null,null,null,null,null,null,null,null,"г. Ханты-Мансийск"]
[]
[null,null,null,null,null,null,null,null,null,null,null,null,null,null,null,null,null,null,null,null,null,"Весовая категория до","70,3",null,null,"кг",null,null,null,null,null,null,null,null,null,null,"с16 по 19 февраля 2018г."]
[]
[]
[]
[]
[]
[]
[null,"№","Спортсмен","Шлем","Команда",null,null,null,null,null,null,null,null,null,null,null,null,null,null,null,null,null,null,null,null,null,null,null,null,null,null,null,null,"№","Спортсмен","Шлем","Команда"]
[]
[null,1,"Хабибулаев Алибек","","Скорпион (г. Лангепас)",null,null,1,null,"Хабибулаев ",null,null,null,null,null,null,null,null,null,null,null,null,null,null,null,null,null,null,"Гаджиев ",2,null,null,null,2,"Гаджиев Халид","","г. Нижневартовск"]
[]
[]
[]
[null,null,"A",null,null,null,null,null,null,null,1,null,"Хабибулаев ",null,null,null,null,null,null,null,null,null,null,null,null,"Гаджиев ",2,null,null,null,null,null,null,null,null,null,"C  "]
[]
[]
[]
[]
[null,9,"Рамазанов Рамазан","Ш","г. Нижневартовск",null,null,5,null,null,null,null,null,null,null,null,null,null,null,null,null,null,null,null,null,null,null,null,null,8]
[null,5,"Мирзораджаб Мирзонодир","","г. Нижневартовск",null,null,null,null,"Мирзораджаб ",null,null,null,null,null,null,null,null,null,null,null,null,null,null,null,null,null,null,"Лупарев (Ш)",null,null,null,null,8,"Лупарев Максим","Ш","г. Сургут"]
[null,null,null,null,null,null,null,null,null,null,null,null,null,null,null,null,null,"Чемпион"]
[null,null,null,null,null,null,null,null,"",null,null,null,null,null,null,null,"Хабибулаев",null,null,null,null,null,null,null,null,null,null,null,null,""]
[null,null,null,null,null,null,null,null,null,null,null,null,null,null,"Хабибулаев ",1,null,null,1,null,null,6,null,"Наврузалиев "]
[]
[]
[]
[null,7,"Киричевский Максим","Ш","г. Сургут",null,null,7,null,"Киричевский (Ш)",null,null,null,null,null,null,null,null,null,null,null,null,null,null,null,null,null,null,"Мирзаев ",4,null,null,null,4,"Мирзаев Ибрагим","","г. Нижневартовск (СБЕ КОБРА)"]
[]
[]
[]
[null,null,"B",null,null,null,null,null,null,null,3,null,null,null,null,null,null,null,null,null,null,null,null,null,null,null,6,null,null,null,null,null,null,null,null,null,"D  "]
[null,null,null,null,null,null,null,null,null,null,null,null,"Бондарчук (Ш)",null,null,null,null,null,null,null,null,null,null,null,null,"Наврузалиев "]
[]
[]
[null,null,null,null,null,null,null,3,null,null,null,null,null,null,null,null,null,null,null,null,null,null,null,null,null,null,null,null,null,6,null,null,null,6,"Наврузалиев Камиль","","г. Сургут"]
[null,3,"Бондарчук Иван","Ш","г. Сургут",null,null,null,null,"Бондарчук (Ш)",null,null,null,null,null,null,null,null,null,null,null,null,null,null,null,null,null,null,"Наврузалиев ",null,null,null,null,10,"","",""]
[]
[null,"1/8",null,null,null,null,null,"1/4",null,null,"1/2",null,null,null,null,"Финал",null,null,null,null,null,null,null,null,null,null,"1/2",null,null,"1/4",null,null,null,"1/8"]
[]
[null,null,null,null,null,null,null,null,null,null,null,null,null,null,null,null,null,null,null,"Участников:",9]
[]
[]
[]
[]
[]
["Скрыть"]
["Скрыть"]
["Скрыть"]
["Скрыть"]
["Скрыть"]
[]
[]
[]
[]
[]
[null,null,"1 место"]
[null,1,"Хабибулаев Алибек","Скорпион (г. Лангепас)"]
[]
[null,null,"2 место"]
[null,6,"Наврузалиев Камиль","г. Сургут",null,null,null,null,null,null,null,null,null,null,null,null,null,null,null,null,null,null,null,null,null,null,null,null,null,null,null,null,null,"Главный судья соревнований",null,"/","Карташков К.В.","/"]
[]
[null,null,"3 место"]
[null,3,"Бондарчук Иван","г. Сургут"]
[null,2,"Гаджиев Халид","г. Нижневартовск",null,null,null,null,null,null,null,null,null,null,null,null,null,null,null,null,null,null,null,null,null,null,null,null,null,null,null,null,null,"Главный секретарь",null,"/","Толстыгин А.Ю.","/"]
[]
[null,null,null,null,null,null,null,null,null,null,null,null,null,null,null,null,null,null,null,null,null,null,null,null,null,null,null,null,null,null,null,null,null,null,null,null,null,13]
[]
[null,null,"5-8 места",null,null,null,null,null,null,null,null,null,null,"Результат боя описание",null,null,null,null,null,null,null,null,null,null,null,null,null,null,null,null,null,null,null,null,"Финалисты"]
[null,5,"Мирзораджаб Мирзонодир","г. Нижневартовск",null,null,null,null,null,null,null,null,null,"(ПО)",null,null,null,"по очкам",null,null,null,null,null,null,null,null,null,null,null,null,null,null,null,1,"Хабибулаев Алибек","Скорпион (г. Лангепас)"]
[null,7,"Киричевский Максим","г. Сургут",null,null,null,null,null,null,null,null,null,"(КО)",null,null,null,"нокаут",null,null,null,null,null,null,null,null,null,null,null,null,null,null,null,6,"Наврузалиев Камиль","г. Сургут"]
[null,8,"Лупарев Максим","г. Сургут",null,null,null,null,null,null,null,null,null,"(БЛ)",null,null,null,"болевой/удушающий"]
[null,4,"Мирзаев Ибрагим","г. Нижневартовск (СБЕ КОБРА)",null,null,null,null,null,null,null,null,null,"(ТКО)",null,null,null,"технический нокаут"]
[null,null,null,null,null,null,null,null,null,null,null,null,null,"(СН)",null,null,null,"снятие врачом"]
[null,null,"9-16 места",null,null,null,null,null,null,null,null,null,null,"(ОТК)",null,null,null,"отказ продолжать бой"]
[null,0,"","",null,null,null,null,null,null,null,null,null,"(ДСК)",null,null,null,"Дисквалификация"]
[null,9,"Рамазанов Рамазан","г. Нижневартовск",null,null,null,null,null,null,null,null,null,"(РГСК)",null,null,null,"решение главного судьи СК"]
[null,0,"","",null,null,null,null,null,null,null,null,null,"(НЯ)",null,null,null,"неявка"]
[null,0,"",""]
[null,0,"",""]
[null,0,"",""]
[null,0,"",""]
[null,10,"",""]

{"sheet":"14. Сетка77,1","index":13,"n_rows":87,"n_cols":38,"rows_kept":87,"cut":false,"hidden":false,"merged":[[82,3,82,4],[83,3,83,4],[84,3,84,4],[85,3,85,4],[86,3,86,4],[80,3,80,4],[80,13,80,16],[80,17,80,26],[81,3,81,4],[81,13,81,16],[81,17,81,26],[77,13,77,16],[77,17,77,26],[78,13,78,16],[78,17,78,26],[79,3,79,4],[79,13,79,16],[79,17,79,26],[75,3,75,4],[75,13,75,16],[75,17,75,26],[76,3,76,4],[76,13,76,16],[76,17,76,26],[73,3,73,4],[73,13,73,16],[73,17,73,26],[73,35,73,36],[74,3,74,4],[74,13,74,16],[74,17,74,26],[74,35,74,36],[72,13,72,26],[35,36,36,36],[39,7,40,8],[39,29,40,30],[42,1,42,4],[42,7,42,8],[42,10,42,11],[42,15,42,22],[42,26,42,27],[42,29,42,30],[42,33,42,36],[44,20,44,21],[61,3,61,4],[64,3,64,4],[67,3,67,4],[68,3,68,4],[31,7,32,8],[31,16,31,21],[31,29,32,30],[35,2,36,2],[35,10,36,11],[35,26,36,27],[30,16,30,21],[18,2,19,2],[18,10,19,11],[18,26,19,27],[18,36,19,36],[23,7,24,8],[23,29,24,30],[25,17,25,20],[26,16,26,21],[27,15,28,16],[27,18,28,19],[27,21,28,22],[1,2,1,36],[3,5,3,33],[3,36,4,36],[5,22,5,24],[14,7,15,8],[14,29,15,30]]}
[]
[null,null,"Чемпионат ХМАО-Югры по СБЕ (ММА) среди муж. 18лет и старше,первенство среди юношей 16-17лет"]
[]
[null,null,null,null,null,"ПРОТОКОЛ СОРЕВНОВАНИЙ",null,null,null,null,null,null,null,null,null,null,null,null,null,null,null,null,null,null,null,null,null,null,null,null,null,null,null,null,null,null,"г. Ханты-Мансийск"]
[]
[null,null,null,null,null,null,null,null,null,null,null,null,null,null,null,null,null,null,null,null,null,"Весовая категория до","77,1",null,null,"кг",null,null,null,null,null,null,null,null,null,null,"с16 по 19 февраля 2018г."]
[]
[]
[]
[]
[]
[]
[null,"№","Спортсмен","Шлем","Команда",null,null,null,null,null,null,null,null,null,null,null,null,null,null,null,null,null,null,null,null,null,null,null,null,null,null,null,null,"№","Спортсмен","Шлем","Команда"]
[]
[null,1,"Расулов Магомедсайгид","","г. Ханты-Мансийск",null,null,1,null,"Расулов ",null,null,null,null,null,null,null,null,null,null,null,null,null,null,null,null,null,null,"Тарикулиев ",2,null,null,null,2,"Тарикулиев Заур","","СДЮСШОР \"СПАРТАК\" (г.Нефтеюганск)"]
[]
[]
[]
[null,null,"A",null,null,null,null,null,null,null,5,null,"Шапиев ",null,null,null,null,null,null,null,null,null,null,null,null,"Тарикулиев ",2,null,null,null,null,null,null,null,null,null,"C  "]
[]
[]
[]
[]
[null,9,"Серков Вадим","","г. Сургут",null,null,5,null,null,null,null,null,null,null,null,null,null,null,null,null,null,null,null,null,null,null,null,null,10,null,null,null,10,"Ахмедов Равидин","","г. Сургут"]
[null,5,"Шапиев Абдулталип","","Скорпион (г. Лангепас)",null,null,null,null,"Шапиев ",null,null,null,null,null,null,null,null,null,null,null,null,null,null,null,null,null,null,"Ахмедов ",null,null,null,null,6,"Роговой Владимир","","г. Сургут"]
[null,null,null,null,null,null,null,null,null,null,null,null,null,null,null,null,null,"Чемпион"]
[null,null,null,null,null,null,null,null,"",null,null,null,null,null,null,null,"Тарикулиев",null,null,null,null,null,null,null,null,null,null,null,null,""]
[null,null,null,null,null,null,null,null,null,null,null,null,null,null,"Шапиев ",5,null,null,2,null,null,2,null,"Тарикулиев "]
[]
[]
[]
[null,7,"Юсупов Магомед","","г. Сургут",null,null,7,null,"Юсупов ",null,null,null,null,null,null,null,null,null,null,null,null,null,null,null,null,null,null,"Муслимов ",8,null,null,null,8,"Муслимов Азамат","","г. Сургут"]
[]
[]
[]
[null,null,"B",null,null,null,null,null,null,null,3,null,null,null,null,null,null,null,null,null,null,null,null,null,null,null,8,null,null,null,null,null,null,null,null,null,"D  "]
[null,null,null,null,null,null,null,null,null,null,null,null,"Костылевский ",null,null,null,null,null,null,null,null,null,null,null,null,"Муслимов "]
[]
[]
[null,3,"Костылевский Руслан","","г.Белоярский",null,null,3,null,null,null,null,null,null,null,null,null,null,null,null,null,null,null,null,null,null,null,null,null,4,null,null,null,4,"Магомедов Ахмед","Ш","г. Ханты-Мансийск"]
[null,11,"Сальников Ярослав","","г. Сургут",null,null,null,null,"Костылевский ",null,null,null,null,null,null,null,null,null,null,null,null,null,null,null,null,null,null,"Магомедов (Ш)",null,null,null,null,12,"","",""]
[]
[null,"1/8",null,null,null,null,null,"1/4",null,null,"1/2",null,null,null,null,"Финал",null,null,null,null,null,null,null,null,null,null,"1/2",null,null,"1/4",null,null,null,"1/8"]
[]
[null,null,null,null,null,null,null,null,null,null,null,null,null,null,null,null,null,null,null,"Участников:",11]
[]
[]
[]
[]
[]
["Скрыть"]
["Скрыть"]
["Скрыть"]
["Скрыть"]
["Скрыть"]
[]
[]
[]
[]
[]
[null,null,"1 место"]
[null,2,"Тарикулиев Заур","СДЮСШОР \"СПАРТАК\" (г.Нефтеюганск)"]
[]
[null,null,"2 место"]
[null,5,"Шапиев Абдулталип","Скорпион (г. Лангепас)",null,null,null,null,null,null,null,null,null,null,null,null,null,null,null,null,null,null,null,null,null,null,null,null,null,null,null,null,null,"Главный судья соревнований",null,"/","Карташков К.В.","/"]
[]
[null,null,"3 место"]
[null,3,"Костылевский Руслан","г.Белоярский"]
[null,8,"Муслимов Азамат","г. Сургут",null,null,null,null,null,null,null,null,null,null,null,null,null,null,null,null,null,null,null,null,null,null,null,null,null,null,null,null,null,"Главный секретарь",null,"/","Толстыгин А.Ю.","/"]
[]
[null,null,null,null,null,null,null,null,null,null,null,null,null,null,null,null,null,null,null,null,null,null,null,null,null,null,null,null,null,null,null,null,null,null,null,null,null,14]
[]
[null,null,"5-8 места",null,null,null,null,null,null,null,null,null,null,"Результат боя описание",null,null,null,null,null,null,null,null,null,null,null,null,null,null,null,null,null,null,null,null,"Финалисты"]
[null,1,"Расулов Магомедсайгид","г. Ханты-Мансийск",null,null,null,null,null,null,null,null,null,"(ПО)",null,null,null,"по очкам",null,null,null,null,null,null,null,null,null,null,null,null,null,null,null,5,"Шапиев Абдулталип","Скорпион (г. Лангепас)"]
[null,7,"Юсупов Магомед","г. Сургут",null,null,null,null,null,null,null,null,null,"(КО)",null,null,null,"нокаут",null,null,null,null,null,null,null,null,null,null,null,null,null,null,null,2,"Тарикулиев Заур","СДЮСШОР \"СПАРТАК\" (г.Нефтеюганск)"]
[null,10,"Ахмедов Равидин","г. Сургут",null,null,null,null,null,null,null,null,null,"(БЛ)",null,null,null,"болевой/удушающий"]
[null,4,"Магомедов Ахмед","г. Ханты-Мансийск",null,null,null,null,null,null,null,null,null,"(ТКО)",null,null,null,"технический нокаут"]
[null,null,null,null,null,null,null,null,null,null,null,null,null,"(СН)",null,null,null,"снятие врачом"]
[null,null,"9-16 места",null,null,null,null,null,null,null,null,null,null,"(ОТК)",null,null,null,"отказ продолжать бой"]
[null,0,"","",null,null,null,null,null,null,null,null,null,"(ДСК)",null,null,null,"Дисквалификация"]
[null,9,"Серков Вадим","г. Сургут",null,null,null,null,null,null,null,null,null,"(РГСК)",null,null,null,"решение главного судьи СК"]
[null,0,"","",null,null,null,null,null,null,null,null,null,"(НЯ)",null,null,null,"неявка"]
[null,11,"Сальников Ярослав","г. Сургут"]
[null,0,"",""]
[null,6,"Роговой Владимир","г. Сургут"]
[null,0,"",""]
[null,12,"",""]

{"sheet":"15. Сетка84","index":14,"n_rows":82,"n_cols":38,"rows_kept":82,"cut":false,"hidden":false,"merged":[[81,13,81,16],[81,17,81,26],[78,13,78,16],[78,17,78,26],[79,13,79,16],[79,17,79,26],[80,13,80,16],[80,17,80,26],[75,13,75,16],[75,17,75,26],[76,13,76,16],[76,17,76,26],[77,13,77,16],[77,17,77,26],[72,13,72,26],[73,13,73,16],[73,17,73,26],[73,35,73,36],[74,13,74,16],[74,17,74,26],[74,35,74,36],[68,3,68,4],[21,14,22,15],[21,18,22,19],[21,22,22,23],[24,1,24,4],[24,14,24,23],[25,15,25,22],[27,20,27,21],[61,3,61,4],[64,3,64,4],[67,3,67,4],[24,33,24,36],[1,2,1,36],[3,5,3,33],[3,36,4,36],[5,22,5,24],[17,17,17,20],[19,15,20,22]]}
[]
[null,null,"Чемпионат ХМАО-Югры по СБЕ (ММА) среди муж. 18лет и старше,первенство среди юношей 16-17лет"]
[]
[null,null,null,null,null,"ПРОТОКОЛ СОРЕВНОВАНИЙ",null,null,null,null,null,null,null,null,null,null,null,null,null,null,null,null,null,null,null,null,null,null,null,null,null,null,null,null,null,null,"г. Ханты-Мансийск"]
[]
[null,null,null,null,null,null,null,null,null,null,null,null,null,null,null,null,null,null,null,null,null,"Весовая категория до","84",null,null,"кг",null,null,null,null,null,null,null,null,null,null,"с16 по 19 февраля 2018г."]
[]
[]
[]
[]
[]
[]
[]
[]
[]
[]
[]
[null,null,null,null,null,null,null,null,null,null,null,null,null,null,null,null,null,"Чемпион"]
[]
[null,"№","Спортсмен","Шлем","Команда",null,null,null,null,null,null,null,null,null,null,"Хатков",null,null,null,null,null,null,null,null,null,null,null,null,null,null,null,null,null,"№","Спортсмен","Шлем","Команда"]
[null,null,null,null,null,null,null,null,""]
[null,1,"Багаутдинов Гамзатда","","г. Нижневартовск",null,null,null,null,null,null,null,null,"Мамедов (Ш)",3,null,null,null,2,null,null,null,2,null,"Хатков (Ш)",null,null,null,null,null,null,null,null,2,"Хатков Станислав","Ш","г. Сургут"]
[null,3,"Мамедов Нариман","Ш","СДЮСШОР \"СПАРТАК\" (г.Нефтеюганск)",null,null,null,null,null,null,null,null,null,null,null,null,null,null,null,null,null,null,null,null,null,null,null,null,null,null,null,null,4,"Солтанов Нариман","","СДЮСШОР \"СПАРТАК\" (г.Нефтеюганск)"]
[]
[null,"1/2",null,null,null,null,null,null,null,null,null,null,null,null,"Финал",null,null,null,null,null,null,null,null,null,null,null,null,null,null,null,null,null,null,"1/2"]
[null,null,null,null,null,null,null,null,null,""]
[]
[null,null,null,null,null,null,null,null,null,null,null,null,null,null,null,null,null,null,null,"Участников:",4]
[]
[]
[]
[]
[]
[]
[]
[]
[]
[]
["скрыть"]
["скрыть"]
["скрыть"]
["скрыть"]
["скрыть"]
["скрыть"]
["скрыть"]
[]
[]
[]
[]
[]
[]
[]
[]
[]
[]
[]
[]
[]
[]
[]
[null,null,"1 место"]
[null,2,"Хатков Станислав","г. Сургут"]
[]
[null,null,"2 место"]
[null,3,"Мамедов Нариман","СДЮСШОР \"СПАРТАК\" (г.Нефтеюганск)",null,null,null,null,null,null,null,null,null,null,null,null,null,null,null,null,null,null,null,null,null,null,null,null,null,null,null,null,null,"Главный судья соревнований",null,"/","Карташков К.В.","/"]
[]
[null,null,"3 место"]
[null,1,"Багаутдинов Гамзатда","г. Нижневартовск"]
[null,4,"Солтанов Нариман","СДЮСШОР \"СПАРТАК\" (г.Нефтеюганск)",null,null,null,null,null,null,null,null,null,null,null,null,null,null,null,null,null,null,null,null,null,null,null,null,null,null,null,null,null,"Главный секретарь",null,"/","Толстыгин А.Ю.","/"]
[]
[null,null,null,null,null,null,null,null,null,null,null,null,null,null,null,null,null,null,null,null,null,null,null,null,null,null,null,null,null,null,null,null,null,null,null,null,null,15]
[]
[null,null,null,null,null,null,null,null,null,null,null,null,null,"Результат боя описание",null,null,null,null,null,null,null,null,null,null,null,null,null,null,null,null,null,null,null,null,"Финалисты"]
[null,null,null,null,null,null,null,null,null,null,null,null,null,"(ПО)",null,null,null,"по очкам",null,null,null,null,null,null,null,null,null,null,null,null,null,null,null,3,"Мамедов Нариман","СДЮСШОР \"СПАРТАК\" (г.Нефтеюганск)"]
[null,null,null,null,null,null,null,null,null,null,null,null,null,"(КО)",null,null,null,"нокаут",null,null,null,null,null,null,null,null,null,null,null,null,null,null,null,2,"Хатков Станислав","г. Сургут"]
[null,null,null,null,null,null,null,null,null,null,null,null,null,"(БЛ)",null,null,null,"болевой/удушающий"]
[null,null,null,null,null,null,null,null,null,null,null,null,null,"(ТКО)",null,null,null,"технический нокаут"]
[null,null,null,null,null,null,null,null,null,null,null,null,null,"(СН)",null,null,null,"снятие врачом"]
[null,null,null,null,null,null,null,null,null,null,null,null,null,"(ОТК)",null,null,null,"отказ продолжать бой"]
[null,null,null,null,null,null,null,null,null,null,null,null,null,"(ДСК)",null,null,null,"Дисквалификация"]
[null,null,null,null,null,null,null,null,null,null,null,null,null,"(РГСК)",null,null,null,"решение главного судьи СК"]
[null,null,null,null,null,null,null,null,null,null,null,null,null,"(НЯ)",null,null,null,"неявка"]

{"sheet":"16. Сетка93","index":15,"n_rows":82,"n_cols":38,"rows_kept":82,"cut":false,"hidden":false,"merged":[[81,13,81,16],[81,17,81,26],[77,13,77,16],[77,17,77,26],[78,13,78,16],[78,17,78,26],[79,13,79,16],[79,17,79,26],[74,35,74,36],[75,13,75,16],[75,17,75,26],[80,13,80,16],[80,17,80,26],[76,13,76,16],[76,17,76,26],[74,13,74,16],[74,17,74,26],[61,3,61,4],[64,3,64,4],[72,13,72,26],[73,13,73,16],[73,17,73,26],[73,35,73,36],[21,34,22,34],[21,35,22,35],[21,36,22,36],[24,14,24,23],[25,15,25,22],[27,20,27,21],[21,33,22,33],[21,1,22,1],[21,2,22,2],[21,3,22,3],[21,4,22,4],[21,18,22,19],[19,15,20,22],[1,2,1,36],[3,5,3,33],[3,36,4,36],[5,22,5,24],[17,17,17,20]]}
[]
[null,null,"Чемпионат ХМАО-Югры по СБЕ (ММА) среди муж. 18лет и старше,первенство среди юношей 16-17лет"]
[]
[null,null,null,null,null,"ПРОТОКОЛ СОРЕВНОВАНИЙ",null,null,null,null,null,null,null,null,null,null,null,null,null,null,null,null,null,null,null,null,null,null,null,null,null,null,null,null,null,null,"г. Ханты-Мансийск"]
[]
[null,null,null,null,null,null,null,null,null,null,null,null,null,null,null,null,null,null,null,null,null,"Весовая категория до","93",null,null,"кг",null,null,null,null,null,null,null,null,null,null,"с16 по 19 февраля 2018г."]
[]
[]
[]
[]
[]
[]
[]
[]
[]
[]
[]
[null,null,null,null,null,null,null,null,null,null,null,null,null,null,null,null,null,"Чемпион"]
[]
[null,"№","Спортсмен","Шлем","Команда",null,null,null,null,null,null,null,null,null,null,"Хебдеев",null,null,null,null,null,null,null,null,null,null,null,null,null,null,null,null,null,"№","Спортсмен","Шлем","Команда"]
[null,null,null,null,null,null,null,null,""]
[null,1,"Расулов Абдуллатип","Ш","Скорпион (г. Лангепас)",null,null,null,null,null,null,null,null,null,null,null,null,null,2,null,null,null,null,null,null,null,null,null,null,null,null,null,null,2,"Хебдеев Гаджимурад","","СДЮСШОР \"СПАРТАК\" (г.Нефтеюганск)"]
[]
[]
[null,null,null,null,null,null,null,null,null,null,null,null,null,null,"Финал"]
[null,null,null,null,null,null,null,null,null,""]
[]
[null,null,null,null,null,null,null,null,null,null,null,null,null,null,null,null,null,null,null,"Участников:",2]
[]
[]
[]
[]
[]
[]
[]
[]
[]
["скрыть"]
["скрыть"]
["скрыть"]
["скрыть"]
["скрыть"]
["скрыть"]
["скрыть"]
[]
[]
[]
[]
[]
[]
[]
[]
[]
[]
[]
[]
[]
[]
[]
[]
[null,null,"1 место"]
[null,2,"Хебдеев Гаджимурад","СДЮСШОР \"СПАРТАК\" (г.Нефтеюганск)"]
[]
[null,null,"2 место"]
[null,1,"Расулов Абдуллатип","Скорпион (г. Лангепас)",null,null,null,null,null,null,null,null,null,null,null,null,null,null,null,null,null,null,null,null,null,null,null,null,null,null,null,null,null,"Главный судья соревнований",null,"/","Карташков К.В.","/"]
[]
[]
[]
[null,null,null,null,null,null,null,null,null,null,null,null,null,null,null,null,null,null,null,null,null,null,null,null,null,null,null,null,null,null,null,null,null,"Главный секретарь",null,"/","Толстыгин А.Ю.","/"]
[]
[null,null,null,null,null,null,null,null,null,null,null,null,null,null,null,null,null,null,null,null,null,null,null,null,null,null,null,null,null,null,null,null,null,null,null,null,null,16]
[]
[null,null,null,null,null,null,null,null,null,null,null,null,null,"Результат боя описание",null,null,null,null,null,null,null,null,null,null,null,null,null,null,null,null,null,null,null,null,"Финалисты"]
[null,null,null,null,null,null,null,null,null,null,null,null,null,"(ПО)",null,null,null,"по очкам",null,null,null,null,null,null,null,null,null,null,null,null,null,null,null,1,"Расулов Абдуллатип","Скорпион (г. Лангепас)"]
[null,null,null,null,null,null,null,null,null,null,null,null,null,"(КО)",null,null,null,"нокаут",null,null,null,null,null,null,null,null,null,null,null,null,null,null,null,2,"Хебдеев Гаджимурад","СДЮСШОР \"СПАРТАК\" (г.Нефтеюганск)"]
[null,null,null,null,null,null,null,null,null,null,null,null,null,"(БЛ)",null,null,null,"болевой/удушающий"]
[null,null,null,null,null,null,null,null,null,null,null,null,null,"(ТКО)",null,null,null,"технический нокаут"]
[null,null,null,null,null,null,null,null,null,null,null,null,null,"(СН)",null,null,null,"снятие врачом"]
[null,null,null,null,null,null,null,null,null,null,null,null,null,"(ОТК)",null,null,null,"отказ продолжать бой"]
[null,null,null,null,null,null,null,null,null,null,null,null,null,"(ДСК)",null,null,null,"Дисквалификация"]
[null,null,null,null,null,null,null,null,null,null,null,null,null,"(РГСК)",null,null,null,"решение главного судьи СК"]
[null,null,null,null,null,null,null,null,null,null,null,null,null,"(НЯ)",null,null,null,"неявка"]

{"sheet":"17. Сетка93+","index":16,"n_rows":82,"n_cols":39,"rows_kept":82,"cut":false,"hidden":false,"merged":[[81,13,81,16],[81,17,81,26],[78,13,78,16],[78,17,78,26],[79,13,79,16],[79,17,79,26],[80,13,80,16],[80,17,80,26],[75,13,75,16],[75,17,75,26],[76,13,76,16],[76,17,76,26],[77,13,77,16],[77,17,77,26],[72,13,72,26],[73,13,73,16],[73,17,73,26],[73,35,73,36],[74,13,74,16],[74,17,74,26],[74,35,74,36],[67,2,67,3],[67,4,67,5],[39,1,40,1],[39,7,39,10],[39,12,40,18],[54,3,55,5],[61,2,61,3],[61,4,61,5],[64,2,64,3],[64,4,64,5],[33,1,34,1],[33,7,33,10],[33,12,34,18],[33,20,33,22],[33,24,35,24],[34,7,34,8],[34,9,34,10],[34,20,34,22],[27,24,29,24],[27,27,27,33],[27,35,39,37],[28,7,28,8],[28,9,28,10],[28,20,28,22],[30,29,31,31],[34,29,35,31],[38,29,39,31],[39,20,39,22],[39,24,41,24],[40,7,40,8],[40,9,40,10],[40,20,40,22],[25,6,25,11],[25,12,25,18],[25,20,25,22],[27,1,28,1],[27,7,27,10],[27,12,28,18],[27,20,27,22],[20,3,21,5],[15,8,15,9],[15,10,15,11],[15,12,15,15],[15,17,15,18],[16,6,16,7],[16,8,16,9],[16,10,16,11],[16,12,16,15],[16,17,16,18],[17,6,17,7],[17,8,17,9],[17,10,17,11],[17,12,17,15],[17,17,17,18],[1,3,1,37],[3,6,3,34],[3,37,4,37],[5,22,5,24],[12,1,14,1],[14,6,14,7],[14,8,14,9],[14,10,14,11],[14,19,18,20],[15,6,15,7]]}
[]
[null,null,null,"Чемпионат ХМАО-Югры по СБЕ (ММА) среди муж. 18лет и старше,первенство среди юношей 16-17лет"]
[]
[null,null,null,null,null,null,"ПРОТОКОЛ СОРЕВНОВАНИЙ",null,null,null,null,null,null,null,null,null,null,null,null,null,null,null,null,null,null,null,null,null,null,null,null,null,null,null,null,null,null,"г. Ханты-Мансийск"]
[]
[null,null,null,null,null,null,null,null,null,null,null,null,null,null,null,null,null,null,null,null,null,"Весовая категория до","93+",null,null,"кг",null,null,null,null,null,null,null,null,null,null,null,"с16 по 19 февраля 2018г."]
[]
[]
[]
[]
[]
[]
[null,"Место"]
[]
[null,null,"№","Спортсмен","Шлем","Команда",1,null,2,null,3,null,null,null,null,null,null,null,null,"Подробный подсчёт"]
[null,1,1,"Ашурбеков Рустам","Ш","г. Сургут",null,null,null,null,null,null,5]
[null,3,2,"Маслов Александр","","г. Сургут",null,null,null,null,null,null,2]
[null,2,3,"Паутов Константин","","г. Ханты-Мансийск",null,null,null,null,null,null,3]
[]
[]
[null,null,null,""]
[]
[]
[]
[]
[null,null,"№","Спортсмен","Шлем","Регион","Раунд / Время",null,null,null,null,null,"Результат боя",null,null,null,null,null,null,null,"Очки"]
[]
[null,1,1,"Ашурбеков Рустам","Ш","г. Сургут",null,null,null,null,null,null,null,null,null,null,null,null,null,null,2,null,null,null,"Круг  1",null,null,"Схема Круговой",null,null,null,null,null,null,null,"\n               Система подсчёта очков:\n   Досрочная победа: 3 очка. (и в Extra раунде)\n   Если соперник не вышел на поединок: 2 очка\n   Победа по очкам в Extra раунде: 1 очко\n\n* При одинаковой сумме очков у двух и более спортсменов  последовательно учитываются дополнительные показатели:\n      - лучший результат в личных встречах;\n      - большее количество досрочных побед;\n      - меньшее количество досрочных поражений;\n      - меньший личный вес тела."]
[null,null,2,"Маслов Александр","","г. Сургут",null,null,null,null,null,null,null,null,null,null,null,null,null,null,1]
[null,null,null,null,null,null,null,null,null,null,null,null,null,null,null,null,null,null,null,null,null,null,null,null,null,null,null,null,null,null,null,null,1]
[null,null,null,null,null,null,null,null,null,null,null,null,null,null,null,null,null,null,null,null,null,null,null,null,null,null,null,null,null,"1 круг",null,null,1]
[null,null,null,null,null,null,null,null,null,null,null,null,null,null,null,null,null,null,null,null,null,null,null,null,null,null,null,null,null,null,null,null,2]
[]
[null,2,2,"Маслов Александр","","г. Сургут",null,null,null,null,null,null,null,null,null,null,null,null,null,null,1,null,null,null,"Круг  2",null,null,null,null,null,null,null,2]
[null,null,3,"Паутов Константин","","г. Ханты-Мансийск",null,null,null,null,null,null,null,null,null,null,null,null,null,null,2,null,null,null,null,null,null,null,null,"2 круг",null,null,2]
[null,null,null,null,null,null,null,null,null,null,null,null,null,null,null,null,null,null,null,null,null,null,null,null,null,null,null,null,null,0,null,null,3]
[]
[null,null,null,null,null,null,null,null,null,null,null,null,null,null,null,null,null,null,null,null,null,null,null,null,null,null,null,null,null,null,null,null,3]
[null,null,null,null,null,null,null,null,null,null,null,null,null,null,null,null,null,null,null,null,null,null,null,null,null,null,null,null,null,"3 круг",null,null,1]
[null,3,3,"Паутов Константин","","г. Ханты-Мансийск",null,null,null,null,null,null,null,null,null,null,null,null,null,null,1,null,null,null,"Круг  3",null,null,null,null,0,null,null,3]
[null,null,1,"Ашурбеков Рустам","Ш","г. Сургут",null,null,null,null,null,null,null,null,null,null,null,null,null,null,3]
[]
[]
[]
[]
["скрыть"]
["скрыть"]
["скрыть"]
["скрыть"]
["скрыть"]
["скрыть"]
["скрыть"]
["скрыть"]
[]
[null,null,null,""]
[]
[]
[]
[]
[]
[null,null,null,"1 место"]
[null,1,"Ашурбеков Рустам",null,"г. Сургут"]
[]
[null,null,null,"2 место"]
[null,3,"Паутов Константин",null,"г. Ханты-Мансийск",null,null,null,null,null,null,null,null,null,null,null,null,null,null,null,null,null,null,null,null,null,null,null,null,null,null,null,null,null,"Главный судья соревнований",null,"/","Карташков К.В.","/"]
[]
[null,null,null,"3 место"]
[null,2,"Маслов Александр",null,"г. Сургут"]
[null,null,null,null,null,null,null,null,null,null,null,null,null,null,null,null,null,null,null,null,null,null,null,null,null,null,null,null,null,null,null,null,null,null,"Главный секретарь",null,"/","Толстыгин А.Ю.","/"]
[]
[null,null,null,null,null,null,null,null,null,null,null,null,null,null,null,null,null,null,null,null,null,null,null,null,null,null,null,null,null,null,null,null,null,null,null,null,null,null,17]
[]
[null,null,null,null,null,null,null,null,null,null,null,null,null,"Результат боя описание",null,null,null,null,null,null,null,null,null,null,null,null,null,null,null,null,null,null,null,null,"Финалисты"]
[null,null,null,null,null,null,null,null,null,null,null,null,null,"(ПО)",null,null,null,"по очкам",null,null,null,null,null,null,null,null,null,null,null,null,null,null,null,3,"Паутов Константин","г. Ханты-Мансийск"]
[null,null,null,null,null,null,null,null,null,null,null,null,null,"(КО)",null,null,null,"нокаут",null,null,null,null,null,null,null,null,null,null,null,null,null,null,null,1,"Ашурбеков Рустам","г. Сургут"]
[null,null,null,null,null,null,null,null,null,null,null,null,null,"(БЛ)",null,null,null,"болевой/удушающий"]
[null,null,null,null,null,null,null,null,null,null,null,null,null,"(ТКО)",null,null,null,"технический нокаут"]
[null,null,null,null,null,null,null,null,null,null,null,null,null,"(СН)",null,null,null,"снятие врачом"]
[null,null,null,null,null,null,null,null,null,null,null,null,null,"(ОТК)",null,null,null,"отказ продолжать бой"]
[null,null,null,null,null,null,null,null,null,null,null,null,null,"(ДСК)",null,null,null,"Дисквалификация"]
[null,null,null,null,null,null,null,null,null,null,null,null,null,"(РГСК)",null,null,null,"решение главного судьи СК"]
[null,null,null,null,null,null,null,null,null,null,null,null,null,"(НЯ)",null,null,null,"неявка"]

{"sheet":"Сетка12","index":17,"n_rows":87,"n_cols":38,"rows_kept":87,"cut":false,"hidden":true,"merged":[[1,2,1,36],[3,5,3,33],[3,36,4,36],[5,22,5,24],[14,7,15,8],[14,29,15,30],[30,16,30,21],[18,2,19,2],[18,10,19,11],[18,26,19,27],[18,36,19,36],[23,7,24,8],[23,29,24,30],[25,17,25,20],[26,16,26,21],[27,15,28,16],[27,18,28,19],[27,21,28,22],[31,7,32,8],[31,16,31,21],[31,29,32,30],[35,2,36,2],[35,10,36,11],[35,26,36,27],[72,13,72,26],[35,36,36,36],[39,7,40,8],[39,29,40,30],[42,1,42,4],[42,7,42,8],[42,10,42,11],[42,15,42,22],[42,26,42,27],[42,29,42,30],[42,33,42,36],[44,20,44,21],[61,3,61,4],[64,3,64,4],[67,3,67,4],[68,3,68,4],[73,3,73,4],[73,13,73,16],[73,17,73,26],[73,35,73,36],[74,3,74,4],[74,13,74,16],[74,17,74,26],[74,35,74,36],[75,3,75,4],[75,13,75,16],[75,17,75,26],[76,3,76,4],[76,13,76,16],[76,17,76,26],[77,13,77,16],[77,17,77,26],[78,13,78,16],[78,17,78,26],[79,3,79,4],[79,13,79,16],[79,17,79,26],[80,3,80,4],[80,13,80,16],[80,17,80,26],[81,3,81,4],[81,13,81,16],[81,17,81,26],[82,3,82,4],[83,3,83,4],[84,3,84,4],[85,3,85,4],[86,3,86,4]]}
[]
[null,null,{"$f":"'Исходные данные по чемпионату'!C3","v":"Чемпионат ХМАО-Югры по СБЕ (ММА) среди муж. 18лет и старше,первенство среди юношей 16-17лет"}]
[]
[null,null,null,null,null,"ПРОТОКОЛ СОРЕВНОВАНИЙ",null,null,null,null,null,null,null,null,null,null,null,null,null,null,null,null,null,null,null,null,null,null,null,null,null,null,null,null,null,null,{"$f":"'Исходные данные по чемпионату'!C6","v":"г. Ханты-Мансийск"}]
[]
[null,null,null,null,null,null,null,null,null,null,null,null,null,null,null,null,null,null,null,null,null,"Весовая категория до","65,8",null,null,"кг",null,null,null,null,null,null,null,null,null,null,{"$f":"'Исходные данные по чемпионату'!C4","v":"с16 по 19 февраля 2018г."}]
[]
[]
[]
[]
[]
[]
[null,"№","Спортсмен","Шлем","Команда",null,null,null,null,null,null,null,null,null,null,null,null,null,null,null,null,null,null,null,null,null,null,null,null,null,null,null,null,"№","Спортсмен","Шлем","Команда"]
[]
[null,1,{"$f":"IFERROR(VLOOKUP(CONCATENATE(B15,\" вес \",$W$6),'Участники чемпионата'!$A:$AA,13,0),\"\")","v":"Мамедов Руслан"},{"$f":"IF(IFERROR(VLOOKUP(CONCATENATE(B15,\" вес \",$W$6),'Участники чемпионата'!$A:$AA,25,0),\"\")=\"Шлем\",\"Ш\",\"\")","v":""},{"$f":"IFERROR(VLOOKUP(CONCATENATE(B15,\" вес \",$W$6),'Участники чемпионата'!$A:$AA,5,0),\"\")","v":"Скорпион (г. Лангепас)"},null,null,1,null,{"$f":"IFERROR(VLOOKUP(CONCATENATE(H15,\" вес \",$W$6),'Участники чемпионата'!$A:$AF,32,0),\"\")","v":"Мамедов "},null,null,null,null,null,null,null,null,null,null,null,null,null,null,null,null,null,null,{"$f":"IFERROR(VLOOKUP(CONCATENATE(AD15,\" вес \",$W$6),'Участники чемпионата'!$A:$AF,32,0),\"\")","v":"Бердиев (Ш)"},2,null,null,null,2,{"$f":"IFERROR(VLOOKUP(CONCATENATE(AH15,\" вес \",$W$6),'Участники чемпионата'!$A:$AA,13,0),\"\")","v":"Бердиев Шахзод"},{"$f":"IF(IFERROR(VLOOKUP(CONCATENATE(AH15,\" вес \",$W$6),'Участники чемпионата'!$A:$AA,25,0),\"\")=\"Шлем\",\"Ш\",\"\")","v":"Ш"},{"$f":"IFERROR(VLOOKUP(CONCATENATE(AH15,\" вес \",$W$6),'Участники чемпионата'!$A:$AA,5,0),\"\")","v":"СДЮСШОР \"СПАРТАК\" (г.Нефтеюганск)"}]
[]
[]
[]
[null,null,"A",null,null,null,null,null,null,null,null,null,{"$f":"IFERROR(VLOOKUP(CONCATENATE(K19,\" вес \",$W$6),'Участники чемпионата'!$A:$AF,32,0),\"\")","v":""},null,null,null,null,null,null,null,null,null,null,null,null,{"$f":"IFERROR(VLOOKUP(CONCATENATE(AA19,\" вес \",$W$6),'Участники чемпионата'!$A:$AF,32,0),\"\")","v":""},null,null,null,null,null,null,null,null,null,null,"C  "]
[]
[]
[]
[]
[null,9,{"$f":"IFERROR(VLOOKUP(CONCATENATE(B24,\" вес \",$W$6),'Участники чемпионата'!$A:$AA,13,0),\"\")","v":"Касумов  Али"},{"$f":"IF(IFERROR(VLOOKUP(CONCATENATE(B24,\" вес \",$W$6),'Участники чемпионата'!$A:$AA,25,0),\"\")=\"Шлем\",\"Ш\",\"\")","v":""},{"$f":"IFERROR(VLOOKUP(CONCATENATE(B24,\" вес \",$W$6),'Участники чемпионата'!$A:$AA,5,0),\"\")","v":"г. Сургут"},null,null,null,null,null,null,null,null,null,null,null,null,null,null,null,null,null,null,null,null,null,null,null,null,null,null,null,null,10,{"$f":"IFERROR(VLOOKUP(CONCATENATE(AH24,\" вес \",$W$6),'Участники чемпионата'!$A:$AA,13,0),\"\")","v":"Магомедов Бурагим"},{"$f":"IF(IFERROR(VLOOKUP(CONCATENATE(AH24,\" вес \",$W$6),'Участники чемпионата'!$A:$AA,25,0),\"\")=\"Шлем\",\"Ш\",\"\")","v":""},{"$f":"IFERROR(VLOOKUP(CONCATENATE(AH24,\" вес \",$W$6),'Участники чемпионата'!$A:$AA,5,0),\"\")","v":"г. Нижневартовск"}]
[null,5,{"$f":"IFERROR(VLOOKUP(CONCATENATE(B25,\" вес \",$W$6),'Участники чемпионата'!$A:$AA,13,0),\"\")","v":"Григоров Максим"},{"$f":"IF(IFERROR(VLOOKUP(CONCATENATE(B25,\" вес \",$W$6),'Участники чемпионата'!$A:$AA,25,0),\"\")=\"Шлем\",\"Ш\",\"\")","v":""},{"$f":"IFERROR(VLOOKUP(CONCATENATE(B25,\" вес \",$W$6),'Участники чемпионата'!$A:$AA,5,0),\"\")","v":"г. Ханты-Мансийск"},null,null,null,null,{"$f":"IFERROR(VLOOKUP(CONCATENATE(H24,\" вес \",$W$6),'Участники чемпионата'!$A:$AF,32,0),\"\")","v":""},null,null,null,null,null,null,null,null,null,null,null,null,null,null,null,null,null,null,{"$f":"IFERROR(VLOOKUP(CONCATENATE(AD24,\" вес \",$W$6),'Участники чемпионата'!$A:$AF,32,0),\"\")","v":""},null,null,null,null,6,{"$f":"IFERROR(VLOOKUP(CONCATENATE(AH25,\" вес \",$W$6),'Участники чемпионата'!$A:$AA,13,0),\"\")","v":"Адыгешаов Расим"},{"$f":"IF(IFERROR(VLOOKUP(CONCATENATE(AH25,\" вес \",$W$6),'Участники чемпионата'!$A:$AA,25,0),\"\")=\"Шлем\",\"Ш\",\"\")","v":"Ш"},{"$f":"IFERROR(VLOOKUP(CONCATENATE(AH25,\" вес \",$W$6),'Участники чемпионата'!$A:$AA,5,0),\"\")","v":"г. Сургут"}]
[null,null,null,null,null,null,null,null,null,null,null,null,null,null,null,null,null,"Чемпион"]
[null,null,null,null,null,null,null,null,"",null,null,null,null,null,null,null,{"$f":"IFERROR(VLOOKUP(CONCATENATE(S28,\" вес \",$W$6),'Участники чемпионата'!$A:$AA,7,0),\"\")","v":""},null,null,null,null,null,null,null,null,null,null,null,null,""]
[null,null,null,null,null,null,null,null,null,null,null,null,null,null,{"$f":"IFERROR(VLOOKUP(CONCATENATE(P28,\" вес \",$W$6),'Участники чемпионата'!$A:$AF,32,0),\"\")","v":""},null,null,null,null,null,null,null,null,{"$f":"IFERROR(VLOOKUP(CONCATENATE(V28,\" вес \",$W$6),'Участники чемпионата'!$A:$AF,32,0),\"\")","v":""}]
[]
[]
[]
[null,7,{"$f":"IFERROR(VLOOKUP(CONCATENATE(B32,\" вес \",$W$6),'Участники чемпионата'!$A:$AA,13,0),\"\")","v":"Гаджиахмедов Магомед"},{"$f":"IF(IFERROR(VLOOKUP(CONCATENATE(B32,\" вес \",$W$6),'Участники чемпионата'!$A:$AA,25,0),\"\")=\"Шлем\",\"Ш\",\"\")","v":""},{"$f":"IFERROR(VLOOKUP(CONCATENATE(B32,\" вес \",$W$6),'Участники чемпионата'!$A:$AA,5,0),\"\")","v":"г. Сургут"},null,null,7,null,{"$f":"IFERROR(VLOOKUP(CONCATENATE(H32,\" вес \",$W$6),'Участники чемпионата'!$A:$AF,32,0),\"\")","v":"Гаджиахмедов "},null,null,null,null,null,null,null,null,null,null,null,null,null,null,null,null,null,null,{"$f":"IFERROR(VLOOKUP(CONCATENATE(AD32,\" вес \",$W$6),'Участники чемпионата'!$A:$AF,32,0),\"\")","v":"Ильясов (Ш)"},8,null,null,null,8,{"$f":"IFERROR(VLOOKUP(CONCATENATE(AH32,\" вес \",$W$6),'Участники чемпионата'!$A:$AA,13,0),\"\")","v":"Ильясов Гасан"},{"$f":"IF(IFERROR(VLOOKUP(CONCATENATE(AH32,\" вес \",$W$6),'Участники чемпионата'!$A:$AA,25,0),\"\")=\"Шлем\",\"Ш\",\"\")","v":"Ш"},{"$f":"IFERROR(VLOOKUP(CONCATENATE(AH32,\" вес \",$W$6),'Участники чемпионата'!$A:$AA,5,0),\"\")","v":"г. Сургут"}]
[]
[]
[]
[null,null,"B",null,null,null,null,null,null,null,null,null,null,null,null,null,null,null,null,null,null,null,null,null,null,null,null,null,null,null,null,null,null,null,null,null,"D  "]
[null,null,null,null,null,null,null,null,null,null,null,null,{"$f":"IFERROR(VLOOKUP(CONCATENATE(K36,\" вес \",$W$6),'Участники чемпионата'!$A:$AF,32,0),\"\")","v":""},null,null,null,null,null,null,null,null,null,null,null,null,{"$f":"IFERROR(VLOOKUP(CONCATENATE(AA36,\" вес \",$W$6),'Участники чемпионата'!$A:$AF,32,0),\"\")","v":""}]
[]
[]
[null,3,{"$f":"IFERROR(VLOOKUP(CONCATENATE(B40,\" вес \",$W$6),'Участники чемпионата'!$A:$AA,13,0),\"\")","v":"Рамазанов Джамал"},{"$f":"IF(IFERROR(VLOOKUP(CONCATENATE(B40,\" вес \",$W$6),'Участники чемпионата'!$A:$AA,25,0),\"\")=\"Шлем\",\"Ш\",\"\")","v":"Ш"},{"$f":"IFERROR(VLOOKUP(CONCATENATE(B40,\" вес \",$W$6),'Участники чемпионата'!$A:$AA,5,0),\"\")","v":"СДЮСШОР \"СПАРТАК\" (г.Нефтеюганск)"},null,null,null,null,null,null,null,null,null,null,null,null,null,null,null,null,null,null,null,null,null,null,null,null,null,null,null,null,4,{"$f":"IFERROR(VLOOKUP(CONCATENATE(AH40,\" вес \",$W$6),'Участники чемпионата'!$A:$AA,13,0),\"\")","v":"Дадаев Мансур"},{"$f":"IF(IFERROR(VLOOKUP(CONCATENATE(AH40,\" вес \",$W$6),'Участники чемпионата'!$A:$AA,25,0),\"\")=\"Шлем\",\"Ш\",\"\")","v":"Ш"},{"$f":"IFERROR(VLOOKUP(CONCATENATE(AH40,\" вес \",$W$6),'Участники чемпионата'!$A:$AA,5,0),\"\")","v":"г. Ханты-Мансийск"}]
[null,11,{"$f":"IFERROR(VLOOKUP(CONCATENATE(B41,\" вес \",$W$6),'Участники чемпионата'!$A:$AA,13,0),\"\")","v":""},{"$f":"IF(IFERROR(VLOOKUP(CONCATENATE(B41,\" вес \",$W$6),'Участники чемпионата'!$A:$AA,25,0),\"\")=\"Шлем\",\"Ш\",\"\")","v":""},{"$f":"IFERROR(VLOOKUP(CONCATENATE(B41,\" вес \",$W$6),'Участники чемпионата'!$A:$AA,5,0),\"\")","v":""},null,null,null,null,{"$f":"IFERROR(VLOOKUP(CONCATENATE(H40,\" вес \",$W$6),'Участники чемпионата'!$A:$AF,32,0),\"\")","v":""},null,null,null,null,null,null,null,null,null,null,null,null,null,null,null,null,null,null,{"$f":"IFERROR(VLOOKUP(CONCATENATE(AD40,\" вес \",$W$6),'Участники чемпионата'!$A:$AF,32,0),\"\")","v":""},null,null,null,null,12,{"$f":"IFERROR(VLOOKUP(CONCATENATE(AH41,\" вес \",$W$6),'Участники чемпионата'!$A:$AA,13,0),\"\")","v":""},{"$f":"IF(IFERROR(VLOOKUP(CONCATENATE(AH41,\" вес \",$W$6),'Участники чемпионата'!$A:$AA,25,0),\"\")=\"Шлем\",\"Ш\",\"\")","v":""},{"$f":"IFERROR(VLOOKUP(CONCATENATE(AH41,\" вес \",$W$6),'Участники чемпионата'!$A:$AA,5,0),\"\")","v":""}]
[]
[null,"1/8",null,null,null,null,null,"1/4",null,null,"1/2",null,null,null,null,"Финал",null,null,null,null,null,null,null,null,null,null,"1/2",null,null,"1/4",null,null,null,"1/8"]
[]
[null,null,null,null,null,null,null,null,null,null,null,null,null,null,null,null,null,null,null,"Участников:",{"$f":"HLOOKUP(W6,Мандатка!$C$4:$I$5,2,0)","v":10}]
[]
[]
[]
[]
[]
["Скрыть"]
["Скрыть"]
["Скрыть"]
["Скрыть"]
["Скрыть"]
[]
[]
[]
[]
[]
[null,null,"1 место"]
[null,{"$f":"IF(S28=\"\",\"\",S28)","v":""},{"$f":"IF(B62=\"\",\"\",IFERROR(VLOOKUP(CONCATENATE(B62,\" вес \",$W$6),'Участники чемпионата'!$A:$AA,13,0),\"\"))","v":""},{"$f":"IF(B62=\"\",\"\",IFERROR(VLOOKUP(CONCATENATE(B62,\" вес \",$W$6),'Участники чемпионата'!$A:$AA,5,0),\"\"))","v":""}]
[]
[null,null,"2 место"]
[null,{"$f":"IF(S28=\"\",\"\",IF(S28=V28,P28,V28))","v":""},{"$f":"IF(B65=\"\",\"\",IFERROR(VLOOKUP(CONCATENATE(B65,\" вес \",$W$6),'Участники чемпионата'!$A:$AA,13,0),\"\"))","v":""},{"$f":"IF(B65=\"\",\"\",IFERROR(VLOOKUP(CONCATENATE(B65,\" вес \",$W$6),'Участники чемпионата'!$A:$AA,5,0),\"\"))","v":""},null,null,null,null,null,null,null,null,null,null,null,null,null,null,null,null,null,null,null,null,null,null,null,null,null,null,null,null,null,"Главный судья соревнований",null,"/",{"$f":"IF(VLOOKUP(AH65,'Исходные данные по чемпионату'!B:C,2,0)=0,\"\",VLOOKUP(AH65,'Исходные данные по чемпионату'!B:C,2,0))","v":"Карташков К.В."},"/"]
[]
[null,null,"3 место"]
[null,{"$f":"IF(P28=\"\",\"\",IF(P28=K36,K19,K36))","v":""},{"$f":"IF(B68=\"\",\"\",IFERROR(VLOOKUP(CONCATENATE(B68,\" вес \",$W$6),'Участники чемпионата'!$A:$AA,13,0),\"\"))","v":""},{"$f":"IF(B68=\"\",\"\",IFERROR(VLOOKUP(CONCATENATE(B68,\" вес \",$W$6),'Участники чемпионата'!$A:$AA,5,0),\"\"))","v":""}]
[null,{"$f":"IF(V28=\"\",\"\",IF(V28=AA36,AA19,AA36))","v":""},{"$f":"IF(B69=\"\",\"\",IFERROR(VLOOKUP(CONCATENATE(B69,\" вес \",$W$6),'Участники чемпионата'!$A:$AA,13,0),\"\"))","v":""},{"$f":"IF(B69=\"\",\"\",IFERROR(VLOOKUP(CONCATENATE(B69,\" вес \",$W$6),'Участники чемпионата'!$A:$AA,5,0),\"\"))","v":""},null,null,null,null,null,null,null,null,null,null,null,null,null,null,null,null,null,null,null,null,null,null,null,null,null,null,null,null,null,"Главный секретарь",null,"/",{"$f":"IF(VLOOKUP(AH69,'Исходные данные по чемпионату'!B:C,2,0)=0,\"\",VLOOKUP(AH69,'Исходные данные по чемпионату'!B:C,2,0))","v":"Толстыгин А.Ю."},"/"]
[]
[null,null,null,null,null,null,null,null,null,null,null,null,null,null,null,null,null,null,null,null,null,null,null,null,null,null,null,null,null,null,null,null,null,null,null,null,null,0]
[]
[null,null,"5-8 места",null,null,null,null,null,null,null,null,null,null,"Результат боя описание",null,null,null,null,null,null,null,null,null,null,null,null,null,null,null,null,null,null,null,null,"Финалисты"]
[null,{"$f":"IF(K19=\"\",\"\",IF(OR(H15-K19=0),H24,H15))","v":""},{"$f":"IF(B74=\"\",\"\",IFERROR(VLOOKUP(CONCATENATE(B74,\" вес \",$W$6),'Участники чемпионата'!$A:$AA,13,0),\"\"))","v":""},{"$f":"IF(B74=\"\",\"\",IFERROR(VLOOKUP(CONCATENATE(B74,\" вес \",$W$6),'Участники чемпионата'!$A:$AA,5,0),\"\"))","v":""},null,null,null,null,null,null,null,null,null,{"$f":"'Unvisible Списки'!C9","v":"(ПО)"},null,null,null,{"$f":"'Unvisible Списки'!C27","v":"по очкам"},null,null,null,null,null,null,null,null,null,null,null,null,null,null,null,{"$f":"IF(P28=\"\",\"\",P28)","v":""},{"$f":"IFERROR(VLOOKUP(CONCATENATE(AH74,\" вес \",$W$6),'Участники чемпионата'!$A:$AA,13,0),\"\")","v":""},{"$f":"IFERROR(VLOOKUP(CONCATENATE(AH74,\" вес \",$W$6),'Участники чемпионата'!$A:$AA,5,0),\"\")","v":""}]
[null,{"$f":"IF(K36=\"\",\"\",IF(OR(H32-K36=0),H40,H32))","v":""},{"$f":"IF(B75=\"\",\"\",IFERROR(VLOOKUP(CONCATENATE(B75,\" вес \",$W$6),'Участники чемпионата'!$A:$AA,13,0),\"\"))","v":""},{"$f":"IF(B75=\"\",\"\",IFERROR(VLOOKUP(CONCATENATE(B75,\" вес \",$W$6),'Участники чемпионата'!$A:$AA,5,0),\"\"))","v":""},null,null,null,null,null,null,null,null,null,{"$f":"'Unvisible Списки'!C10","v":"(КО)"},null,null,null,{"$f":"'Unvisible Списки'!C28","v":"нокаут"},null,null,null,null,null,null,null,null,null,null,null,null,null,null,null,{"$f":"IF(V28=\"\",\"\",V28)","v":""},{"$f":"IFERROR(VLOOKUP(CONCATENATE(AH75,\" вес \",$W$6),'Участники чемпионата'!$A:$AA,13,0),\"\")","v":""},{"$f":"IFERROR(VLOOKUP(CONCATENATE(AH75,\" вес \",$W$6),'Участники чемпионата'!$A:$AA,5,0),\"\")","v":""}]
[null,{"$f":"IF(AA19=\"\",\"\",IF(OR(AD15-AA19=0),AD24,AD15))","v":""},{"$f":"IF(B76=\"\",\"\",IFERROR(VLOOKUP(CONCATENATE(B76,\" вес \",$W$6),'Участники чемпионата'!$A:$AA,13,0),\"\"))","v":""},{"$f":"IF(B76=\"\",\"\",IFERROR(VLOOKUP(CONCATENATE(B76,\" вес \",$W$6),'Участники чемпионата'!$A:$AA,5,0),\"\"))","v":""},null,null,null,null,null,null,null,null,null,{"$f":"'Unvisible Списки'!C11","v":"(БЛ)"},null,null,null,{"$f":"'Unvisible Списки'!C29","v":"болевой/удушающий"}]
[null,{"$f":"IF(AA36=\"\",\"\",IF(OR(AD32-AA36=0),AD40,AD32))","v":""},{"$f":"IF(B77=\"\",\"\",IFERROR(VLOOKUP(CONCATENATE(B77,\" вес \",$W$6),'Участники чемпионата'!$A:$AA,13,0),\"\"))","v":""},{"$f":"IF(B77=\"\",\"\",IFERROR(VLOOKUP(CONCATENATE(B77,\" вес \",$W$6),'Участники чемпионата'!$A:$AA,5,0),\"\"))","v":""},null,null,null,null,null,null,null,null,null,{"$f":"'Unvisible Списки'!C12","v":"(ТКО)"},null,null,null,{"$f":"'Unvisible Списки'!C30","v":"технический нокаут"}]
[null,null,null,null,null,null,null,null,null,null,null,null,null,{"$f":"'Unvisible Списки'!C13","v":"(СН)"},null,null,null,{"$f":"'Unvisible Списки'!C31","v":"снятие врачом"}]
[null,null,"9-16 места",null,null,null,null,null,null,null,null,null,null,{"$f":"'Unvisible Списки'!C14","v":"(ОТК)"},null,null,null,{"$f":"'Unvisible Списки'!C32","v":"отказ продолжать бой"}]
[null,{"$f":"IF(H15=\"\",\"\",IF(OR(B15-H15=0),B16,B15))","v":0},{"$f":"IF(B80=\"\",\"\",IFERROR(VLOOKUP(CONCATENATE(B80,\" вес \",$W$6),'Участники чемпионата'!$A:$AA,13,0),\"\"))","v":""},{"$f":"IF(B80=\"\",\"\",IFERROR(VLOOKUP(CONCATENATE(B80,\" вес \",$W$6),'Участники чемпионата'!$A:$AA,5,0),\"\"))","v":""},null,null,null,null,null,null,null,null,null,{"$f":"'Unvisible Списки'!C15","v":"(ДСК)"},null,null,null,{"$f":"'Unvisible Списки'!C33","v":"Дисквалификация"}]
[null,{"$f":"IF(H24=\"\",\"\",IF(OR(B24-H24=0),B25,B24))","v":""},{"$f":"IF(B81=\"\",\"\",IFERROR(VLOOKUP(CONCATENATE(B81,\" вес \",$W$6),'Участники чемпионата'!$A:$AA,13,0),\"\"))","v":""},{"$f":"IF(B81=\"\",\"\",IFERROR(VLOOKUP(CONCATENATE(B81,\" вес \",$W$6),'Участники чемпионата'!$A:$AA,5,0),\"\"))","v":""},null,null,null,null,null,null,null,null,null,{"$f":"'Unvisible Списки'!C16","v":"(РГСК)"},null,null,null,{"$f":"'Unvisible Списки'!C34","v":"решение главного судьи СК"}]
[null,{"$f":"IF(H32=\"\",\"\",IF(OR(B32-H32=0),B33,B32))","v":0},{"$f":"IF(B82=\"\",\"\",IFERROR(VLOOKUP(CONCATENATE(B82,\" вес \",$W$6),'Участники чемпионата'!$A:$AA,13,0),\"\"))","v":""},{"$f":"IF(B82=\"\",\"\",IFERROR(VLOOKUP(CONCATENATE(B82,\" вес \",$W$6),'Участники чемпионата'!$A:$AA,5,0),\"\"))","v":""},null,null,null,null,null,null,null,null,null,{"$f":"'Unvisible Списки'!C17","v":"(НЯ)"},null,null,null,{"$f":"'Unvisible Списки'!C35","v":"неявка"}]
[null,{"$f":"IF(H40=\"\",\"\",IF(OR(B40-H40=0),B41,B40))","v":""},{"$f":"IF(B83=\"\",\"\",IFERROR(VLOOKUP(CONCATENATE(B83,\" вес \",$W$6),'Участники чемпионата'!$A:$AA,13,0),\"\"))","v":""},{"$f":"IF(B83=\"\",\"\",IFERROR(VLOOKUP(CONCATENATE(B83,\" вес \",$W$6),'Участники чемпионата'!$A:$AA,5,0),\"\"))","v":""}]
[null,{"$f":"IF(AD15=\"\",\"\",IF(OR(AH15-AD15=0),AH16,AH15))","v":0},{"$f":"IF(B84=\"\",\"\",IFERROR(VLOOKUP(CONCATENATE(B84,\" вес \",$W$6),'Участники чемпионата'!$A:$AA,13,0),\"\"))","v":""},{"$f":"IF(B84=\"\",\"\",IFERROR(VLOOKUP(CONCATENATE(B84,\" вес \",$W$6),'Участники чемпионата'!$A:$AA,5,0),\"\"))","v":""}]
[null,{"$f":"IF(AD24=\"\",\"\",IF(OR(AH24-AD24=0),AH25,AH24))","v":""},{"$f":"IF(B85=\"\",\"\",IFERROR(VLOOKUP(CONCATENATE(B85,\" вес \",$W$6),'Участники чемпионата'!$A:$AA,13,0),\"\"))","v":""},{"$f":"IF(B85=\"\",\"\",IFERROR(VLOOKUP(CONCATENATE(B85,\" вес \",$W$6),'Участники чемпионата'!$A:$AA,5,0),\"\"))","v":""}]
[null,{"$f":"IF(AD32=\"\",\"\",IF(OR(AH32-AD32=0),AH33,AH32))","v":0},{"$f":"IF(B86=\"\",\"\",IFERROR(VLOOKUP(CONCATENATE(B86,\" вес \",$W$6),'Участники чемпионата'!$A:$AA,13,0),\"\"))","v":""},{"$f":"IF(B86=\"\",\"\",IFERROR(VLOOKUP(CONCATENATE(B86,\" вес \",$W$6),'Участники чемпионата'!$A:$AA,5,0),\"\"))","v":""}]
[null,{"$f":"IF(AD40=\"\",\"\",IF(OR(AH40-AD40=0),AH41,AH40))","v":""},{"$f":"IF(B87=\"\",\"\",IFERROR(VLOOKUP(CONCATENATE(B87,\" вес \",$W$6),'Участники чемпионата'!$A:$AA,13,0),\"\"))","v":""},{"$f":"IF(B87=\"\",\"\",IFERROR(VLOOKUP(CONCATENATE(B87,\" вес \",$W$6),'Участники чемпионата'!$A:$AA,5,0),\"\"))","v":""}]

{"sheet":"Сетка10","index":18,"n_rows":87,"n_cols":38,"rows_kept":87,"cut":false,"hidden":true,"merged":[[1,2,1,36],[3,5,3,33],[3,36,4,36],[5,22,5,24],[14,7,15,8],[14,29,15,30],[30,16,30,21],[18,2,19,2],[18,10,19,11],[18,26,19,27],[18,36,19,36],[23,7,24,8],[23,29,24,30],[25,17,25,20],[26,16,26,21],[27,15,28,16],[27,18,28,19],[27,21,28,22],[31,7,32,8],[31,16,31,21],[31,29,32,30],[35,2,36,2],[35,10,36,11],[35,26,36,27],[72,13,72,26],[35,36,36,36],[39,7,40,8],[39,29,40,30],[42,1,42,4],[42,7,42,8],[42,10,42,11],[42,15,42,22],[42,26,42,27],[42,29,42,30],[42,33,42,36],[44,20,44,21],[61,3,61,4],[64,3,64,4],[67,3,67,4],[68,3,68,4],[73,3,73,4],[73,13,73,16],[73,17,73,26],[73,35,73,36],[74,3,74,4],[74,13,74,16],[74,17,74,26],[74,35,74,36],[75,3,75,4],[75,13,75,16],[75,17,75,26],[76,3,76,4],[76,13,76,16],[76,17,76,26],[77,13,77,16],[77,17,77,26],[78,13,78,16],[78,17,78,26],[79,3,79,4],[79,13,79,16],[79,17,79,26],[80,3,80,4],[80,13,80,16],[80,17,80,26],[81,3,81,4],[81,13,81,16],[81,17,81,26],[82,3,82,4],[83,3,83,4],[84,3,84,4],[85,3,85,4],[86,3,86,4]]}
[]
[null,null,{"$f":"'Исходные данные по чемпионату'!C3","v":"Чемпионат ХМАО-Югры по СБЕ (ММА) среди муж. 18лет и старше,первенство среди юношей 16-17лет"}]
[]
[null,null,null,null,null,"ПРОТОКОЛ СОРЕВНОВАНИЙ",null,null,null,null,null,null,null,null,null,null,null,null,null,null,null,null,null,null,null,null,null,null,null,null,null,null,null,null,null,null,{"$f":"'Исходные данные по чемпионату'!C6","v":"г. Ханты-Мансийск"}]
[]
[null,null,null,null,null,null,null,null,null,null,null,null,null,null,null,null,null,null,null,null,null,"Весовая категория до","65,8",null,null,"кг",null,null,null,null,null,null,null,null,null,null,{"$f":"'Исходные данные по чемпионату'!C4","v":"с16 по 19 февраля 2018г."}]
[]
[]
[]
[]
[]
[]
[null,"№","Спортсмен","Шлем","Команда",null,null,null,null,null,null,null,null,null,null,null,null,null,null,null,null,null,null,null,null,null,null,null,null,null,null,null,null,"№","Спортсмен","Шлем","Команда"]
[]
[null,1,{"$f":"IFERROR(VLOOKUP(CONCATENATE(B15,\" вес \",$W$6),'Участники чемпионата'!$A:$AA,13,0),\"\")","v":"Мамедов Руслан"},{"$f":"IF(IFERROR(VLOOKUP(CONCATENATE(B15,\" вес \",$W$6),'Участники чемпионата'!$A:$AA,25,0),\"\")=\"Шлем\",\"Ш\",\"\")","v":""},{"$f":"IFERROR(VLOOKUP(CONCATENATE(B15,\" вес \",$W$6),'Участники чемпионата'!$A:$AA,5,0),\"\")","v":"Скорпион (г. Лангепас)"},null,null,1,null,{"$f":"IFERROR(VLOOKUP(CONCATENATE(H15,\" вес \",$W$6),'Участники чемпионата'!$A:$AF,32,0),\"\")","v":"Мамедов "},null,null,null,null,null,null,null,null,null,null,null,null,null,null,null,null,null,null,{"$f":"IFERROR(VLOOKUP(CONCATENATE(AD15,\" вес \",$W$6),'Участники чемпионата'!$A:$AF,32,0),\"\")","v":"Бердиев (Ш)"},2,null,null,null,2,{"$f":"IFERROR(VLOOKUP(CONCATENATE(AH15,\" вес \",$W$6),'Участники чемпионата'!$A:$AA,13,0),\"\")","v":"Бердиев Шахзод"},{"$f":"IF(IFERROR(VLOOKUP(CONCATENATE(AH15,\" вес \",$W$6),'Участники чемпионата'!$A:$AA,25,0),\"\")=\"Шлем\",\"Ш\",\"\")","v":"Ш"},{"$f":"IFERROR(VLOOKUP(CONCATENATE(AH15,\" вес \",$W$6),'Участники чемпионата'!$A:$AA,5,0),\"\")","v":"СДЮСШОР \"СПАРТАК\" (г.Нефтеюганск)"}]
[]
[]
[]
[null,null,"A",null,null,null,null,null,null,null,null,null,{"$f":"IFERROR(VLOOKUP(CONCATENATE(K19,\" вес \",$W$6),'Участники чемпионата'!$A:$AF,32,0),\"\")","v":""},null,null,null,null,null,null,null,null,null,null,null,null,{"$f":"IFERROR(VLOOKUP(CONCATENATE(AA19,\" вес \",$W$6),'Участники чемпионата'!$A:$AF,32,0),\"\")","v":""},null,null,null,null,null,null,null,null,null,null,"C  "]
[]
[]
[]
[]
[null,9,{"$f":"IFERROR(VLOOKUP(CONCATENATE(B24,\" вес \",$W$6),'Участники чемпионата'!$A:$AA,13,0),\"\")","v":"Касумов  Али"},{"$f":"IF(IFERROR(VLOOKUP(CONCATENATE(B24,\" вес \",$W$6),'Участники чемпионата'!$A:$AA,25,0),\"\")=\"Шлем\",\"Ш\",\"\")","v":""},{"$f":"IFERROR(VLOOKUP(CONCATENATE(B24,\" вес \",$W$6),'Участники чемпионата'!$A:$AA,5,0),\"\")","v":"г. Сургут"},null,null,null,null,null,null,null,null,null,null,null,null,null,null,null,null,null,null,null,null,null,null,null,null,8]
[null,5,{"$f":"IFERROR(VLOOKUP(CONCATENATE(B25,\" вес \",$W$6),'Участники чемпионата'!$A:$AA,13,0),\"\")","v":"Григоров Максим"},{"$f":"IF(IFERROR(VLOOKUP(CONCATENATE(B25,\" вес \",$W$6),'Участники чемпионата'!$A:$AA,25,0),\"\")=\"Шлем\",\"Ш\",\"\")","v":""},{"$f":"IFERROR(VLOOKUP(CONCATENATE(B25,\" вес \",$W$6),'Участники чемпионата'!$A:$AA,5,0),\"\")","v":"г. Ханты-Мансийск"},null,null,null,null,{"$f":"IFERROR(VLOOKUP(CONCATENATE(H24,\" вес \",$W$6),'Участники чемпионата'!$A:$AF,32,0),\"\")","v":""},null,null,null,null,null,null,null,null,null,null,null,null,null,null,null,null,null,null,{"$f":"IFERROR(VLOOKUP(CONCATENATE(AD24,\" вес \",$W$6),'Участники чемпионата'!$A:$AF,32,0),\"\")","v":"Ильясов (Ш)"},null,null,null,null,8,{"$f":"IFERROR(VLOOKUP(CONCATENATE(AH25,\" вес \",$W$6),'Участники чемпионата'!$A:$AA,13,0),\"\")","v":"Ильясов Гасан"},{"$f":"IF(IFERROR(VLOOKUP(CONCATENATE(AH25,\" вес \",$W$6),'Участники чемпионата'!$A:$AA,25,0),\"\")=\"Шлем\",\"Ш\",\"\")","v":"Ш"},{"$f":"IFERROR(VLOOKUP(CONCATENATE(AH25,\" вес \",$W$6),'Участники чемпионата'!$A:$AA,5,0),\"\")","v":"г. Сургут"}]
[null,null,null,null,null,null,null,null,null,null,null,null,null,null,null,null,null,"Чемпион"]
[null,null,null,null,null,null,null,null,"",null,null,null,null,null,null,null,{"$f":"IFERROR(VLOOKUP(CONCATENATE(S28,\" вес \",$W$6),'Участники чемпионата'!$A:$AA,7,0),\"\")","v":""},null,null,null,null,null,null,null,null,null,null,null,null,""]
[null,null,null,null,null,null,null,null,null,null,null,null,null,null,{"$f":"IFERROR(VLOOKUP(CONCATENATE(P28,\" вес \",$W$6),'Участники чемпионата'!$A:$AF,32,0),\"\")","v":""},null,null,null,null,null,null,null,null,{"$f":"IFERROR(VLOOKUP(CONCATENATE(V28,\" вес \",$W$6),'Участники чемпионата'!$A:$AF,32,0),\"\")","v":""}]
[]
[]
[]
[null,7,{"$f":"IFERROR(VLOOKUP(CONCATENATE(B32,\" вес \",$W$6),'Участники чемпионата'!$A:$AA,13,0),\"\")","v":"Гаджиахмедов Магомед"},{"$f":"IF(IFERROR(VLOOKUP(CONCATENATE(B32,\" вес \",$W$6),'Участники чемпионата'!$A:$AA,25,0),\"\")=\"Шлем\",\"Ш\",\"\")","v":""},{"$f":"IFERROR(VLOOKUP(CONCATENATE(B32,\" вес \",$W$6),'Участники чемпионата'!$A:$AA,5,0),\"\")","v":"г. Сургут"},null,null,7,null,{"$f":"IFERROR(VLOOKUP(CONCATENATE(H32,\" вес \",$W$6),'Участники чемпионата'!$A:$AF,32,0),\"\")","v":"Гаджиахмедов "},null,null,null,null,null,null,null,null,null,null,null,null,null,null,null,null,null,null,{"$f":"IFERROR(VLOOKUP(CONCATENATE(AD32,\" вес \",$W$6),'Участники чемпионата'!$A:$AF,32,0),\"\")","v":"Дадаев (Ш)"},4,null,null,null,4,{"$f":"IFERROR(VLOOKUP(CONCATENATE(AH32,\" вес \",$W$6),'Участники чемпионата'!$A:$AA,13,0),\"\")","v":"Дадаев Мансур"},{"$f":"IF(IFERROR(VLOOKUP(CONCATENATE(AH32,\" вес \",$W$6),'Участники чемпионата'!$A:$AA,25,0),\"\")=\"Шлем\",\"Ш\",\"\")","v":"Ш"},{"$f":"IFERROR(VLOOKUP(CONCATENATE(AH32,\" вес \",$W$6),'Участники чемпионата'!$A:$AA,5,0),\"\")","v":"г. Ханты-Мансийск"}]
[]
[]
[]
[null,null,"B",null,null,null,null,null,null,null,null,null,null,null,null,null,null,null,null,null,null,null,null,null,null,null,null,null,null,null,null,null,null,null,null,null,"D  "]
[null,null,null,null,null,null,null,null,null,null,null,null,{"$f":"IFERROR(VLOOKUP(CONCATENATE(K36,\" вес \",$W$6),'Участники чемпионата'!$A:$AF,32,0),\"\")","v":""},null,null,null,null,null,null,null,null,null,null,null,null,{"$f":"IFERROR(VLOOKUP(CONCATENATE(AA36,\" вес \",$W$6),'Участники чемпионата'!$A:$AF,32,0),\"\")","v":""}]
[]
[]
[null,null,null,null,null,null,null,3,null,null,null,null,null,null,null,null,null,null,null,null,null,null,null,null,null,null,null,null,null,null,null,null,null,6,{"$f":"IFERROR(VLOOKUP(CONCATENATE(AH40,\" вес \",$W$6),'Участники чемпионата'!$A:$AA,13,0),\"\")","v":"Адыгешаов Расим"},{"$f":"IF(IFERROR(VLOOKUP(CONCATENATE(AH40,\" вес \",$W$6),'Участники чемпионата'!$A:$AA,25,0),\"\")=\"Шлем\",\"Ш\",\"\")","v":"Ш"},{"$f":"IFERROR(VLOOKUP(CONCATENATE(AH40,\" вес \",$W$6),'Участники чемпионата'!$A:$AA,5,0),\"\")","v":"г. Сургут"}]
[null,3,{"$f":"IFERROR(VLOOKUP(CONCATENATE(B41,\" вес \",$W$6),'Участники чемпионата'!$A:$AA,13,0),\"\")","v":"Рамазанов Джамал"},{"$f":"IF(IFERROR(VLOOKUP(CONCATENATE(B41,\" вес \",$W$6),'Участники чемпионата'!$A:$AA,25,0),\"\")=\"Шлем\",\"Ш\",\"\")","v":"Ш"},{"$f":"IFERROR(VLOOKUP(CONCATENATE(B41,\" вес \",$W$6),'Участники чемпионата'!$A:$AA,5,0),\"\")","v":"СДЮСШОР \"СПАРТАК\" (г.Нефтеюганск)"},null,null,null,null,{"$f":"IFERROR(VLOOKUP(CONCATENATE(H40,\" вес \",$W$6),'Участники чемпионата'!$A:$AF,32,0),\"\")","v":"Рамазанов (Ш)"},null,null,null,null,null,null,null,null,null,null,null,null,null,null,null,null,null,null,{"$f":"IFERROR(VLOOKUP(CONCATENATE(AD40,\" вес \",$W$6),'Участники чемпионата'!$A:$AF,32,0),\"\")","v":""},null,null,null,null,10,{"$f":"IFERROR(VLOOKUP(CONCATENATE(AH41,\" вес \",$W$6),'Участники чемпионата'!$A:$AA,13,0),\"\")","v":"Магомедов Бурагим"},{"$f":"IF(IFERROR(VLOOKUP(CONCATENATE(AH41,\" вес \",$W$6),'Участники чемпионата'!$A:$AA,25,0),\"\")=\"Шлем\",\"Ш\",\"\")","v":""},{"$f":"IFERROR(VLOOKUP(CONCATENATE(AH41,\" вес \",$W$6),'Участники чемпионата'!$A:$AA,5,0),\"\")","v":"г. Нижневартовск"}]
[]
[null,"1/8",null,null,null,null,null,"1/4",null,null,"1/2",null,null,null,null,"Финал",null,null,null,null,null,null,null,null,null,null,"1/2",null,null,"1/4",null,null,null,"1/8"]
[]
[null,null,null,null,null,null,null,null,null,null,null,null,null,null,null,null,null,null,null,"Участников:",{"$f":"HLOOKUP(W6,Мандатка!$C$4:$I$5,2,0)","v":10}]
[]
[]
[]
[]
[]
["Скрыть"]
["Скрыть"]
["Скрыть"]
["Скрыть"]
["Скрыть"]
[]
[]
[]
[]
[]
[null,null,"1 место"]
[null,{"$f":"IF(S28=\"\",\"\",S28)","v":""},{"$f":"IF(B62=\"\",\"\",IFERROR(VLOOKUP(CONCATENATE(B62,\" вес \",$W$6),'Участники чемпионата'!$A:$AA,13,0),\"\"))","v":""},{"$f":"IF(B62=\"\",\"\",IFERROR(VLOOKUP(CONCATENATE(B62,\" вес \",$W$6),'Участники чемпионата'!$A:$AA,5,0),\"\"))","v":""}]
[]
[null,null,"2 место"]
[null,{"$f":"IF(S28=\"\",\"\",IF(S28=V28,P28,V28))","v":""},{"$f":"IF(B65=\"\",\"\",IFERROR(VLOOKUP(CONCATENATE(B65,\" вес \",$W$6),'Участники чемпионата'!$A:$AA,13,0),\"\"))","v":""},{"$f":"IF(B65=\"\",\"\",IFERROR(VLOOKUP(CONCATENATE(B65,\" вес \",$W$6),'Участники чемпионата'!$A:$AA,5,0),\"\"))","v":""},null,null,null,null,null,null,null,null,null,null,null,null,null,null,null,null,null,null,null,null,null,null,null,null,null,null,null,null,null,"Главный судья соревнований",null,"/",{"$f":"IF(VLOOKUP(AH65,'Исходные данные по чемпионату'!B:C,2,0)=0,\"\",VLOOKUP(AH65,'Исходные данные по чемпионату'!B:C,2,0))","v":"Карташков К.В."},"/"]
[]
[null,null,"3 место"]
[null,{"$f":"IF(P28=\"\",\"\",IF(P28=K36,K19,K36))","v":""},{"$f":"IF(B68=\"\",\"\",IFERROR(VLOOKUP(CONCATENATE(B68,\" вес \",$W$6),'Участники чемпионата'!$A:$AA,13,0),\"\"))","v":""},{"$f":"IF(B68=\"\",\"\",IFERROR(VLOOKUP(CONCATENATE(B68,\" вес \",$W$6),'Участники чемпионата'!$A:$AA,5,0),\"\"))","v":""}]
[null,{"$f":"IF(V28=\"\",\"\",IF(V28=AA36,AA19,AA36))","v":""},{"$f":"IF(B69=\"\",\"\",IFERROR(VLOOKUP(CONCATENATE(B69,\" вес \",$W$6),'Участники чемпионата'!$A:$AA,13,0),\"\"))","v":""},{"$f":"IF(B69=\"\",\"\",IFERROR(VLOOKUP(CONCATENATE(B69,\" вес \",$W$6),'Участники чемпионата'!$A:$AA,5,0),\"\"))","v":""},null,null,null,null,null,null,null,null,null,null,null,null,null,null,null,null,null,null,null,null,null,null,null,null,null,null,null,null,null,"Главный секретарь",null,"/",{"$f":"IF(VLOOKUP(AH69,'Исходные данные по чемпионату'!B:C,2,0)=0,\"\",VLOOKUP(AH69,'Исходные данные по чемпионату'!B:C,2,0))","v":"Толстыгин А.Ю."},"/"]
[]
[null,null,null,null,null,null,null,null,null,null,null,null,null,null,null,null,null,null,null,null,null,null,null,null,null,null,null,null,null,null,null,null,null,null,null,null,null,0]
[]
[null,null,"5-8 места",null,null,null,null,null,null,null,null,null,null,"Результат боя описание",null,null,null,null,null,null,null,null,null,null,null,null,null,null,null,null,null,null,null,null,"Финалисты"]
[null,{"$f":"IF(K19=\"\",\"\",IF(OR(H15-K19=0),H24,H15))","v":""},{"$f":"IF(B74=\"\",\"\",IFERROR(VLOOKUP(CONCATENATE(B74,\" вес \",$W$6),'Участники чемпионата'!$A:$AA,13,0),\"\"))","v":""},{"$f":"IF(B74=\"\",\"\",IFERROR(VLOOKUP(CONCATENATE(B74,\" вес \",$W$6),'Участники чемпионата'!$A:$AA,5,0),\"\"))","v":""},null,null,null,null,null,null,null,null,null,{"$f":"'Unvisible Списки'!C9","v":"(ПО)"},null,null,null,{"$f":"'Unvisible Списки'!C27","v":"по очкам"},null,null,null,null,null,null,null,null,null,null,null,null,null,null,null,{"$f":"IF(P28=\"\",\"\",P28)","v":""},{"$f":"IFERROR(VLOOKUP(CONCATENATE(AH74,\" вес \",$W$6),'Участники чемпионата'!$A:$AA,13,0),\"\")","v":""},{"$f":"IFERROR(VLOOKUP(CONCATENATE(AH74,\" вес \",$W$6),'Участники чемпионата'!$A:$AA,5,0),\"\")","v":""}]
[null,{"$f":"IF(K36=\"\",\"\",IF(OR(H32-K36=0),H40,H32))","v":""},{"$f":"IF(B75=\"\",\"\",IFERROR(VLOOKUP(CONCATENATE(B75,\" вес \",$W$6),'Участники чемпионата'!$A:$AA,13,0),\"\"))","v":""},{"$f":"IF(B75=\"\",\"\",IFERROR(VLOOKUP(CONCATENATE(B75,\" вес \",$W$6),'Участники чемпионата'!$A:$AA,5,0),\"\"))","v":""},null,null,null,null,null,null,null,null,null,{"$f":"'Unvisible Списки'!C10","v":"(КО)"},null,null,null,{"$f":"'Unvisible Списки'!C28","v":"нокаут"},null,null,null,null,null,null,null,null,null,null,null,null,null,null,null,{"$f":"IF(V28=\"\",\"\",V28)","v":""},{"$f":"IFERROR(VLOOKUP(CONCATENATE(AH75,\" вес \",$W$6),'Участники чемпионата'!$A:$AA,13,0),\"\")","v":""},{"$f":"IFERROR(VLOOKUP(CONCATENATE(AH75,\" вес \",$W$6),'Участники чемпионата'!$A:$AA,5,0),\"\")","v":""}]
[null,{"$f":"IF(AA19=\"\",\"\",IF(OR(AD15-AA19=0),AD24,AD15))","v":""},{"$f":"IF(B76=\"\",\"\",IFERROR(VLOOKUP(CONCATENATE(B76,\" вес \",$W$6),'Участники чемпионата'!$A:$AA,13,0),\"\"))","v":""},{"$f":"IF(B76=\"\",\"\",IFERROR(VLOOKUP(CONCATENATE(B76,\" вес \",$W$6),'Участники чемпионата'!$A:$AA,5,0),\"\"))","v":""},null,null,null,null,null,null,null,null,null,{"$f":"'Unvisible Списки'!C11","v":"(БЛ)"},null,null,null,{"$f":"'Unvisible Списки'!C29","v":"болевой/удушающий"}]
[null,{"$f":"IF(AA36=\"\",\"\",IF(OR(AD32-AA36=0),AD40,AD32))","v":""},{"$f":"IF(B77=\"\",\"\",IFERROR(VLOOKUP(CONCATENATE(B77,\" вес \",$W$6),'Участники чемпионата'!$A:$AA,13,0),\"\"))","v":""},{"$f":"IF(B77=\"\",\"\",IFERROR(VLOOKUP(CONCATENATE(B77,\" вес \",$W$6),'Участники чемпионата'!$A:$AA,5,0),\"\"))","v":""},null,null,null,null,null,null,null,null,null,{"$f":"'Unvisible Списки'!C12","v":"(ТКО)"},null,null,null,{"$f":"'Unvisible Списки'!C30","v":"технический нокаут"}]
[null,null,null,null,null,null,null,null,null,null,null,null,null,{"$f":"'Unvisible Списки'!C13","v":"(СН)"},null,null,null,{"$f":"'Unvisible Списки'!C31","v":"снятие врачом"}]
[null,null,"9-16 места",null,null,null,null,null,null,null,null,null,null,{"$f":"'Unvisible Списки'!C14","v":"(ОТК)"},null,null,null,{"$f":"'Unvisible Списки'!C32","v":"отказ продолжать бой"}]
[null,{"$f":"IF(H15=\"\",\"\",IF(OR(B15-H15=0),B16,B15))","v":0},{"$f":"IF(B80=\"\",\"\",IFERROR(VLOOKUP(CONCATENATE(B80,\" вес \",$W$6),'Участники чемпионата'!$A:$AA,13,0),\"\"))","v":""},{"$f":"IF(B80=\"\",\"\",IFERROR(VLOOKUP(CONCATENATE(B80,\" вес \",$W$6),'Участники чемпионата'!$A:$AA,5,0),\"\"))","v":""},null,null,null,null,null,null,null,null,null,{"$f":"'Unvisible Списки'!C15","v":"(ДСК)"},null,null,null,{"$f":"'Unvisible Списки'!C33","v":"Дисквалификация"}]
[null,{"$f":"IF(H24=\"\",\"\",IF(OR(B24-H24=0),B25,B24))","v":""},{"$f":"IF(B81=\"\",\"\",IFERROR(VLOOKUP(CONCATENATE(B81,\" вес \",$W$6),'Участники чемпионата'!$A:$AA,13,0),\"\"))","v":""},{"$f":"IF(B81=\"\",\"\",IFERROR(VLOOKUP(CONCATENATE(B81,\" вес \",$W$6),'Участники чемпионата'!$A:$AA,5,0),\"\"))","v":""},null,null,null,null,null,null,null,null,null,{"$f":"'Unvisible Списки'!C16","v":"(РГСК)"},null,null,null,{"$f":"'Unvisible Списки'!C34","v":"решение главного судьи СК"}]
[null,{"$f":"IF(H32=\"\",\"\",IF(OR(B32-H32=0),B33,B32))","v":0},{"$f":"IF(B82=\"\",\"\",IFERROR(VLOOKUP(CONCATENATE(B82,\" вес \",$W$6),'Участники чемпионата'!$A:$AA,13,0),\"\"))","v":""},{"$f":"IF(B82=\"\",\"\",IFERROR(VLOOKUP(CONCATENATE(B82,\" вес \",$W$6),'Участники чемпионата'!$A:$AA,5,0),\"\"))","v":""},null,null,null,null,null,null,null,null,null,{"$f":"'Unvisible Списки'!C17","v":"(НЯ)"},null,null,null,{"$f":"'Unvisible Списки'!C35","v":"неявка"}]
[null,{"$f":"IF(H40=\"\",\"\",IF(OR(B40-H40=0),B41,B40))","v":0},{"$f":"IF(B83=\"\",\"\",IFERROR(VLOOKUP(CONCATENATE(B83,\" вес \",$W$6),'Участники чемпионата'!$A:$AA,13,0),\"\"))","v":""},{"$f":"IF(B83=\"\",\"\",IFERROR(VLOOKUP(CONCATENATE(B83,\" вес \",$W$6),'Участники чемпионата'!$A:$AA,5,0),\"\"))","v":""}]
[null,{"$f":"IF(AD15=\"\",\"\",IF(OR(AH15-AD15=0),AH16,AH15))","v":0},{"$f":"IF(B84=\"\",\"\",IFERROR(VLOOKUP(CONCATENATE(B84,\" вес \",$W$6),'Участники чемпионата'!$A:$AA,13,0),\"\"))","v":""},{"$f":"IF(B84=\"\",\"\",IFERROR(VLOOKUP(CONCATENATE(B84,\" вес \",$W$6),'Участники чемпионата'!$A:$AA,5,0),\"\"))","v":""}]
[null,{"$f":"IF(AD24=\"\",\"\",IF(OR(AH24-AD24=0),AH25,AH24))","v":0},{"$f":"IF(B85=\"\",\"\",IFERROR(VLOOKUP(CONCATENATE(B85,\" вес \",$W$6),'Участники чемпионата'!$A:$AA,13,0),\"\"))","v":""},{"$f":"IF(B85=\"\",\"\",IFERROR(VLOOKUP(CONCATENATE(B85,\" вес \",$W$6),'Участники чемпионата'!$A:$AA,5,0),\"\"))","v":""}]
[null,{"$f":"IF(AD32=\"\",\"\",IF(OR(AH32-AD32=0),AH33,AH32))","v":0},{"$f":"IF(B86=\"\",\"\",IFERROR(VLOOKUP(CONCATENATE(B86,\" вес \",$W$6),'Участники чемпионата'!$A:$AA,13,0),\"\"))","v":""},{"$f":"IF(B86=\"\",\"\",IFERROR(VLOOKUP(CONCATENATE(B86,\" вес \",$W$6),'Участники чемпионата'!$A:$AA,5,0),\"\"))","v":""}]
[null,{"$f":"IF(AD40=\"\",\"\",IF(OR(AH40-AD40=0),AH41,AH40))","v":""},{"$f":"IF(B87=\"\",\"\",IFERROR(VLOOKUP(CONCATENATE(B87,\" вес \",$W$6),'Участники чемпионата'!$A:$AA,13,0),\"\"))","v":""},{"$f":"IF(B87=\"\",\"\",IFERROR(VLOOKUP(CONCATENATE(B87,\" вес \",$W$6),'Участники чемпионата'!$A:$AA,5,0),\"\"))","v":""}]

{"sheet":"Сетка8","index":19,"n_rows":82,"n_cols":38,"rows_kept":82,"cut":false,"hidden":true,"merged":[[76,3,76,4],[73,3,73,4],[19,17,19,20],[20,16,20,21],[21,14,22,15],[21,18,22,19],[73,13,73,16],[73,17,73,26],[72,13,72,26],[24,16,24,21],[25,15,25,22],[27,8,28,9],[21,22,22,23],[74,3,74,4],[75,3,75,4],[1,2,1,36],[3,5,3,33],[3,36,4,36],[5,22,5,24],[15,8,16,9],[15,28,16,29],[21,2,22,2],[21,36,22,36],[79,13,79,16],[79,17,79,26],[80,13,80,16],[80,17,80,26],[27,28,28,29],[73,35,73,36],[30,1,30,4],[61,3,61,4],[64,3,64,4],[67,3,67,4],[68,3,68,4],[30,8,30,9],[30,28,30,29],[74,35,74,36],[30,33,30,36],[81,13,81,16],[81,17,81,26],[30,14,30,23],[78,13,78,16],[78,17,78,26],[74,13,74,16],[74,17,74,26],[75,13,75,16],[75,17,75,26],[76,13,76,16],[76,17,76,26],[77,13,77,16],[77,17,77,26],[32,20,32,21]]}
[]
[null,null,{"$f":"'Исходные данные по чемпионату'!C3","v":"Чемпионат ХМАО-Югры по СБЕ (ММА) среди муж. 18лет и старше,первенство среди юношей 16-17лет"}]
[]
[null,null,null,null,null,"ПРОТОКОЛ СОРЕВНОВАНИЙ",null,null,null,null,null,null,null,null,null,null,null,null,null,null,null,null,null,null,null,null,null,null,null,null,null,null,null,null,null,null,{"$f":"'Исходные данные по чемпионату'!C6","v":"г. Ханты-Мансийск"}]
[]
[null,null,null,null,null,null,null,null,null,null,null,null,null,null,null,null,null,null,null,null,null,"Весовая категория до","65,8",null,null,"кг",null,null,null,null,null,null,null,null,null,null,{"$f":"'Исходные данные по чемпионату'!C4","v":"с16 по 19 февраля 2018г."}]
[]
[]
[]
[]
[]
[]
[]
[null,"№","Спортсмен","Шлем","Команда",null,null,null,null,null,null,null,null,null,null,null,null,null,null,null,null,null,null,null,null,null,null,null,null,null,null,null,null,"№","Спортсмен","Шлем","Команда"]
[]
[null,1,{"$f":"IFERROR(VLOOKUP(CONCATENATE(B16,\" вес \",$W$6),'Участники чемпионата'!$A:$AA,13,0),\"\")","v":"Мамедов Руслан"},{"$f":"IF(IFERROR(VLOOKUP(CONCATENATE(B16,\" вес \",$W$6),'Участники чемпионата'!$A:$AA,25,0),\"\")=\"Шлем\",\"Ш\",\"\")","v":""},{"$f":"IFERROR(VLOOKUP(CONCATENATE(B16,\" вес \",$W$6),'Участники чемпионата'!$A:$AA,5,0),\"\")","v":"Скорпион (г. Лангепас)"},null,null,null,null,null,{"$f":"IFERROR(VLOOKUP(CONCATENATE(I16,\" вес \",$W$6),'Участники чемпионата'!$A:$AF,32,0),\"\")","v":""},null,null,null,null,null,null,null,null,null,null,null,null,null,null,null,null,{"$f":"IFERROR(VLOOKUP(CONCATENATE(AC16,\" вес \",$W$6),'Участники чемпионата'!$A:$AF,32,0),\"\")","v":""},null,null,null,null,null,2,{"$f":"IFERROR(VLOOKUP(CONCATENATE(AH16,\" вес \",$W$6),'Участники чемпионата'!$A:$AA,13,0),\"\")","v":"Бердиев Шахзод"},{"$f":"IF(IFERROR(VLOOKUP(CONCATENATE(AH16,\" вес \",$W$6),'Участники чемпионата'!$A:$AA,25,0),\"\")=\"Шлем\",\"Ш\",\"\")","v":"Ш"},{"$f":"IFERROR(VLOOKUP(CONCATENATE(AH16,\" вес \",$W$6),'Участники чемпионата'!$A:$AA,5,0),\"\")","v":"СДЮСШОР \"СПАРТАК\" (г.Нефтеюганск)"}]
[null,5,{"$f":"IFERROR(VLOOKUP(CONCATENATE(B17,\" вес \",$W$6),'Участники чемпионата'!$A:$AA,13,0),\"\")","v":"Григоров Максим"},{"$f":"IF(IFERROR(VLOOKUP(CONCATENATE(B17,\" вес \",$W$6),'Участники чемпионата'!$A:$AA,25,0),\"\")=\"Шлем\",\"Ш\",\"\")","v":""},{"$f":"IFERROR(VLOOKUP(CONCATENATE(B17,\" вес \",$W$6),'Участники чемпионата'!$A:$AA,5,0),\"\")","v":"г. Ханты-Мансийск"},null,null,null,null,null,null,null,null,null,null,null,null,null,null,null,null,null,null,null,null,null,null,null,null,null,null,null,null,6,{"$f":"IFERROR(VLOOKUP(CONCATENATE(AH17,\" вес \",$W$6),'Участники чемпионата'!$A:$AA,13,0),\"\")","v":"Адыгешаов Расим"},{"$f":"IF(IFERROR(VLOOKUP(CONCATENATE(AH17,\" вес \",$W$6),'Участники чемпионата'!$A:$AA,25,0),\"\")=\"Шлем\",\"Ш\",\"\")","v":"Ш"},{"$f":"IFERROR(VLOOKUP(CONCATENATE(AH17,\" вес \",$W$6),'Участники чемпионата'!$A:$AA,5,0),\"\")","v":"г. Сургут"}]
[]
[]
[null,null,null,null,null,null,null,null,null,null,null,null,null,null,null,null,null,"Чемпион"]
[null,null,null,null,null,null,null,null,"",null,null,null,null,null,null,null,{"$f":"IFERROR(VLOOKUP(CONCATENATE(S22,\" вес \",$W$6),'Участники чемпионата'!$A:$AA,7,0),\"\")","v":""},null,null,null,null,null,null,null,null,null,null,null,null,""]
[null,null,"A",null,null,null,null,null,null,null,null,null,null,{"$f":"IFERROR(VLOOKUP(CONCATENATE(O22,\" вес \",$W$6),'Участники чемпионата'!$A:$AF,32,0),\"\")","v":""},null,null,null,null,null,null,null,null,null,null,{"$f":"IFERROR(VLOOKUP(CONCATENATE(W22,\" вес \",$W$6),'Участники чемпионата'!$A:$AF,32,0),\"\")","v":""},null,null,null,null,null,null,null,null,null,null,null,"B  "]
[]
[]
[]
[null,null,null,null,null,null,null,null,null,""]
[]
[null,3,{"$f":"IFERROR(VLOOKUP(CONCATENATE(B28,\" вес \",$W$6),'Участники чемпионата'!$A:$AA,13,0),\"\")","v":"Рамазанов Джамал"},{"$f":"IF(IFERROR(VLOOKUP(CONCATENATE(B28,\" вес \",$W$6),'Участники чемпионата'!$A:$AA,25,0),\"\")=\"Шлем\",\"Ш\",\"\")","v":"Ш"},{"$f":"IFERROR(VLOOKUP(CONCATENATE(B28,\" вес \",$W$6),'Участники чемпионата'!$A:$AA,5,0),\"\")","v":"СДЮСШОР \"СПАРТАК\" (г.Нефтеюганск)"},null,null,null,null,null,null,null,null,null,null,null,null,null,null,null,null,null,null,null,null,null,null,null,null,null,null,null,null,4,{"$f":"IFERROR(VLOOKUP(CONCATENATE(AH28,\" вес \",$W$6),'Участники чемпионата'!$A:$AA,13,0),\"\")","v":"Дадаев Мансур"},{"$f":"IF(IFERROR(VLOOKUP(CONCATENATE(AH28,\" вес \",$W$6),'Участники чемпионата'!$A:$AA,25,0),\"\")=\"Шлем\",\"Ш\",\"\")","v":"Ш"},{"$f":"IFERROR(VLOOKUP(CONCATENATE(AH28,\" вес \",$W$6),'Участники чемпионата'!$A:$AA,5,0),\"\")","v":"г. Ханты-Мансийск"}]
[null,7,{"$f":"IFERROR(VLOOKUP(CONCATENATE(B29,\" вес \",$W$6),'Участники чемпионата'!$A:$AA,13,0),\"\")","v":"Гаджиахмедов Магомед"},{"$f":"IF(IFERROR(VLOOKUP(CONCATENATE(B29,\" вес \",$W$6),'Участники чемпионата'!$A:$AA,25,0),\"\")=\"Шлем\",\"Ш\",\"\")","v":""},{"$f":"IFERROR(VLOOKUP(CONCATENATE(B29,\" вес \",$W$6),'Участники чемпионата'!$A:$AA,5,0),\"\")","v":"г. Сургут"},null,null,null,null,null,{"$f":"IFERROR(VLOOKUP(CONCATENATE(I28,\" вес \",$W$6),'Участники чемпионата'!$A:$AF,32,0),\"\")","v":""},null,null,null,null,null,null,null,null,null,null,null,null,null,null,null,null,{"$f":"IFERROR(VLOOKUP(CONCATENATE(AC28,\" вес \",$W$6),'Участники чемпионата'!$A:$AF,32,0),\"\")","v":""},null,null,null,null,null,8,{"$f":"IFERROR(VLOOKUP(CONCATENATE(AH29,\" вес \",$W$6),'Участники чемпионата'!$A:$AA,13,0),\"\")","v":"Ильясов Гасан"},{"$f":"IF(IFERROR(VLOOKUP(CONCATENATE(AH29,\" вес \",$W$6),'Участники чемпионата'!$A:$AA,25,0),\"\")=\"Шлем\",\"Ш\",\"\")","v":"Ш"},{"$f":"IFERROR(VLOOKUP(CONCATENATE(AH29,\" вес \",$W$6),'Участники чемпионата'!$A:$AA,5,0),\"\")","v":"г. Сургут"}]
[]
[null,"1/4",null,null,null,null,null,null,"1/2",null,null,null,null,null,"Финал",null,null,null,null,null,null,null,null,null,null,null,null,null,"1/2",null,null,null,null,"1/4"]
[]
[null,null,null,null,null,null,null,null,null,null,null,null,null,null,null,null,null,null,null,"Участников:",{"$f":"HLOOKUP(W6,Мандатка!$C$4:$I$5,2,0)","v":10}]
[]
[]
[]
[]
[]
[]
["скрыть"]
["скрыть"]
["скрыть"]
["скрыть"]
["скрыть"]
["скрыть"]
["скрыть"]
["скрыть"]
[]
[]
[]
[]
[]
[]
[]
[]
[]
[]
[]
[]
[]
[null,null,"1 место"]
[null,{"$f":"IF(S22=\"\",\"\",S22)","v":""},{"$f":"IF(B62=\"\",\"\",IFERROR(VLOOKUP(CONCATENATE(B62,\" вес \",$W$6),'Участники чемпионата'!$A:$AA,13,0),\"\"))","v":""},{"$f":"IF(B62=\"\",\"\",IFERROR(VLOOKUP(CONCATENATE(B62,\" вес \",$W$6),'Участники чемпионата'!$A:$AA,5,0),\"\"))","v":""}]
[]
[null,null,"2 место"]
[null,{"$f":"IF(S22=\"\",\"\",IF(S22=W22,O22,W22))","v":""},{"$f":"IF(B65=\"\",\"\",IFERROR(VLOOKUP(CONCATENATE(B65,\" вес \",$W$6),'Участники чемпионата'!$A:$AA,13,0),\"\"))","v":""},{"$f":"IF(B65=\"\",\"\",IFERROR(VLOOKUP(CONCATENATE(B65,\" вес \",$W$6),'Участники чемпионата'!$A:$AA,5,0),\"\"))","v":""},null,null,null,null,null,null,null,null,null,null,null,null,null,null,null,null,null,null,null,null,null,null,null,null,null,null,null,null,null,"Главный судья соревнований",null,"/",{"$f":"IF(VLOOKUP(AH65,'Исходные данные по чемпионату'!B:C,2,0)=0,\"\",VLOOKUP(AH65,'Исходные данные по чемпионату'!B:C,2,0))","v":"Карташков К.В."},"/"]
[]
[null,null,"3 место"]
[null,{"$f":"IF(O22=\"\",\"\",IF(O22=I28,I16,I28))","v":""},{"$f":"IF(B68=\"\",\"\",IFERROR(VLOOKUP(CONCATENATE(B68,\" вес \",$W$6),'Участники чемпионата'!$A:$AA,13,0),\"\"))","v":""},{"$f":"IF(B68=\"\",\"\",IFERROR(VLOOKUP(CONCATENATE(B68,\" вес \",$W$6),'Участники чемпионата'!$A:$AA,5,0),\"\"))","v":""}]
[null,{"$f":"IF(W22=\"\",\"\",IF(W22=AC28,AC16,AC28))","v":""},{"$f":"IF(B69=\"\",\"\",IFERROR(VLOOKUP(CONCATENATE(B69,\" вес \",$W$6),'Участники чемпионата'!$A:$AA,13,0),\"\"))","v":""},{"$f":"IF(B69=\"\",\"\",IFERROR(VLOOKUP(CONCATENATE(B69,\" вес \",$W$6),'Участники чемпионата'!$A:$AA,5,0),\"\"))","v":""},null,null,null,null,null,null,null,null,null,null,null,null,null,null,null,null,null,null,null,null,null,null,null,null,null,null,null,null,null,"Главный секретарь",null,"/",{"$f":"IF(VLOOKUP(AH69,'Исходные данные по чемпионату'!B:C,2,0)=0,\"\",VLOOKUP(AH69,'Исходные данные по чемпионату'!B:C,2,0))","v":"Толстыгин А.Ю."},"/"]
[]
[null,null,null,null,null,null,null,null,null,null,null,null,null,null,null,null,null,null,null,null,null,null,null,null,null,null,null,null,null,null,null,null,null,null,null,null,null,0]
[]
[null,null,"5-8 места",null,null,null,null,null,null,null,null,null,null,"Результат боя описание",null,null,null,null,null,null,null,null,null,null,null,null,null,null,null,null,null,null,null,null,"Финалисты"]
[null,{"$f":"IF(I16=\"\",\"\",IF(OR(B16-I16=0),B17,B16))","v":""},{"$f":"IF(B74=\"\",\"\",IFERROR(VLOOKUP(CONCATENATE(B74,\" вес \",$W$6),'Участники чемпионата'!$A:$AA,13,0),\"\"))","v":""},{"$f":"IF(B74=\"\",\"\",IFERROR(VLOOKUP(CONCATENATE(B74,\" вес \",$W$6),'Участники чемпионата'!$A:$AA,5,0),\"\"))","v":""},null,null,null,null,null,null,null,null,null,{"$f":"'Unvisible Списки'!C9","v":"(ПО)"},null,null,null,{"$f":"'Unvisible Списки'!C27","v":"по очкам"},null,null,null,null,null,null,null,null,null,null,null,null,null,null,null,{"$f":"IF(O22=\"\",\"\",O22)","v":""},{"$f":"IFERROR(VLOOKUP(CONCATENATE(AH74,\" вес \",$W$6),'Участники чемпионата'!$A:$AA,13,0),\"\")","v":""},{"$f":"IFERROR(VLOOKUP(CONCATENATE(AH74,\" вес \",$W$6),'Участники чемпионата'!$A:$AA,5,0),\"\")","v":""}]
[null,{"$f":"IF(I28=\"\",\"\",IF(OR(B28-I28=0),B29,B28))","v":""},{"$f":"IF(B75=\"\",\"\",IFERROR(VLOOKUP(CONCATENATE(B75,\" вес \",$W$6),'Участники чемпионата'!$A:$AA,13,0),\"\"))","v":""},{"$f":"IF(B75=\"\",\"\",IFERROR(VLOOKUP(CONCATENATE(B75,\" вес \",$W$6),'Участники чемпионата'!$A:$AA,5,0),\"\"))","v":""},null,null,null,null,null,null,null,null,null,{"$f":"'Unvisible Списки'!C10","v":"(КО)"},null,null,null,{"$f":"'Unvisible Списки'!C28","v":"нокаут"},null,null,null,null,null,null,null,null,null,null,null,null,null,null,null,{"$f":"IF(W22=\"\",\"\",W22)","v":""},{"$f":"IFERROR(VLOOKUP(CONCATENATE(AH75,\" вес \",$W$6),'Участники чемпионата'!$A:$AA,13,0),\"\")","v":""},{"$f":"IFERROR(VLOOKUP(CONCATENATE(AH75,\" вес \",$W$6),'Участники чемпионата'!$A:$AA,5,0),\"\")","v":""}]
[null,{"$f":"IF(AC16=\"\",\"\",IF(OR(AH16-AC16=0),AH17,AH16))","v":""},{"$f":"IF(B76=\"\",\"\",IFERROR(VLOOKUP(CONCATENATE(B76,\" вес \",$W$6),'Участники чемпионата'!$A:$AA,13,0),\"\"))","v":""},{"$f":"IF(B76=\"\",\"\",IFERROR(VLOOKUP(CONCATENATE(B76,\" вес \",$W$6),'Участники чемпионата'!$A:$AA,5,0),\"\"))","v":""},null,null,null,null,null,null,null,null,null,{"$f":"'Unvisible Списки'!C11","v":"(БЛ)"},null,null,null,{"$f":"'Unvisible Списки'!C29","v":"болевой/удушающий"}]
[null,{"$f":"IF(AC28=\"\",\"\",IF(OR(AH28-AC28=0),AH29,AH28))","v":""},{"$f":"IF(B77=\"\",\"\",IFERROR(VLOOKUP(CONCATENATE(B77,\" вес \",$W$6),'Участники чемпионата'!$A:$AA,13,0),\"\"))","v":""},{"$f":"IF(B77=\"\",\"\",IFERROR(VLOOKUP(CONCATENATE(B77,\" вес \",$W$6),'Участники чемпионата'!$A:$AA,5,0),\"\"))","v":""},null,null,null,null,null,null,null,null,null,{"$f":"'Unvisible Списки'!C12","v":"(ТКО)"},null,null,null,{"$f":"'Unvisible Списки'!C30","v":"технический нокаут"}]
[null,null,null,null,null,null,null,null,null,null,null,null,null,{"$f":"'Unvisible Списки'!C13","v":"(СН)"},null,null,null,{"$f":"'Unvisible Списки'!C31","v":"снятие врачом"}]
[null,null,null,null,null,null,null,null,null,null,null,null,null,{"$f":"'Unvisible Списки'!C14","v":"(ОТК)"},null,null,null,{"$f":"'Unvisible Списки'!C32","v":"отказ продолжать бой"}]
[null,null,null,null,null,null,null,null,null,null,null,null,null,{"$f":"'Unvisible Списки'!C15","v":"(ДСК)"},null,null,null,{"$f":"'Unvisible Списки'!C33","v":"Дисквалификация"}]
[null,null,null,null,null,null,null,null,null,null,null,null,null,{"$f":"'Unvisible Списки'!C16","v":"(РГСК)"},null,null,null,{"$f":"'Unvisible Списки'!C34","v":"решение главного судьи СК"}]
[null,null,null,null,null,null,null,null,null,null,null,null,null,{"$f":"'Unvisible Списки'!C17","v":"(НЯ)"},null,null,null,{"$f":"'Unvisible Списки'!C35","v":"неявка"}]

{"sheet":"Сетка6","index":20,"n_rows":82,"n_cols":38,"rows_kept":82,"cut":false,"hidden":true,"merged":[[1,2,1,36],[3,5,3,33],[3,36,4,36],[5,22,5,24],[15,8,16,9],[15,28,16,29],[19,17,19,20],[20,16,20,21],[21,2,22,2],[21,14,22,15],[21,18,22,19],[30,1,30,4],[30,8,30,9],[30,14,30,23],[30,28,30,29],[30,33,30,36],[72,13,72,26],[21,36,22,36],[24,16,24,21],[25,15,25,22],[27,8,28,9],[27,28,28,29],[21,22,22,23],[32,20,32,21],[61,3,61,4],[64,3,64,4],[67,3,67,4],[68,3,68,4],[73,3,73,4],[73,13,73,16],[73,17,73,26],[73,35,73,36],[74,3,74,4],[74,13,74,16],[74,17,74,26],[74,35,74,36],[75,3,75,4],[75,13,75,16],[75,17,75,26],[76,3,76,4],[76,13,76,16],[76,17,76,26],[80,13,80,16],[80,17,80,26],[81,13,81,16],[81,17,81,26],[77,13,77,16],[77,17,77,26],[78,13,78,16],[78,17,78,26],[79,13,79,16],[79,17,79,26]]}
[]
[null,null,{"$f":"'Исходные данные по чемпионату'!C3","v":"Чемпионат ХМАО-Югры по СБЕ (ММА) среди муж. 18лет и старше,первенство среди юношей 16-17лет"}]
[]
[null,null,null,null,null,"ПРОТОКОЛ СОРЕВНОВАНИЙ",null,null,null,null,null,null,null,null,null,null,null,null,null,null,null,null,null,null,null,null,null,null,null,null,null,null,null,null,null,null,{"$f":"'Исходные данные по чемпионату'!C6","v":"г. Ханты-Мансийск"}]
[]
[null,null,null,null,null,null,null,null,null,null,null,null,null,null,null,null,null,null,null,null,null,"Весовая категория до","65,8",null,null,"кг",null,null,null,null,null,null,null,null,null,null,{"$f":"'Исходные данные по чемпионату'!C4","v":"с16 по 19 февраля 2018г."}]
[]
[]
[]
[]
[]
[]
[]
[null,"№","Спортсмен","Шлем","Команда",null,null,null,null,null,null,null,null,null,null,null,null,null,null,null,null,null,null,null,null,null,null,null,null,null,null,null,null,"№","Спортсмен","Шлем","Команда"]
[]
[null,1,{"$f":"IFERROR(VLOOKUP(CONCATENATE(B16,\" вес \",$W$6),'Участники чемпионата'!$A:$AA,13,0),\"\")","v":"Мамедов Руслан"},{"$f":"IF(IFERROR(VLOOKUP(CONCATENATE(B16,\" вес \",$W$6),'Участники чемпионата'!$A:$AA,25,0),\"\")=\"Шлем\",\"Ш\",\"\")","v":""},{"$f":"IFERROR(VLOOKUP(CONCATENATE(B16,\" вес \",$W$6),'Участники чемпионата'!$A:$AA,5,0),\"\")","v":"Скорпион (г. Лангепас)"},null,null,null,null,null,{"$f":"IFERROR(VLOOKUP(CONCATENATE(I16,\" вес \",$W$6),'Участники чемпионата'!$A:$AF,32,0),\"\")","v":""},null,null,null,null,null,null,null,null,null,null,null,null,null,null,null,null,{"$f":"IFERROR(VLOOKUP(CONCATENATE(AC16,\" вес \",$W$6),'Участники чемпионата'!$A:$AF,32,0),\"\")","v":"Дадаев (Ш)"},4,null,null,null,null,4,{"$f":"IFERROR(VLOOKUP(CONCATENATE(AH16,\" вес \",$W$6),'Участники чемпионата'!$A:$AA,13,0),\"\")","v":"Дадаев Мансур"},{"$f":"IF(IFERROR(VLOOKUP(CONCATENATE(AH16,\" вес \",$W$6),'Участники чемпионата'!$A:$AA,25,0),\"\")=\"Шлем\",\"Ш\",\"\")","v":"Ш"},{"$f":"IFERROR(VLOOKUP(CONCATENATE(AH16,\" вес \",$W$6),'Участники чемпионата'!$A:$AA,5,0),\"\")","v":"г. Ханты-Мансийск"}]
[null,5,{"$f":"IFERROR(VLOOKUP(CONCATENATE(B17,\" вес \",$W$6),'Участники чемпионата'!$A:$AA,13,0),\"\")","v":"Григоров Максим"},{"$f":"IF(IFERROR(VLOOKUP(CONCATENATE(B17,\" вес \",$W$6),'Участники чемпионата'!$A:$AA,25,0),\"\")=\"Шлем\",\"Ш\",\"\")","v":""},{"$f":"IFERROR(VLOOKUP(CONCATENATE(B17,\" вес \",$W$6),'Участники чемпионата'!$A:$AA,5,0),\"\")","v":"г. Ханты-Мансийск"}]
[]
[]
[null,null,null,null,null,null,null,null,null,null,null,null,null,null,null,null,null,"Чемпион"]
[null,null,null,null,null,null,null,null,"",null,null,null,null,null,null,null,{"$f":"IFERROR(VLOOKUP(CONCATENATE(S22,\" вес \",$W$6),'Участники чемпионата'!$A:$AA,7,0),\"\")","v":""},null,null,null,null,null,null,null,null,null,null,null,null,""]
[null,null,"A",null,null,null,null,null,null,null,null,null,null,{"$f":"IFERROR(VLOOKUP(CONCATENATE(O22,\" вес \",$W$6),'Участники чемпионата'!$A:$AF,32,0),\"\")","v":""},null,null,null,null,null,null,null,null,null,null,{"$f":"IFERROR(VLOOKUP(CONCATENATE(W22,\" вес \",$W$6),'Участники чемпионата'!$A:$AF,32,0),\"\")","v":""},null,null,null,null,null,null,null,null,null,null,null,"B  "]
[]
[]
[]
[null,null,null,null,null,null,null,null,null,""]
[]
[null,null,null,null,null,null,null,null,3,null,null,null,null,null,null,null,null,null,null,null,null,null,null,null,null,null,null,null,null,null,null,null,null,2,{"$f":"IFERROR(VLOOKUP(CONCATENATE(AH28,\" вес \",$W$6),'Участники чемпионата'!$A:$AA,13,0),\"\")","v":"Бердиев Шахзод"},{"$f":"IF(IFERROR(VLOOKUP(CONCATENATE(AH28,\" вес \",$W$6),'Участники чемпионата'!$A:$AA,25,0),\"\")=\"Шлем\",\"Ш\",\"\")","v":"Ш"},{"$f":"IFERROR(VLOOKUP(CONCATENATE(AH28,\" вес \",$W$6),'Участники чемпионата'!$A:$AA,5,0),\"\")","v":"СДЮСШОР \"СПАРТАК\" (г.Нефтеюганск)"}]
[null,3,{"$f":"IFERROR(VLOOKUP(CONCATENATE(B29,\" вес \",$W$6),'Участники чемпионата'!$A:$AA,13,0),\"\")","v":"Рамазанов Джамал"},{"$f":"IF(IFERROR(VLOOKUP(CONCATENATE(B29,\" вес \",$W$6),'Участники чемпионата'!$A:$AA,25,0),\"\")=\"Шлем\",\"Ш\",\"\")","v":"Ш"},{"$f":"IFERROR(VLOOKUP(CONCATENATE(B29,\" вес \",$W$6),'Участники чемпионата'!$A:$AA,5,0),\"\")","v":"СДЮСШОР \"СПАРТАК\" (г.Нефтеюганск)"},null,null,null,null,null,{"$f":"IFERROR(VLOOKUP(CONCATENATE(I28,\" вес \",$W$6),'Участники чемпионата'!$A:$AF,32,0),\"\")","v":"Рамазанов (Ш)"},null,null,null,null,null,null,null,null,null,null,null,null,null,null,null,null,{"$f":"IFERROR(VLOOKUP(CONCATENATE(AC28,\" вес \",$W$6),'Участники чемпионата'!$A:$AF,32,0),\"\")","v":""},null,null,null,null,null,6,{"$f":"IFERROR(VLOOKUP(CONCATENATE(AH29,\" вес \",$W$6),'Участники чемпионата'!$A:$AA,13,0),\"\")","v":"Адыгешаов Расим"},{"$f":"IF(IFERROR(VLOOKUP(CONCATENATE(AH29,\" вес \",$W$6),'Участники чемпионата'!$A:$AA,25,0),\"\")=\"Шлем\",\"Ш\",\"\")","v":"Ш"},{"$f":"IFERROR(VLOOKUP(CONCATENATE(AH29,\" вес \",$W$6),'Участники чемпионата'!$A:$AA,5,0),\"\")","v":"г. Сургут"}]
[]
[null,"1/4",null,null,null,null,null,null,"1/2",null,null,null,null,null,"Финал",null,null,null,null,null,null,null,null,null,null,null,null,null,"1/2",null,null,null,null,"1/4"]
[]
[null,null,null,null,null,null,null,null,null,null,null,null,null,null,null,null,null,null,null,"Участников:",{"$f":"HLOOKUP(W6,Мандатка!$C$4:$I$5,2,0)","v":10}]
[]
[]
[]
[]
[]
[]
["скрыть"]
["скрыть"]
["скрыть"]
["скрыть"]
["скрыть"]
["скрыть"]
["скрыть"]
["скрыть"]
[]
[]
[]
[]
[]
[]
[]
[]
[]
[]
[]
[]
[]
[null,null,"1 место"]
[null,{"$f":"IF(S22=\"\",\"\",S22)","v":""},{"$f":"IF(B62=\"\",\"\",IFERROR(VLOOKUP(CONCATENATE(B62,\" вес \",$W$6),'Участники чемпионата'!$A:$AA,13,0),\"\"))","v":""},{"$f":"IF(B62=\"\",\"\",IFERROR(VLOOKUP(CONCATENATE(B62,\" вес \",$W$6),'Участники чемпионата'!$A:$AA,5,0),\"\"))","v":""}]
[]
[null,null,"2 место"]
[null,{"$f":"IF(S22=\"\",\"\",IF(S22=W22,O22,W22))","v":""},{"$f":"IF(B65=\"\",\"\",IFERROR(VLOOKUP(CONCATENATE(B65,\" вес \",$W$6),'Участники чемпионата'!$A:$AA,13,0),\"\"))","v":""},{"$f":"IF(B65=\"\",\"\",IFERROR(VLOOKUP(CONCATENATE(B65,\" вес \",$W$6),'Участники чемпионата'!$A:$AA,5,0),\"\"))","v":""},null,null,null,null,null,null,null,null,null,null,null,null,null,null,null,null,null,null,null,null,null,null,null,null,null,null,null,null,null,"Главный судья соревнований",null,"/",{"$f":"IF(VLOOKUP(AH65,'Исходные данные по чемпионату'!B:C,2,0)=0,\"\",VLOOKUP(AH65,'Исходные данные по чемпионату'!B:C,2,0))","v":"Карташков К.В."},"/"]
[]
[null,null,"3 место"]
[null,{"$f":"IF(O22=\"\",\"\",IF(O22=I28,I16,I28))","v":""},{"$f":"IF(B68=\"\",\"\",IFERROR(VLOOKUP(CONCATENATE(B68,\" вес \",$W$6),'Участники чемпионата'!$A:$AA,13,0),\"\"))","v":""},{"$f":"IF(B68=\"\",\"\",IFERROR(VLOOKUP(CONCATENATE(B68,\" вес \",$W$6),'Участники чемпионата'!$A:$AA,5,0),\"\"))","v":""}]
[null,{"$f":"IF(W22=\"\",\"\",IF(W22=AC28,AC16,AC28))","v":""},{"$f":"IF(B69=\"\",\"\",IFERROR(VLOOKUP(CONCATENATE(B69,\" вес \",$W$6),'Участники чемпионата'!$A:$AA,13,0),\"\"))","v":""},{"$f":"IF(B69=\"\",\"\",IFERROR(VLOOKUP(CONCATENATE(B69,\" вес \",$W$6),'Участники чемпионата'!$A:$AA,5,0),\"\"))","v":""},null,null,null,null,null,null,null,null,null,null,null,null,null,null,null,null,null,null,null,null,null,null,null,null,null,null,null,null,null,"Главный секретарь",null,"/",{"$f":"IF(VLOOKUP(AH69,'Исходные данные по чемпионату'!B:C,2,0)=0,\"\",VLOOKUP(AH69,'Исходные данные по чемпионату'!B:C,2,0))","v":"Толстыгин А.Ю."},"/"]
[]
[null,null,null,null,null,null,null,null,null,null,null,null,null,null,null,null,null,null,null,null,null,null,null,null,null,null,null,null,null,null,null,null,null,null,null,null,null,0]
[]
[null,null,"5-8 места",null,null,null,null,null,null,null,null,null,null,"Результат боя описание",null,null,null,null,null,null,null,null,null,null,null,null,null,null,null,null,null,null,null,null,"Финалисты"]
[null,{"$f":"IF(I16=\"\",\"\",IF(OR(B16-I16=0),B17,B16))","v":""},{"$f":"IF(B74=\"\",\"\",IFERROR(VLOOKUP(CONCATENATE(B74,\" вес \",$W$6),'Участники чемпионата'!$A:$AA,13,0),\"\"))","v":""},{"$f":"IF(B74=\"\",\"\",IFERROR(VLOOKUP(CONCATENATE(B74,\" вес \",$W$6),'Участники чемпионата'!$A:$AA,5,0),\"\"))","v":""},null,null,null,null,null,null,null,null,null,{"$f":"'Unvisible Списки'!C9","v":"(ПО)"},null,null,null,{"$f":"'Unvisible Списки'!C27","v":"по очкам"},null,null,null,null,null,null,null,null,null,null,null,null,null,null,null,{"$f":"IF(O22=\"\",\"\",O22)","v":""},{"$f":"IFERROR(VLOOKUP(CONCATENATE(AH74,\" вес \",$W$6),'Участники чемпионата'!$A:$AA,13,0),\"\")","v":""},{"$f":"IFERROR(VLOOKUP(CONCATENATE(AH74,\" вес \",$W$6),'Участники чемпионата'!$A:$AA,5,0),\"\")","v":""}]
[null,{"$f":"IF(I28=\"\",\"\",IF(OR(B28-I28=0),B29,B28))","v":0},{"$f":"IF(B75=\"\",\"\",IFERROR(VLOOKUP(CONCATENATE(B75,\" вес \",$W$6),'Участники чемпионата'!$A:$AA,13,0),\"\"))","v":""},{"$f":"IF(B75=\"\",\"\",IFERROR(VLOOKUP(CONCATENATE(B75,\" вес \",$W$6),'Участники чемпионата'!$A:$AA,5,0),\"\"))","v":""},null,null,null,null,null,null,null,null,null,{"$f":"'Unvisible Списки'!C10","v":"(КО)"},null,null,null,{"$f":"'Unvisible Списки'!C28","v":"нокаут"},null,null,null,null,null,null,null,null,null,null,null,null,null,null,null,{"$f":"IF(W22=\"\",\"\",W22)","v":""},{"$f":"IFERROR(VLOOKUP(CONCATENATE(AH75,\" вес \",$W$6),'Участники чемпионата'!$A:$AA,13,0),\"\")","v":""},{"$f":"IFERROR(VLOOKUP(CONCATENATE(AH75,\" вес \",$W$6),'Участники чемпионата'!$A:$AA,5,0),\"\")","v":""}]
[null,{"$f":"IF(AC16=\"\",\"\",IF(OR(AH16-AC16=0),AH17,AH16))","v":0},{"$f":"IF(B76=\"\",\"\",IFERROR(VLOOKUP(CONCATENATE(B76,\" вес \",$W$6),'Участники чемпионата'!$A:$AA,13,0),\"\"))","v":""},{"$f":"IF(B76=\"\",\"\",IFERROR(VLOOKUP(CONCATENATE(B76,\" вес \",$W$6),'Участники чемпионата'!$A:$AA,5,0),\"\"))","v":""},null,null,null,null,null,null,null,null,null,{"$f":"'Unvisible Списки'!C11","v":"(БЛ)"},null,null,null,{"$f":"'Unvisible Списки'!C29","v":"болевой/удушающий"}]
[null,{"$f":"IF(AC28=\"\",\"\",IF(OR(AH28-AC28=0),AH29,AH28))","v":""},{"$f":"IF(B77=\"\",\"\",IFERROR(VLOOKUP(CONCATENATE(B77,\" вес \",$W$6),'Участники чемпионата'!$A:$AA,13,0),\"\"))","v":""},{"$f":"IF(B77=\"\",\"\",IFERROR(VLOOKUP(CONCATENATE(B77,\" вес \",$W$6),'Участники чемпионата'!$A:$AA,5,0),\"\"))","v":""},null,null,null,null,null,null,null,null,null,{"$f":"'Unvisible Списки'!C12","v":"(ТКО)"},null,null,null,{"$f":"'Unvisible Списки'!C30","v":"технический нокаут"}]
[null,null,null,null,null,null,null,null,null,null,null,null,null,{"$f":"'Unvisible Списки'!C13","v":"(СН)"},null,null,null,{"$f":"'Unvisible Списки'!C31","v":"снятие врачом"}]
[null,null,null,null,null,null,null,null,null,null,null,null,null,{"$f":"'Unvisible Списки'!C14","v":"(ОТК)"},null,null,null,{"$f":"'Unvisible Списки'!C32","v":"отказ продолжать бой"}]
[null,null,null,null,null,null,null,null,null,null,null,null,null,{"$f":"'Unvisible Списки'!C15","v":"(ДСК)"},null,null,null,{"$f":"'Unvisible Списки'!C33","v":"Дисквалификация"}]
[null,null,null,null,null,null,null,null,null,null,null,null,null,{"$f":"'Unvisible Списки'!C16","v":"(РГСК)"},null,null,null,{"$f":"'Unvisible Списки'!C34","v":"решение главного судьи СК"}]
[null,null,null,null,null,null,null,null,null,null,null,null,null,{"$f":"'Unvisible Списки'!C17","v":"(НЯ)"},null,null,null,{"$f":"'Unvisible Списки'!C35","v":"неявка"}]

{"sheet":"Сетка4","index":21,"n_rows":82,"n_cols":38,"rows_kept":82,"cut":false,"hidden":true,"merged":[[24,1,24,4],[24,33,24,36],[73,35,73,36],[74,35,74,36],[61,3,61,4],[64,3,64,4],[67,3,67,4],[68,3,68,4],[72,13,72,26],[73,13,73,16],[73,17,73,26],[74,13,74,16],[74,17,74,26],[1,2,1,36],[3,5,3,33],[3,36,4,36],[5,22,5,24],[17,17,17,20],[78,13,78,16],[78,17,78,26],[79,13,79,16],[27,20,27,21],[19,15,20,22],[21,14,22,15],[21,18,22,19],[21,22,22,23],[25,15,25,22],[24,14,24,23],[75,13,75,16],[75,17,75,26],[76,13,76,16],[76,17,76,26],[77,13,77,16],[77,17,77,26],[79,17,79,26],[80,13,80,16],[80,17,80,26],[81,13,81,16],[81,17,81,26]]}
[]
[null,null,{"$f":"'Исходные данные по чемпионату'!C3","v":"Чемпионат ХМАО-Югры по СБЕ (ММА) среди муж. 18лет и старше,первенство среди юношей 16-17лет"}]
[]
[null,null,null,null,null,"ПРОТОКОЛ СОРЕВНОВАНИЙ",null,null,null,null,null,null,null,null,null,null,null,null,null,null,null,null,null,null,null,null,null,null,null,null,null,null,null,null,null,null,{"$f":"'Исходные данные по чемпионату'!C6","v":"г. Ханты-Мансийск"}]
[]
[null,null,null,null,null,null,null,null,null,null,null,null,null,null,null,null,null,null,null,null,null,"Весовая категория до","70,3",null,null,"кг",null,null,null,null,null,null,null,null,null,null,{"$f":"'Исходные данные по чемпионату'!C4","v":"с16 по 19 февраля 2018г."}]
[]
[]
[]
[]
[]
[]
[]
[]
[]
[]
[]
[null,null,null,null,null,null,null,null,null,null,null,null,null,null,null,null,null,"Чемпион"]
[]
[null,"№","Спортсмен","Шлем","Команда",null,null,null,null,null,null,null,null,null,null,{"$f":"IFERROR(VLOOKUP(CONCATENATE(S22,\" вес \",$W$6),'Участники чемпионата'!$A:$AA,7,0),\"\")","v":""},null,null,null,null,null,null,null,null,null,null,null,null,null,null,null,null,null,"№","Спортсмен","Шлем","Команда"]
[null,null,null,null,null,null,null,null,""]
[null,1,{"$f":"IFERROR(VLOOKUP(CONCATENATE(B22,\" вес \",$W$6),'Участники чемпионата'!$A:$AA,13,0),\"\")","v":"Хабибулаев Алибек"},{"$f":"IF(IFERROR(VLOOKUP(CONCATENATE(B22,\" вес \",$W$6),'Участники чемпионата'!$A:$AA,25,0),\"\")=\"Шлем\",\"Ш\",\"\")","v":""},{"$f":"IFERROR(VLOOKUP(CONCATENATE(B22,\" вес \",$W$6),'Участники чемпионата'!$A:$AA,5,0),\"\")","v":"Скорпион (г. Лангепас)"},null,null,null,null,null,null,null,null,{"$f":"IFERROR(VLOOKUP(CONCATENATE(O22,\" вес \",$W$6),'Участники чемпионата'!$A:$AF,32,0),\"\")","v":""},null,null,null,null,null,null,null,null,null,null,{"$f":"IFERROR(VLOOKUP(CONCATENATE(W22,\" вес \",$W$6),'Участники чемпионата'!$A:$AF,32,0),\"\")","v":""},null,null,null,null,null,null,null,null,2,{"$f":"IFERROR(VLOOKUP(CONCATENATE(AH22,\" вес \",$W$6),'Участники чемпионата'!$A:$AA,13,0),\"\")","v":"Гаджиев Халид"},{"$f":"IF(IFERROR(VLOOKUP(CONCATENATE(AH22,\" вес \",$W$6),'Участники чемпионата'!$A:$AA,25,0),\"\")=\"Шлем\",\"Ш\",\"\")","v":""},{"$f":"IFERROR(VLOOKUP(CONCATENATE(AH22,\" вес \",$W$6),'Участники чемпионата'!$A:$AA,5,0),\"\")","v":"г. Нижневартовск"}]
[null,3,{"$f":"IFERROR(VLOOKUP(CONCATENATE(B23,\" вес \",$W$6),'Участники чемпионата'!$A:$AA,13,0),\"\")","v":"Бондарчук Иван"},{"$f":"IF(IFERROR(VLOOKUP(CONCATENATE(B23,\" вес \",$W$6),'Участники чемпионата'!$A:$AA,25,0),\"\")=\"Шлем\",\"Ш\",\"\")","v":"Ш"},{"$f":"IFERROR(VLOOKUP(CONCATENATE(B23,\" вес \",$W$6),'Участники чемпионата'!$A:$AA,5,0),\"\")","v":"г. Сургут"},null,null,null,null,null,null,null,null,null,null,null,null,null,null,null,null,null,null,null,null,null,null,null,null,null,null,null,null,4,{"$f":"IFERROR(VLOOKUP(CONCATENATE(AH23,\" вес \",$W$6),'Участники чемпионата'!$A:$AA,13,0),\"\")","v":"Мирзаев Ибрагим"},{"$f":"IF(IFERROR(VLOOKUP(CONCATENATE(AH23,\" вес \",$W$6),'Участники чемпионата'!$A:$AA,25,0),\"\")=\"Шлем\",\"Ш\",\"\")","v":""},{"$f":"IFERROR(VLOOKUP(CONCATENATE(AH23,\" вес \",$W$6),'Участники чемпионата'!$A:$AA,5,0),\"\")","v":"г. Нижневартовск (СБЕ КОБРА)"}]
[]
[null,"1/2",null,null,null,null,null,null,null,null,null,null,null,null,"Финал",null,null,null,null,null,null,null,null,null,null,null,null,null,null,null,null,null,null,"1/2"]
[null,null,null,null,null,null,null,null,null,""]
[]
[null,null,null,null,null,null,null,null,null,null,null,null,null,null,null,null,null,null,null,"Участников:",{"$f":"HLOOKUP(W6,Мандатка!$C$4:$I$5,2,0)","v":9}]
[]
[]
[]
[]
[]
[]
[]
[]
[]
[]
["скрыть"]
["скрыть"]
["скрыть"]
["скрыть"]
["скрыть"]
["скрыть"]
["скрыть"]
[]
[]
[]
[]
[]
[]
[]
[]
[]
[]
[]
[]
[]
[]
[]
[null,null,"1 место"]
[null,{"$f":"IF(S22=\"\",\"\",S22)","v":""},{"$f":"IF(B62=\"\",\"\",IFERROR(VLOOKUP(CONCATENATE(B62,\" вес \",$W$6),'Участники чемпионата'!$A:$AA,13,0),\"\"))","v":""},{"$f":"IF(B62=\"\",\"\",IFERROR(VLOOKUP(CONCATENATE(B62,\" вес \",$W$6),'Участники чемпионата'!$A:$AA,5,0),\"\"))","v":""}]
[]
[null,null,"2 место"]
[null,{"$f":"IF(S22=\"\",\"\",IF(S22=W22,O22,W22))","v":""},{"$f":"IF(B65=\"\",\"\",IFERROR(VLOOKUP(CONCATENATE(B65,\" вес \",$W$6),'Участники чемпионата'!$A:$AA,13,0),\"\"))","v":""},{"$f":"IF(B65=\"\",\"\",IFERROR(VLOOKUP(CONCATENATE(B65,\" вес \",$W$6),'Участники чемпионата'!$A:$AA,5,0),\"\"))","v":""},null,null,null,null,null,null,null,null,null,null,null,null,null,null,null,null,null,null,null,null,null,null,null,null,null,null,null,null,null,"Главный судья соревнований",null,"/",{"$f":"IF(VLOOKUP(AH65,'Исходные данные по чемпионату'!B:C,2,0)=0,\"\",VLOOKUP(AH65,'Исходные данные по чемпионату'!B:C,2,0))","v":"Карташков К.В."},"/"]
[]
[null,null,"3 место"]
[null,{"$f":"IF(O22=\"\",\"\",IF(O22=B23,B22,B23))","v":""},{"$f":"IF(B68=\"\",\"\",IFERROR(VLOOKUP(CONCATENATE(B68,\" вес \",$W$6),'Участники чемпионата'!$A:$AA,13,0),\"\"))","v":""},{"$f":"IF(B68=\"\",\"\",IFERROR(VLOOKUP(CONCATENATE(B68,\" вес \",$W$6),'Участники чемпионата'!$A:$AA,5,0),\"\"))","v":""}]
[null,{"$f":"IF(W22=\"\",\"\",IF(W22=AH23,AH22,AH23))","v":""},{"$f":"IF(B69=\"\",\"\",IFERROR(VLOOKUP(CONCATENATE(B69,\" вес \",$W$6),'Участники чемпионата'!$A:$AA,13,0),\"\"))","v":""},{"$f":"IF(B69=\"\",\"\",IFERROR(VLOOKUP(CONCATENATE(B69,\" вес \",$W$6),'Участники чемпионата'!$A:$AA,5,0),\"\"))","v":""},null,null,null,null,null,null,null,null,null,null,null,null,null,null,null,null,null,null,null,null,null,null,null,null,null,null,null,null,null,"Главный секретарь",null,"/",{"$f":"IF(VLOOKUP(AH69,'Исходные данные по чемпионату'!B:C,2,0)=0,\"\",VLOOKUP(AH69,'Исходные данные по чемпионату'!B:C,2,0))","v":"Толстыгин А.Ю."},"/"]
[]
[null,null,null,null,null,null,null,null,null,null,null,null,null,null,null,null,null,null,null,null,null,null,null,null,null,null,null,null,null,null,null,null,null,null,null,null,null,0]
[]
[null,null,null,null,null,null,null,null,null,null,null,null,null,"Результат боя описание",null,null,null,null,null,null,null,null,null,null,null,null,null,null,null,null,null,null,null,null,"Финалисты"]
[null,null,null,null,null,null,null,null,null,null,null,null,null,{"$f":"'Unvisible Списки'!C9","v":"(ПО)"},null,null,null,{"$f":"'Unvisible Списки'!C27","v":"по очкам"},null,null,null,null,null,null,null,null,null,null,null,null,null,null,null,{"$f":"IF(O22=\"\",\"\",O22)","v":""},{"$f":"IFERROR(VLOOKUP(CONCATENATE(AH74,\" вес \",$W$6),'Участники чемпионата'!$A:$AA,13,0),\"\")","v":""},{"$f":"IFERROR(VLOOKUP(CONCATENATE(AH74,\" вес \",$W$6),'Участники чемпионата'!$A:$AA,5,0),\"\")","v":""}]
[null,null,null,null,null,null,null,null,null,null,null,null,null,{"$f":"'Unvisible Списки'!C10","v":"(КО)"},null,null,null,{"$f":"'Unvisible Списки'!C28","v":"нокаут"},null,null,null,null,null,null,null,null,null,null,null,null,null,null,null,{"$f":"IF(W22=\"\",\"\",W22)","v":""},{"$f":"IFERROR(VLOOKUP(CONCATENATE(AH75,\" вес \",$W$6),'Участники чемпионата'!$A:$AA,13,0),\"\")","v":""},{"$f":"IFERROR(VLOOKUP(CONCATENATE(AH75,\" вес \",$W$6),'Участники чемпионата'!$A:$AA,5,0),\"\")","v":""}]
[null,null,null,null,null,null,null,null,null,null,null,null,null,{"$f":"'Unvisible Списки'!C11","v":"(БЛ)"},null,null,null,{"$f":"'Unvisible Списки'!C29","v":"болевой/удушающий"}]
[null,null,null,null,null,null,null,null,null,null,null,null,null,{"$f":"'Unvisible Списки'!C12","v":"(ТКО)"},null,null,null,{"$f":"'Unvisible Списки'!C30","v":"технический нокаут"}]
[null,null,null,null,null,null,null,null,null,null,null,null,null,{"$f":"'Unvisible Списки'!C13","v":"(СН)"},null,null,null,{"$f":"'Unvisible Списки'!C31","v":"снятие врачом"}]
[null,null,null,null,null,null,null,null,null,null,null,null,null,{"$f":"'Unvisible Списки'!C14","v":"(ОТК)"},null,null,null,{"$f":"'Unvisible Списки'!C32","v":"отказ продолжать бой"}]
[null,null,null,null,null,null,null,null,null,null,null,null,null,{"$f":"'Unvisible Списки'!C15","v":"(ДСК)"},null,null,null,{"$f":"'Unvisible Списки'!C33","v":"Дисквалификация"}]
[null,null,null,null,null,null,null,null,null,null,null,null,null,{"$f":"'Unvisible Списки'!C16","v":"(РГСК)"},null,null,null,{"$f":"'Unvisible Списки'!C34","v":"решение главного судьи СК"}]
[null,null,null,null,null,null,null,null,null,null,null,null,null,{"$f":"'Unvisible Списки'!C17","v":"(НЯ)"},null,null,null,{"$f":"'Unvisible Списки'!C35","v":"неявка"}]

{"sheet":"Сетка3","index":22,"n_rows":82,"n_cols":39,"rows_kept":82,"cut":false,"hidden":true,"merged":[[73,35,73,36],[74,35,74,36],[38,29,39,31],[39,20,39,22],[39,24,41,24],[40,20,40,22],[27,35,39,37],[72,13,72,26],[73,13,73,16],[30,29,31,31],[33,20,33,22],[33,24,35,24],[34,20,34,22],[34,29,35,31],[27,24,29,24],[27,27,27,33],[12,1,14,1],[14,6,14,7],[14,8,14,9],[14,10,14,11],[15,6,15,7],[16,8,16,9],[16,10,16,11],[16,12,16,15],[25,12,25,18],[16,17,16,18],[17,17,17,18],[39,1,40,1],[25,20,25,22],[27,20,27,22],[34,7,34,8],[34,9,34,10],[39,7,39,10],[40,7,40,8],[40,9,40,10],[25,6,25,11],[33,12,34,18],[39,12,40,18],[28,20,28,22],[27,1,28,1],[33,1,34,1],[61,4,61,5],[64,4,64,5],[67,4,67,5],[27,12,28,18],[27,7,27,10],[28,9,28,10],[28,7,28,8],[33,7,33,10],[54,3,55,5],[61,2,61,3],[64,2,64,3],[67,2,67,3],[80,13,80,16],[20,3,21,5],[1,3,1,37],[3,6,3,34],[3,37,4,37],[5,22,5,24],[15,8,15,9],[15,10,15,11],[15,12,15,15],[15,17,15,18],[14,19,18,20],[17,6,17,7],[17,8,17,9],[17,10,17,11],[17,12,17,15],[16,6,16,7],[80,17,80,26],[81,13,81,16],[81,17,81,26],[73,17,73,26],[74,13,74,16],[74,17,74,26],[75,13,75,16],[75,17,75,26],[76,13,76,16],[76,17,76,26],[77,13,77,16],[77,17,77,26],[78,13,78,16],[78,17,78,26],[79,13,79,16],[79,17,79,26]]}
[]
[null,null,null,{"$f":"'Исходные данные по чемпионату'!C3","v":"Чемпионат ХМАО-Югры по СБЕ (ММА) среди муж. 18лет и старше,первенство среди юношей 16-17лет"}]
[]
[null,null,null,null,null,null,"ПРОТОКОЛ СОРЕВНОВАНИЙ",null,null,null,null,null,null,null,null,null,null,null,null,null,null,null,null,null,null,null,null,null,null,null,null,null,null,null,null,null,null,{"$f":"'Исходные данные по чемпионату'!C6","v":"г. Ханты-Мансийск"}]
[]
[null,null,null,null,null,null,null,null,null,null,null,null,null,null,null,null,null,null,null,null,null,"Весовая категория до","84",null,null,"кг",null,null,null,null,null,null,null,null,null,null,null,{"$f":"'Исходные данные по чемпионату'!C4","v":"с16 по 19 февраля 2018г."}]
[]
[]
[]
[]
[]
[]
[null,"Место"]
[]
[null,null,"№","Спортсмен","Шлем","Команда",1,null,2,null,3,null,null,null,null,null,null,null,null,"Подробный подсчёт"]
[null,{"$f":"IF(SUM(M16:P18)=0,\"\",IF(M16=LARGE($M$16:$P$18,1),1,IF(M16=LARGE($M$16:$P$18,2),2,IF(M16=LARGE($M$16:$P$18,3),3,\"\"))))","v":1},1,{"$f":"IFERROR(VLOOKUP(CONCATENATE(C16,\" вес \",$W$6),'Участники чемпионата'!$A:$AA,13,0),\"\")","v":"Багаутдинов Гамзатда"},{"$f":"IF(IFERROR(VLOOKUP(CONCATENATE(C16,\" вес \",$W$6),'Участники чемпионата'!$A:$AA,25,0),\"\")=\"Шлем\",\"Ш\",\"\")","v":""},{"$f":"IFERROR(VLOOKUP(CONCATENATE(C16,\" вес \",$W$6),'Участники чемпионата'!$A:$AA,5,0),\"\")","v":"г. Нижневартовск"},null,null,null,null,null,null,{"$f":"SUMIF($C$28:$W$41,C16,$U$28:$W$41)+R16","v":3}]
[null,{"$f":"IF(SUM(M16:P18)=0,\"\",IF(M17=LARGE($M$16:$P$18,1),1,IF(M17=LARGE($M$16:$P$18,2),2,IF(M17=LARGE($M$16:$P$18,3),3,\"\"))))","v":1},2,{"$f":"IFERROR(VLOOKUP(CONCATENATE(C17,\" вес \",$W$6),'Участники чемпионата'!$A:$AA,13,0),\"\")","v":"Хатков Станислав"},{"$f":"IF(IFERROR(VLOOKUP(CONCATENATE(C17,\" вес \",$W$6),'Участники чемпионата'!$A:$AA,25,0),\"\")=\"Шлем\",\"Ш\",\"\")","v":"Ш"},{"$f":"IFERROR(VLOOKUP(CONCATENATE(C17,\" вес \",$W$6),'Участники чемпионата'!$A:$AA,5,0),\"\")","v":"г. Сургут"},null,null,null,null,null,null,{"$f":"SUMIF($C$28:$W$41,C17,$U$28:$W$41)+R17","v":3}]
[null,{"$f":"IF(SUM(M16:P18)=0,\"\",IF(M18=LARGE($M$16:$P$18,1),1,IF(M18=LARGE($M$16:$P$18,2),2,IF(M18=LARGE($M$16:$P$18,3),3,\"\"))))","v":3},3,{"$f":"IFERROR(VLOOKUP(CONCATENATE(C18,\" вес \",$W$6),'Участники чемпионата'!$A:$AA,13,0),\"\")","v":"Мамедов Нариман"},{"$f":"IF(IFERROR(VLOOKUP(CONCATENATE(C18,\" вес \",$W$6),'Участники чемпионата'!$A:$AA,25,0),\"\")=\"Шлем\",\"Ш\",\"\")","v":"Ш"},{"$f":"IFERROR(VLOOKUP(CONCATENATE(C18,\" вес \",$W$6),'Участники чемпионата'!$A:$AA,5,0),\"\")","v":"СДЮСШОР \"СПАРТАК\" (г.Нефтеюганск)"},null,null,null,null,null,null,{"$f":"SUMIF($C$28:$W$41,C18,$U$28:$W$41)+R18","v":0}]
[]
[]
[null,null,null,{"$f":"IFERROR(IF(SUM($U$40:$W$41)=0,\"\",IF(OR(B68=\"\",B65=\"\"),\"Необходим подробный подсчёт результатов\",\"\")),\"\")","v":"Необходим подробный подсчёт результатов"}]
[]
[]
[]
[]
[null,null,"№","Спортсмен","Шлем","Регион","Раунд / Время",null,null,null,null,null,"Результат боя",null,null,null,null,null,null,null,"Очки"]
[]
[null,1,1,{"$f":"IFERROR(VLOOKUP(CONCATENATE(C28,\" вес \",$W$6),'Участники чемпионата'!$A:$AA,13,0),\"\")","v":"Багаутдинов Гамзатда"},{"$f":"IF(IFERROR(VLOOKUP(CONCATENATE(C28,\" вес \",$W$6),'Участники чемпионата'!$A:$AA,25,0),\"\")=\"Шлем\",\"Ш\",\"\")","v":""},{"$f":"IFERROR(VLOOKUP(CONCATENATE(C28,\" вес \",$W$6),'Участники чемпионата'!$A:$AA,5,0),\"\")","v":"г. Нижневартовск"},null,null,null,null,null,null,null,null,null,null,null,null,null,null,1,null,null,null,"Круг  1",null,null,"Схема Круговой",null,null,null,null,null,null,null,"\n               Система подсчёта очков:\n   Досрочная победа: 3 очка. (и в Extra раунде)\n   Если соперник не вышел на поединок: 2 очка\n   Победа по очкам в Extra раунде: 1 очко\n\n* При одинаковой сумме очков у двух и более спортсменов  последовательно учитываются дополнительные показатели:\n      - лучший результат в личных встречах;\n      - большее количество досрочных побед;\n      - меньшее количество досрочных поражений;\n      - меньший личный вес тела."]
[null,null,2,{"$f":"IFERROR(VLOOKUP(CONCATENATE(C29,\" вес \",$W$6),'Участники чемпионата'!$A:$AA,13,0),\"\")","v":"Хатков Станислав"},{"$f":"IF(IFERROR(VLOOKUP(CONCATENATE(C29,\" вес \",$W$6),'Участники чемпионата'!$A:$AA,25,0),\"\")=\"Шлем\",\"Ш\",\"\")","v":"Ш"},{"$f":"IFERROR(VLOOKUP(CONCATENATE(C29,\" вес \",$W$6),'Участники чемпионата'!$A:$AA,5,0),\"\")","v":"г. Сургут"}]
[null,null,null,null,null,null,null,null,null,null,null,null,null,null,null,null,null,null,null,null,null,null,null,null,null,null,null,null,null,null,null,null,1]
[null,null,null,null,null,null,null,null,null,null,null,null,null,null,null,null,null,null,null,null,null,null,null,null,null,null,null,null,null,"1 круг",null,null,1]
[null,null,null,null,null,null,null,null,null,null,null,null,null,null,null,null,null,null,null,null,null,null,null,null,null,null,null,null,null,null,null,null,2]
[]
[null,2,2,{"$f":"IFERROR(VLOOKUP(CONCATENATE(C34,\" вес \",$W$6),'Участники чемпионата'!$A:$AA,13,0),\"\")","v":"Хатков Станислав"},{"$f":"IF(IFERROR(VLOOKUP(CONCATENATE(C34,\" вес \",$W$6),'Участники чемпионата'!$A:$AA,25,0),\"\")=\"Шлем\",\"Ш\",\"\")","v":"Ш"},{"$f":"IFERROR(VLOOKUP(CONCATENATE(C34,\" вес \",$W$6),'Участники чемпионата'!$A:$AA,5,0),\"\")","v":"г. Сургут"},null,null,null,null,null,null,null,null,null,null,null,null,null,null,3,null,null,null,"Круг  2",null,null,null,null,null,null,null,2]
[null,null,3,{"$f":"IFERROR(VLOOKUP(CONCATENATE(C35,\" вес \",$W$6),'Участники чемпионата'!$A:$AA,13,0),\"\")","v":"Мамедов Нариман"},{"$f":"IF(IFERROR(VLOOKUP(CONCATENATE(C35,\" вес \",$W$6),'Участники чемпионата'!$A:$AA,25,0),\"\")=\"Шлем\",\"Ш\",\"\")","v":"Ш"},{"$f":"IFERROR(VLOOKUP(CONCATENATE(C35,\" вес \",$W$6),'Участники чемпионата'!$A:$AA,5,0),\"\")","v":"СДЮСШОР \"СПАРТАК\" (г.Нефтеюганск)"},null,null,null,null,null,null,null,null,null,null,null,null,null,null,null,null,null,null,null,null,null,null,null,"2 круг",null,null,2]
[null,null,null,null,null,null,null,null,null,null,null,null,null,null,null,null,null,null,null,null,null,null,null,null,null,null,null,null,null,{"$f":"SUM(AH35:AH36)","v":0},null,null,3]
[]
[null,null,null,null,null,null,null,null,null,null,null,null,null,null,null,null,null,null,null,null,null,null,null,null,null,null,null,null,null,null,null,null,3]
[null,null,null,null,null,null,null,null,null,null,null,null,null,null,null,null,null,null,null,null,null,null,null,null,null,null,null,null,null,"3 круг",null,null,1]
[null,3,3,{"$f":"IFERROR(VLOOKUP(CONCATENATE(C40,\" вес \",$W$6),'Участники чемпионата'!$A:$AA,13,0),\"\")","v":"Мамедов Нариман"},{"$f":"IF(IFERROR(VLOOKUP(CONCATENATE(C40,\" вес \",$W$6),'Участники чемпионата'!$A:$AA,25,0),\"\")=\"Шлем\",\"Ш\",\"\")","v":"Ш"},{"$f":"IFERROR(VLOOKUP(CONCATENATE(C40,\" вес \",$W$6),'Участники чемпионата'!$A:$AA,5,0),\"\")","v":"СДЮСШОР \"СПАРТАК\" (г.Нефтеюганск)"},null,null,null,null,null,null,null,null,null,null,null,null,null,null,null,null,null,null,"Круг  3",null,null,null,null,{"$f":"SUM(AH39:AH40)","v":0},null,null,3]
[null,null,1,{"$f":"IFERROR(VLOOKUP(CONCATENATE(C41,\" вес \",$W$6),'Участники чемпионата'!$A:$AA,13,0),\"\")","v":"Багаутдинов Гамзатда"},{"$f":"IF(IFERROR(VLOOKUP(CONCATENATE(C41,\" вес \",$W$6),'Участники чемпионата'!$A:$AA,25,0),\"\")=\"Шлем\",\"Ш\",\"\")","v":""},{"$f":"IFERROR(VLOOKUP(CONCATENATE(C41,\" вес \",$W$6),'Участники чемпионата'!$A:$AA,5,0),\"\")","v":"г. Нижневартовск"},null,null,null,null,null,null,null,null,null,null,null,null,null,null,2]
[]
[]
[]
[]
["скрыть"]
["скрыть"]
["скрыть"]
["скрыть"]
["скрыть"]
["скрыть"]
["скрыть"]
["скрыть"]
[]
[null,null,null,{"$f":"IFERROR(IF(SUM($U$40:$W$41)=0,\"\",IF(OR(B68=\"\",B65=\"\"),\"Необходим подробный подсчёт результатов\",\"\")),\"\")","v":"Необходим подробный подсчёт результатов"}]
[]
[]
[]
[]
[]
[null,null,null,"1 место"]
[null,{"$f":"IFERROR(IF(SUM($U$40:$W$41)=0,\"\",VLOOKUP(1,$B$16:$C$18,2,0)),\"\")","v":1},{"$f":"IF(B62=\"\",\"\",IFERROR(VLOOKUP(CONCATENATE(B62,\" вес \",$W$6),'Участники чемпионата'!$A:$AA,13,0),\"\"))","v":"Багаутдинов Гамзатда"},null,{"$f":"IF(B62=\"\",\"\",IFERROR(VLOOKUP(CONCATENATE(B62,\" вес \",$W$6),'Участники чемпионата'!$A:$AA,5,0),\"\"))","v":"г. Нижневартовск"}]
[]
[null,null,null,"2 место"]
[null,{"$f":"IFERROR(IF(SUM($U$40:$W$41)=0,\"\",VLOOKUP(2,$B$16:$C$18,2,0)),\"\")","v":""},{"$f":"IF(B65=\"\",\"\",IFERROR(VLOOKUP(CONCATENATE(B65,\" вес \",$W$6),'Участники чемпионата'!$A:$AA,13,0),\"\"))","v":""},null,{"$f":"IF(B65=\"\",\"\",IFERROR(VLOOKUP(CONCATENATE(B65,\" вес \",$W$6),'Участники чемпионата'!$A:$AA,5,0),\"\"))","v":""},null,null,null,null,null,null,null,null,null,null,null,null,null,null,null,null,null,null,null,null,null,null,null,null,null,null,null,null,null,"Главный судья соревнований",null,"/",{"$f":"IF(VLOOKUP(AI65,'Исходные данные по чемпионату'!B:C,2,0)=0,\"\",VLOOKUP(AI65,'Исходные данные по чемпионату'!B:C,2,0))","v":"Карташков К.В."},"/"]
[]
[null,null,null,"3 место"]
[null,{"$f":"IFERROR(IF(SUM($U$40:$W$41)=0,\"\",VLOOKUP(3,$B$16:$C$18,2,0)),\"\")","v":3},{"$f":"IF(B68=\"\",\"\",IFERROR(VLOOKUP(CONCATENATE(B68,\" вес \",$W$6),'Участники чемпионата'!$A:$AA,13,0),\"\"))","v":"Мамедов Нариман"},null,{"$f":"IF(B68=\"\",\"\",IFERROR(VLOOKUP(CONCATENATE(B68,\" вес \",$W$6),'Участники чемпионата'!$A:$AA,5,0),\"\"))","v":"СДЮСШОР \"СПАРТАК\" (г.Нефтеюганск)"}]
[null,null,null,null,null,null,null,null,null,null,null,null,null,null,null,null,null,null,null,null,null,null,null,null,null,null,null,null,null,null,null,null,null,null,"Главный секретарь",null,"/",{"$f":"IF(VLOOKUP(AI69,'Исходные данные по чемпионату'!B:C,2,0)=0,\"\",VLOOKUP(AI69,'Исходные данные по чемпионату'!B:C,2,0))","v":"Толстыгин А.Ю."},"/"]
[]
[null,null,null,null,null,null,null,null,null,null,null,null,null,null,null,null,null,null,null,null,null,null,null,null,null,null,null,null,null,null,null,null,null,null,null,null,null,null,0]
[]
[null,null,null,null,null,null,null,null,null,null,null,null,null,"Результат боя описание",null,null,null,null,null,null,null,null,null,null,null,null,null,null,null,null,null,null,null,null,"Финалисты"]
[null,null,null,null,null,null,null,null,null,null,null,null,null,{"$f":"'Unvisible Списки'!C9","v":"(ПО)"},null,null,null,{"$f":"'Unvisible Списки'!C27","v":"по очкам"},null,null,null,null,null,null,null,null,null,null,null,null,null,null,null,3,{"$f":"IFERROR(VLOOKUP(CONCATENATE(AH74,\" вес \",$W$6),'Участники чемпионата'!$A:$AA,13,0),\"\")","v":"Мамедов Нариман"},{"$f":"IFERROR(VLOOKUP(CONCATENATE(AH74,\" вес \",$W$6),'Участники чемпионата'!$A:$AA,5,0),\"\")","v":"СДЮСШОР \"СПАРТАК\" (г.Нефтеюганск)"}]
[null,null,null,null,null,null,null,null,null,null,null,null,null,{"$f":"'Unvisible Списки'!C10","v":"(КО)"},null,null,null,{"$f":"'Unvisible Списки'!C28","v":"нокаут"},null,null,null,null,null,null,null,null,null,null,null,null,null,null,null,1,{"$f":"IFERROR(VLOOKUP(CONCATENATE(AH75,\" вес \",$W$6),'Участники чемпионата'!$A:$AA,13,0),\"\")","v":"Багаутдинов Гамзатда"},{"$f":"IFERROR(VLOOKUP(CONCATENATE(AH75,\" вес \",$W$6),'Участники чемпионата'!$A:$AA,5,0),\"\")","v":"г. Нижневартовск"}]
[null,null,null,null,null,null,null,null,null,null,null,null,null,{"$f":"'Unvisible Списки'!C11","v":"(БЛ)"},null,null,null,{"$f":"'Unvisible Списки'!C29","v":"болевой/удушающий"}]
[null,null,null,null,null,null,null,null,null,null,null,null,null,{"$f":"'Unvisible Списки'!C12","v":"(ТКО)"},null,null,null,{"$f":"'Unvisible Списки'!C30","v":"технический нокаут"}]
[null,null,null,null,null,null,null,null,null,null,null,null,null,{"$f":"'Unvisible Списки'!C13","v":"(СН)"},null,null,null,{"$f":"'Unvisible Списки'!C31","v":"снятие врачом"}]
[null,null,null,null,null,null,null,null,null,null,null,null,null,{"$f":"'Unvisible Списки'!C14","v":"(ОТК)"},null,null,null,{"$f":"'Unvisible Списки'!C32","v":"отказ продолжать бой"}]
[null,null,null,null,null,null,null,null,null,null,null,null,null,{"$f":"'Unvisible Списки'!C15","v":"(ДСК)"},null,null,null,{"$f":"'Unvisible Списки'!C33","v":"Дисквалификация"}]
[null,null,null,null,null,null,null,null,null,null,null,null,null,{"$f":"'Unvisible Списки'!C16","v":"(РГСК)"},null,null,null,{"$f":"'Unvisible Списки'!C34","v":"решение главного судьи СК"}]
[null,null,null,null,null,null,null,null,null,null,null,null,null,{"$f":"'Unvisible Списки'!C17","v":"(НЯ)"},null,null,null,{"$f":"'Unvisible Списки'!C35","v":"неявка"}]

{"sheet":"Сетка2","index":23,"n_rows":82,"n_cols":38,"rows_kept":82,"cut":false,"hidden":true,"merged":[[61,3,61,4],[64,3,64,4],[21,34,22,34],[21,35,22,35],[21,36,22,36],[25,15,25,22],[27,20,27,21],[21,33,22,33],[24,14,24,23],[21,1,22,1],[21,2,22,2],[21,3,22,3],[21,4,22,4],[21,18,22,19],[19,15,20,22],[1,2,1,36],[3,5,3,33],[3,36,4,36],[5,22,5,24],[17,17,17,20],[77,13,77,16],[77,17,77,26],[79,17,79,26],[72,13,72,26],[73,13,73,16],[73,17,73,26],[74,13,74,16],[74,17,74,26],[73,35,73,36],[74,35,74,36],[75,13,75,16],[75,17,75,26],[76,13,76,16],[76,17,76,26],[80,13,80,16],[80,17,80,26],[81,13,81,16],[81,17,81,26],[78,13,78,16],[78,17,78,26],[79,13,79,16]]}
[]
[null,null,{"$f":"'Исходные данные по чемпионату'!C3","v":"Чемпионат ХМАО-Югры по СБЕ (ММА) среди муж. 18лет и старше,первенство среди юношей 16-17лет"}]
[]
[null,null,null,null,null,"ПРОТОКОЛ СОРЕВНОВАНИЙ",null,null,null,null,null,null,null,null,null,null,null,null,null,null,null,null,null,null,null,null,null,null,null,null,null,null,null,null,null,null,{"$f":"'Исходные данные по чемпионату'!C6","v":"г. Ханты-Мансийск"}]
[]
[null,null,null,null,null,null,null,null,null,null,null,null,null,null,null,null,null,null,null,null,null,"Весовая категория до","84",null,null,"кг",null,null,null,null,null,null,null,null,null,null,{"$f":"'Исходные данные по чемпионату'!C4","v":"с16 по 19 февраля 2018г."}]
[]
[]
[]
[]
[]
[]
[]
[]
[]
[]
[]
[null,null,null,null,null,null,null,null,null,null,null,null,null,null,null,null,null,"Чемпион"]
[]
[null,"№","Спортсмен","Шлем","Команда",null,null,null,null,null,null,null,null,null,null,{"$f":"IFERROR(VLOOKUP(CONCATENATE(S22,\" вес \",$W$6),'Участники чемпионата'!$A:$AA,7,0),\"\")","v":""},null,null,null,null,null,null,null,null,null,null,null,null,null,null,null,null,null,"№","Спортсмен","Шлем","Команда"]
[null,null,null,null,null,null,null,null,""]
[null,1,{"$f":"IFERROR(VLOOKUP(CONCATENATE(B22,\" вес \",$W$6),'Участники чемпионата'!$A:$AA,13,0),\"\")","v":"Багаутдинов Гамзатда"},{"$f":"IF(IFERROR(VLOOKUP(CONCATENATE(B22,\" вес \",$W$6),'Участники чемпионата'!$A:$AA,25,0),\"\")=\"Шлем\",\"Ш\",\"\")","v":""},{"$f":"IFERROR(VLOOKUP(CONCATENATE(B22,\" вес \",$W$6),'Участники чемпионата'!$A:$AA,5,0),\"\")","v":"г. Нижневартовск"},null,null,null,null,null,null,null,null,null,null,null,null,null,null,null,null,null,null,null,null,null,null,null,null,null,null,null,null,2,{"$f":"IFERROR(VLOOKUP(CONCATENATE(AH22,\" вес \",$W$6),'Участники чемпионата'!$A:$AA,13,0),\"\")","v":"Хатков Станислав"},{"$f":"IF(IFERROR(VLOOKUP(CONCATENATE(AH22,\" вес \",$W$6),'Участники чемпионата'!$A:$AA,25,0),\"\")=\"Шлем\",\"Ш\",\"\")","v":"Ш"},{"$f":"IFERROR(VLOOKUP(CONCATENATE(AH22,\" вес \",$W$6),'Участники чемпионата'!$A:$AA,5,0),\"\")","v":"г. Сургут"}]
[]
[]
[null,null,null,null,null,null,null,null,null,null,null,null,null,null,"Финал"]
[null,null,null,null,null,null,null,null,null,""]
[]
[null,null,null,null,null,null,null,null,null,null,null,null,null,null,null,null,null,null,null,"Участников:",{"$f":"HLOOKUP(W6,Мандатка!$C$4:$I$5,2,0)","v":4}]
[]
[]
[]
[]
[]
[]
[]
[]
[]
["скрыть"]
["скрыть"]
["скрыть"]
["скрыть"]
["скрыть"]
["скрыть"]
["скрыть"]
[]
[]
[]
[]
[]
[]
[]
[]
[]
[]
[]
[]
[]
[]
[]
[]
[null,null,"1 место"]
[null,{"$f":"IF(S22=\"\",\"\",S22)","v":""},{"$f":"IF(B62=\"\",\"\",IFERROR(VLOOKUP(CONCATENATE(B62,\" вес \",$W$6),'Участники чемпионата'!$A:$AA,13,0),\"\"))","v":""},{"$f":"IF(B62=\"\",\"\",IFERROR(VLOOKUP(CONCATENATE(B62,\" вес \",$W$6),'Участники чемпионата'!$A:$AA,5,0),\"\"))","v":""}]
[]
[null,null,"2 место"]
[null,{"$f":"IF(S22=\"\",\"\",IF(S22=AH22,B22,AH22))","v":""},{"$f":"IF(B65=\"\",\"\",IFERROR(VLOOKUP(CONCATENATE(B65,\" вес \",$W$6),'Участники чемпионата'!$A:$AA,13,0),\"\"))","v":""},{"$f":"IF(B65=\"\",\"\",IFERROR(VLOOKUP(CONCATENATE(B65,\" вес \",$W$6),'Участники чемпионата'!$A:$AA,5,0),\"\"))","v":""},null,null,null,null,null,null,null,null,null,null,null,null,null,null,null,null,null,null,null,null,null,null,null,null,null,null,null,null,null,"Главный судья соревнований",null,"/",{"$f":"IF(VLOOKUP(AH65,'Исходные данные по чемпионату'!B:C,2,0)=0,\"\",VLOOKUP(AH65,'Исходные данные по чемпионату'!B:C,2,0))","v":"Карташков К.В."},"/"]
[]
[]
[]
[null,null,null,null,null,null,null,null,null,null,null,null,null,null,null,null,null,null,null,null,null,null,null,null,null,null,null,null,null,null,null,null,null,"Главный секретарь",null,"/",{"$f":"IF(VLOOKUP(AH69,'Исходные данные по чемпионату'!B:C,2,0)=0,\"\",VLOOKUP(AH69,'Исходные данные по чемпионату'!B:C,2,0))","v":"Толстыгин А.Ю."},"/"]
[]
[null,null,null,null,null,null,null,null,null,null,null,null,null,null,null,null,null,null,null,null,null,null,null,null,null,null,null,null,null,null,null,null,null,null,null,null,null,0]
[]
[null,null,null,null,null,null,null,null,null,null,null,null,null,"Результат боя описание",null,null,null,null,null,null,null,null,null,null,null,null,null,null,null,null,null,null,null,null,"Финалисты"]
[null,null,null,null,null,null,null,null,null,null,null,null,null,{"$f":"'Unvisible Списки'!C9","v":"(ПО)"},null,null,null,{"$f":"'Unvisible Списки'!C27","v":"по очкам"},null,null,null,null,null,null,null,null,null,null,null,null,null,null,null,{"$f":"IF(B22=\"\",\"\",B22)","v":1},{"$f":"IFERROR(VLOOKUP(CONCATENATE(AH74,\" вес \",$W$6),'Участники чемпионата'!$A:$AA,13,0),\"\")","v":"Багаутдинов Гамзатда"},{"$f":"IFERROR(VLOOKUP(CONCATENATE(AH74,\" вес \",$W$6),'Участники чемпионата'!$A:$AA,5,0),\"\")","v":"г. Нижневартовск"}]
[null,null,null,null,null,null,null,null,null,null,null,null,null,{"$f":"'Unvisible Списки'!C10","v":"(КО)"},null,null,null,{"$f":"'Unvisible Списки'!C28","v":"нокаут"},null,null,null,null,null,null,null,null,null,null,null,null,null,null,null,{"$f":"IF(AH22=\"\",\"\",AH22)","v":2},{"$f":"IFERROR(VLOOKUP(CONCATENATE(AH75,\" вес \",$W$6),'Участники чемпионата'!$A:$AA,13,0),\"\")","v":"Хатков Станислав"},{"$f":"IFERROR(VLOOKUP(CONCATENATE(AH75,\" вес \",$W$6),'Участники чемпионата'!$A:$AA,5,0),\"\")","v":"г. Сургут"}]
[null,null,null,null,null,null,null,null,null,null,null,null,null,{"$f":"'Unvisible Списки'!C11","v":"(БЛ)"},null,null,null,{"$f":"'Unvisible Списки'!C29","v":"болевой/удушающий"}]
[null,null,null,null,null,null,null,null,null,null,null,null,null,{"$f":"'Unvisible Списки'!C12","v":"(ТКО)"},null,null,null,{"$f":"'Unvisible Списки'!C30","v":"технический нокаут"}]
[null,null,null,null,null,null,null,null,null,null,null,null,null,{"$f":"'Unvisible Списки'!C13","v":"(СН)"},null,null,null,{"$f":"'Unvisible Списки'!C31","v":"снятие врачом"}]
[null,null,null,null,null,null,null,null,null,null,null,null,null,{"$f":"'Unvisible Списки'!C14","v":"(ОТК)"},null,null,null,{"$f":"'Unvisible Списки'!C32","v":"отказ продолжать бой"}]
[null,null,null,null,null,null,null,null,null,null,null,null,null,{"$f":"'Unvisible Списки'!C15","v":"(ДСК)"},null,null,null,{"$f":"'Unvisible Списки'!C33","v":"Дисквалификация"}]
[null,null,null,null,null,null,null,null,null,null,null,null,null,{"$f":"'Unvisible Списки'!C16","v":"(РГСК)"},null,null,null,{"$f":"'Unvisible Списки'!C34","v":"решение главного судьи СК"}]
[null,null,null,null,null,null,null,null,null,null,null,null,null,{"$f":"'Unvisible Списки'!C17","v":"(НЯ)"},null,null,null,{"$f":"'Unvisible Списки'!C35","v":"неявка"}]

{"sheet":"Сетка0","index":24,"n_rows":71,"n_cols":38,"rows_kept":71,"cut":false,"hidden":true,"merged":[[26,1,31,36],[1,2,1,36],[3,5,3,33],[3,36,4,36],[5,22,5,24]]}
[]
[null,null,{"$f":"'Исходные данные по чемпионату'!C3","v":"Чемпионат ХМАО-Югры по СБЕ (ММА) среди муж. 18лет и старше,первенство среди юношей 16-17лет"}]
[]
[null,null,null,null,null,"ПРОТОКОЛ СОРЕВНОВАНИЙ",null,null,null,null,null,null,null,null,null,null,null,null,null,null,null,null,null,null,null,null,null,null,null,null,null,null,null,null,null,null,{"$f":"'Исходные данные по чемпионату'!C6","v":"г. Ханты-Мансийск"}]
[]
[null,null,null,null,null,null,null,null,null,null,null,null,null,null,null,null,null,null,null,null,null,"Весовая категория до","84",null,null,"кг",null,null,null,null,null,null,null,null,null,null,{"$f":"'Исходные данные по чемпионату'!C4","v":"с16 по 19 февраля 2018г."}]
[]
[]
[]
[]
[]
[]
[]
[]
[]
[]
[]
[]
[]
[]
[]
[]
[]
[]
[]
[]
[null,"Категория не состоялась!!!"]
[]
[]
[]
[]
[]
[]
[]
[]
[]
[]
["скрыть"]
["скрыть"]
["скрыть"]
["скрыть"]
["скрыть"]
["скрыть"]
["скрыть"]
[]
[]
[]
[]
[]
[]
[]
[]
[]
[]
[]
[]
[]
[]
[]
[]
[]
[]
[]
[]
[null,null,null,null,null,null,null,null,null,null,null,null,null,null,null,null,null,null,null,null,null,null,null,null,null,null,null,null,null,null,null,null,null,"Главный судья соревнований",null,"/",{"$f":"IF(VLOOKUP(AH65,'Исходные данные по чемпионату'!B:C,2,0)=0,\"\",VLOOKUP(AH65,'Исходные данные по чемпионату'!B:C,2,0))","v":"Карташков К.В."},"/"]
[]
[]
[]
[null,null,null,null,null,null,null,null,null,null,null,null,null,null,null,null,null,null,null,null,null,null,null,null,null,null,null,null,null,null,null,null,null,"Главный секретарь",null,"/",{"$f":"IF(VLOOKUP(AH69,'Исходные данные по чемпионату'!B:C,2,0)=0,\"\",VLOOKUP(AH69,'Исходные данные по чемпионату'!B:C,2,0))","v":"Толстыгин А.Ю."},"/"]
[]
[null,null,null,null,null,null,null,null,null,null,null,null,null,null,null,null,null,null,null,null,null,null,null,null,null,null,null,null,null,null,null,null,null,null,null,null,null,0]

{"sheet":"1. Титульный","index":25,"n_rows":209,"n_cols":9,"rows_kept":209,"cut":false,"hidden":false,"merged":[[159,8,162,27],[163,8,166,27],[167,8,170,27],[208,0,212,34],[198,0,202,34],[193,0,197,34],[203,0,207,34],[1,0,10,34],[76,0,100,34],[147,8,150,27],[151,8,154,27],[155,8,158,27],[107,0,129,34],[143,8,146,27],[139,8,142,27]]}
[]
["Общероссийская общественная организация «Союз смешанных боевых единоборств «ММА» России»"]
[]
[]
[]
[]
[]
[]
[]
[]
[]
[]
[]
[]
[]
[]
[]
[]
[]
[]
[]
[]
[]
[]
[]
[]
[]
[]
[]
[]
[]
[]
[]
[]
[]
[]
[]
[]
[]
[]
[]
[]
[]
[]
[]
[]
[]
[]
[]
[]
[]
[]
[]
[]
[]
[]
[]
[]
[]
[]
[]
[]
[]
[]
[]
[]
[]
[]
[]
[]
[]
[]
[]
[]
[]
[]
["ИТОГОВЫЙ ОТЧЁТ"]
[]
[]
[]
[]
[]
[]
[]
[]
[]
[]
[]
[]
[]
[]
[]
[]
[]
[]
[]
[]
[]
[]
[]
[]
[]
[]
[]
[]
[]
[]
["Чемпионат ХМАО-Югры по СБЕ (ММА) среди муж. 18лет и старше,первенство среди юношей 16-17лет"]
[]
[]
[]
[]
[]
[]
[]
[]
[]
[]
[]
[]
[]
[]
[]
[]
[]
[]
[]
[]
[]
[]
[]
[]
[]
[]
[]
[]
[]
[]
[]
[null,null,null,null,null,null,null,null,"до 56,7 кг:      номер-код спортивной дисциплины - "]
[]
[]
[]
[null,null,null,null,null,null,null,null,"до 61,2 кг:      номер-код спортивной дисциплины - "]
[]
[]
[]
[null,null,null,null,null,null,null,null,"до 65,8 кг:      номер-код спортивной дисциплины - 0720011812А"]
[]
[]
[]
[null,null,null,null,null,null,null,null,"до 70,3 кг:      номер-код спортивной дисциплины - 0720021812А"]
[]
[]
[]
[null,null,null,null,null,null,null,null,"до 77,1 кг:      номер-код спортивной дисциплины - 0720031812А"]
[]
[]
[]
[null,null,null,null,null,null,null,null,"до 84 кг:         номер-код спортивной дисциплины - 0720041812А"]
[]
[]
[]
[null,null,null,null,null,null,null,null,"до 93 кг:         номер-код спортивной дисциплины - 0720051812А"]
[]
[]
[]
[null,null,null,null,null,null,null,null,"свыше 93 кг: номер-код спортивной дисциплины - 0720061812А"]
[]
[]
[]
[]
[]
[]
[]
[]
[]
[]
[]
[]
[]
[]
[]
[]
[]
[]
[]
[]
[]
[]
[]
[]
[]
["с16 по 19 февраля 2018г."]
[]
[]
[]
[]
["Югра-Атлетикс"]
[]
[]
[]
[]
["ул. Отрадная 9"]
[]
[]
[]
[]
["г. Ханты-Мансийск"]

{"sheet":"2. Содержание","index":26,"n_rows":217,"n_cols":35,"rows_kept":217,"cut":false,"hidden":false,"merged":[[81,12,84,27],[113,12,116,27],[145,12,148,27],[81,10,84,11],[113,10,116,11],[145,10,148,11],[101,10,104,11],[216,34,218,34],[201,0,205,34],[206,0,210,34],[211,0,215,34],[141,10,144,11],[149,10,152,11],[165,12,168,27],[181,10,184,11],[181,12,184,27],[169,10,172,11],[173,10,176,11],[177,10,180,11],[165,10,168,11],[153,10,156,11],[157,10,160,11],[161,10,164,11],[1,0,10,34],[11,0,33,34],[45,0,54,34],[89,10,92,11],[93,10,96,11],[69,10,72,11],[73,10,76,11],[77,10,80,11],[85,10,88,11],[69,12,72,27],[73,12,76,27],[77,12,80,27],[89,12,92,27],[93,12,96,27],[85,12,88,27],[177,12,180,27],[173,12,176,27],[121,12,124,27],[149,12,152,27],[169,12,172,27],[161,12,164,27],[157,12,160,27],[153,12,156,27],[129,12,132,27],[133,12,136,27],[125,12,128,27],[97,12,100,27],[101,12,104,27],[105,12,108,27],[141,12,144,27],[121,10,124,11],[137,10,140,11],[137,12,140,27],[125,10,128,11],[129,10,132,11],[133,10,136,11],[109,12,112,27],[117,12,120,27],[105,10,108,11],[109,10,112,11],[117,10,120,11],[97,10,100,11]]}
[]
["Общероссийская общественная организация «Союз смешанных боевых единоборств «ММА» России»"]
[]
[]
[]
[]
[]
[]
[]
[]
[]
["Чемпионат ХМАО-Югры по СБЕ (ММА) среди муж. 18лет и старше,первенство среди юношей 16-17лет"]
[]
[]
[]
[]
[]
[]
[]
[]
[]
[]
[]
[]
[]
[]
[]
[]
[]
[]
[]
[]
[]
[]
[]
[]
[]
[]
[]
[]
[]
[]
[]
[]
[]
["Содержание"]
[]
[]
[]
[]
[]
[]
[]
[]
[]
[]
[]
[]
[]
[]
[]
[]
[]
[]
[]
[]
[]
[]
[]
[null,null,null,null,null,null,null,null,null,null,1,null,"Титульный лист"]
[]
[]
[]
[null,null,null,null,null,null,null,null,null,null,2,null,"Содержание"]
[]
[]
[]
[null,null,null,null,null,null,null,null,null,null,3,null,"Список судей"]
[]
[]
[]
[null,null,null,null,null,null,null,null,null,null,4,null,"Протокол взвешивания 56,7кг"]
[]
[]
[]
[null,null,null,null,null,null,null,null,null,null,5,null,"Протокол взвешивания 61,2кг"]
[]
[]
[]
[null,null,null,null,null,null,null,null,null,null,6,null,"Протокол взвешивания 65,8кг"]
[]
[]
[]
[null,null,null,null,null,null,null,null,null,null,7,null,"Протокол взвешивания 70,3кг"]
[]
[]
[]
[null,null,null,null,null,null,null,null,null,null,8,null,"Протокол взвешивания 77,1кг"]
[]
[]
[]
[null,null,null,null,null,null,null,null,null,null,9,null,"Протокол взвешивания 84кг"]
[]
[]
[]
[null,null,null,null,null,null,null,null,null,null,10,null,"Протокол взвешивания 93кг"]
[]
[]
[]
[null,null,null,null,null,null,null,null,null,null,11,null,"Протокол взвешивания 93+кг"]
[]
[]
[]
[null,null,null,null,null,null,null,null,null,null,12,null,"Протокол соревнования (Сетка) 56,7кг"]
[]
[]
[]
[null,null,null,null,null,null,null,null,null,null,13,null,"Протокол соревнования (Сетка) 61,2кг"]
[]
[]
[]
[null,null,null,null,null,null,null,null,null,null,14,null,"Протокол соревнования (Сетка) 65,8кг"]
[]
[]
[]
[null,null,null,null,null,null,null,null,null,null,15,null,"Протокол соревнования (Сетка) 70,3кг"]
[]
[]
[]
[null,null,null,null,null,null,null,null,null,null,16,null,"Протокол соревнования (Сетка) 77,1кг"]
[]
[]
[]
[null,null,null,null,null,null,null,null,null,null,17,null,"Протокол соревнования (Сетка) 84кг"]
[]
[]
[]
[null,null,null,null,null,null,null,null,null,null,18,null,"Протокол соревнования (Сетка) 93кг"]
[]
[]
[]
[null,null,null,null,null,null,null,null,null,null,19,null,"Протокол соревнования (Сетка) 93+кг"]
[]
[]
[]
[null,null,null,null,null,null,null,null,null,null,20,null,"Призеры 56,7кг"]
[]
[]
[]
[null,null,null,null,null,null,null,null,null,null,21,null,"Призеры 61,2кг"]
[]
[]
[]
[null,null,null,null,null,null,null,null,null,null,22,null,"Призеры 65,8кг"]
[]
[]
[]
[null,null,null,null,null,null,null,null,null,null,23,null,"Призеры 70,3кг"]
[]
[]
[]
[null,null,null,null,null,null,null,null,null,null,24,null,"Призеры 77,1кг"]
[]
[]
[]
[null,null,null,null,null,null,null,null,null,null,25,null,"Призеры 84кг"]
[]
[]
[]
[null,null,null,null,null,null,null,null,null,null,26,null,"Призеры 93кг"]
[]
[]
[]
[null,null,null,null,null,null,null,null,null,null,27,null,"Призеры 93+кг"]
[]
[]
[]
[null,null,null,null,null,null,null,null,null,null,28,null,"Протокол Командного первенства"]
[]
[]
[]
[null,null,null,null,null,null,null,null,null,null,29,null,"Итог чемпионата (1,2,3,3 места)"]
[]
[]
[]
[]
[]
[]
[]
[]
[]
[]
[]
[]
[]
[]
[]
[]
[]
[]
[]
["с16 по 19 февраля 2018г."]
[]
[]
[]
[]
["Югра-Атлетикс"]
[]
[]
[]
[]
["г. Ханты-Мансийск"]
[]
[]
[]
[]
[null,null,null,null,null,null,null,null,null,null,null,null,null,null,null,null,null,null,null,null,null,null,null,null,null,null,null,null,null,null,null,null,null,null,2]

{"sheet":"3. СпСудей","index":27,"n_rows":72,"n_cols":54,"rows_kept":72,"cut":false,"hidden":false,"merged":[[58,25,61,35],[58,36,61,41],[58,42,61,42],[58,43,61,51],[58,52,61,52],[71,53,73,53],[66,25,69,35],[66,36,69,41],[66,42,69,42],[66,43,69,51],[66,52,69,52],[16,1,20,1],[16,3,20,14],[16,15,20,28],[0,7,5,53],[9,17,13,36],[6,42,9,53],[10,42,13,53],[16,2,20,2],[16,29,20,45],[16,46,20,52]]}
[null,null,null,null,null,null,null,"Чемпионат ХМАО-Югры по СБЕ (ММА) среди муж. 18лет и старше,первенство среди юношей 16-17лет"]
[]
[]
[]
[]
[]
[null,null,null,null,null,null,null,null,null,null,null,null,null,null,null,null,null,null,null,null,null,null,null,null,null,null,null,null,null,null,null,null,null,null,null,null,null,null,null,null,null,null,"г. Ханты-Мансийск"]
[]
[]
[null,null,null,null,null,null,null,null,null,null,null,null,null,null,null,null,null,"СПИСОК СУДЕЙ"]
[null,null,null,null,null,null,null,null,null,null,null,null,null,null,null,null,null,null,null,null,null,null,null,null,null,null,null,null,null,null,null,null,null,null,null,null,null,null,null,null,null,null,"с16 по 19 февраля 2018г."]
[]
[null,1]
[]
[]
[]
[null,"№ пп","№ кат","Должность",null,null,null,null,null,null,null,null,null,null,null,"Ф.И.О. (полностью)",null,null,null,null,null,null,null,null,null,null,null,null,null,"Страна / Регион / Город",null,null,null,null,null,null,null,null,null,null,null,null,null,null,null,null,"Категория"]
[]
[]
[]
[]
[null,1,1,"Главный судья соревнований",null,null,null,null,null,null,null,null,null,null,null,"Карташков К.В.",null,null,null,null,null,null,null,null,null,null,null,null,null,"Россия      Челябинск",null,null,null,null,null,null,null,null,null,null,null,null,null,null,null,null,"ВК (всероссийская)"]
[null,2,1,"Главный секретарь",null,null,null,null,null,null,null,null,null,null,null,"Толстыгин А.Ю.",null,null,null,null,null,null,null,null,null,null,null,null,null,"Россия      Ханты-Мансийск",null,null,null,null,null,null,null,null,null,null,null,null,null,null,null,null,"ВК (всероссийская)"]
[null,3,1,"Руководитель ринга1",null,null,null,null,null,null,null,null,null,null,null,"Басарыгин Д",null,null,null,null,null,null,null,null,null,null,null,null,null,"Россия      Магнитогорск"]
[null,4,1,"Руководитель ринга2",null,null,null,null,null,null,null,null,null,null,null,"Щербакова Н.",null,null,null,null,null,null,null,null,null,null,null,null,null,"Россия      Тюмень"]
[null,5,1,"Рефери",null,null,null,null,null,null,null,null,null,null,null,"Панфилов А.",null,null,null,null,null,null,null,null,null,null,null,null,null,"Россия      Тюмень"]
[null,6,2,"Рефери",null,null,null,null,null,null,null,null,null,null,null,"Бебеев М.",null,null,null,null,null,null,null,null,null,null,null,null,null,"Россия      Тюмень"]
[null,7,3,"Рефери",null,null,null,null,null,null,null,null,null,null,null,"Пучинкин И.",null,null,null,null,null,null,null,null,null,null,null,null,null,"Россия      Сургут"]
[null,8,1,"Боковой судья",null,null,null,null,null,null,null,null,null,null,null,"Юлмухаметов Д.",null,null,null,null,null,null,null,null,null,null,null,null,null,"Россия      Челябинск"]
[null,9,2,"Боковой судья",null,null,null,null,null,null,null,null,null,null,null,"Завьялов А.",null,null,null,null,null,null,null,null,null,null,null,null,null,"Россия      Сургут"]
[null,10,3,"Боковой судья",null,null,null,null,null,null,null,null,null,null,null,"Фокин Н.",null,null,null,null,null,null,null,null,null,null,null,null,null,"Россия      Сургут"]
[null,11,4,"Боковой судья",null,null,null,null,null,null,null,null,null,null,null,"Гаджиханов Р.",null,null,null,null,null,null,null,null,null,null,null,null,null,"Россия      Сургут"]
[null,12,5,"Боковой судья",null,null,null,null,null,null,null,null,null,null,null,null,null,null,null,null,null,null,null,null,null,null,null,null,null,"Россия      "]
[null,13,6,"Боковой судья",null,null,null,null,null,null,null,null,null,null,null,null,null,null,null,null,null,null,null,null,null,null,null,null,null,"Россия      "]
[null,14,1,"Судья-секондуметрист",null,null,null,null,null,null,null,null,null,null,null,null,null,null,null,null,null,null,null,null,null,null,null,null,null,"Россия      "]
[null,15,2,"Судья-секондуметрист",null,null,null,null,null,null,null,null,null,null,null,null,null,null,null,null,null,null,null,null,null,null,null,null,null,"Россия      "]
[]
[]
[]
[]
[]
[]
[]
[]
[]
[]
[]
[]
[]
[]
[]
[]
[]
[]
[]
[]
[]
[]
[null,null,null,null,null,null,null,null,null,null,null,null,null,null,null,null,null,null,null,null,null,null,null,null,null,"Главный судья соревнований",null,null,null,null,null,null,null,null,null,null,null,null,null,null,null,null,"/","Карташков К.В.",null,null,null,null,null,null,null,null,"/"]
[]
[]
[]
[]
[]
[]
[]
[null,null,null,null,null,null,null,null,null,null,null,null,null,null,null,null,null,null,null,null,null,null,null,null,null,"Главный секретарь",null,null,null,null,null,null,null,null,null,null,null,null,null,null,null,null,"/","Толстыгин А.Ю.",null,null,null,null,null,null,null,null,"/"]
[]
[]
[]
[]
[null,null,null,null,null,null,null,null,null,null,null,null,null,null,null,null,null,null,null,null,null,null,null,null,null,null,null,null,null,null,null,null,null,null,null,null,null,null,null,null,null,null,null,null,null,null,null,null,null,null,null,null,null,3]

{"sheet":"4. ПВ 61,2","index":28,"n_rows":72,"n_cols":47,"rows_kept":72,"cut":false,"hidden":false,"merged":[[71,46,73,46],[17,27,21,38],[17,39,21,45],[58,18,61,28],[58,29,61,34],[58,35,61,35],[58,36,61,44],[58,45,61,45],[17,19,21,26],[66,18,69,28],[66,29,69,34],[66,35,69,35],[66,36,69,44],[66,45,69,45],[17,1,21,1],[17,2,21,15],[17,16,21,16],[17,17,21,17],[17,18,21,18],[0,7,5,46],[6,16,10,29],[6,35,9,46],[10,35,13,46],[12,17,15,22],[12,23,15,24],[12,25,15,26]]}
[null,null,null,null,null,null,null,"Чемпионат ХМАО-Югры по СБЕ (ММА) среди муж. 18лет и старше,первенство среди юношей 16-17лет"]
[]
[]
[]
[]
[]
[null,null,null,null,null,null,null,null,null,null,null,null,null,null,null,null,"ПРОТОКОЛ ВЗВЕШИВАНИЯ",null,null,null,null,null,null,null,null,null,null,null,null,null,null,null,null,null,null,"г. Ханты-Мансийск"]
[]
[]
[]
[null,null,null,null,null,null,null,null,null,null,null,null,null,null,null,null,null,null,null,null,null,null,null,null,null,null,null,null,null,null,null,null,null,null,null,"с16 по 19 февраля 2018г."]
[]
[null,null,null,null,null,null,null,null,null,null,null,null,null,null,null,null,null,"Весовая категория до",null,null,null,null,null,61.2,null,"кг"]
[]
[]
[]
[]
[null,"№ кат","Ф.И.О. (полностью)",null,null,null,null,null,null,null,null,null,null,null,null,null,"Дата рожд.","Факт. Вес","Разряд","Тренер",null,null,null,null,null,null,null,"Команда",null,null,null,null,null,null,null,null,null,null,null,"Клуб"]
[]
[]
[]
[]
[null,1,"Балащенко Динат Сергеевич",null,null,null,null,null,null,null,null,null,null,null,null,null,"1998-12-01",61.2,null,"Казбеков Т.Г.",null,null,null,null,null,null,null,"г. Нижневартовск"]
[null,2,"Латипов Эльдар Магомедович",null,null,null,null,null,null,null,null,null,null,null,null,null,"1994-04-29",61.2,"КМС","Мамедов Р.А.,Хабибулаев А.Р.",null,null,null,null,null,null,null,"Скорпион (г. Лангепас)"]
[null,3,"Абдуллаев Элшан Равшан оглы",null,null,null,null,null,null,null,null,null,null,null,null,null,"1992-10-22",61.2,null,"Казбеков Т.Г.",null,null,null,null,null,null,null,"г. Нижневартовск (СБЕ КОБРА)"]
[null,4,"Наврузов Расул Иманмуратович",null,null,null,null,null,null,null,null,null,null,null,null,null,"1990-03-19",61.2,"КМС","Изабеков А.З.",null,null,null,null,null,null,null,"г. Сургут"]
[null,5,"Рыбин Олег Александрович",null,null,null,null,null,null,null,null,null,null,null,null,null,"1984-06-12",61.2,"КМС","Магеррамов Н.О., Магеррамов Р.О.",null,null,null,null,null,null,null,"г. Ханты-Мансийск"]
[null,6,"Магомедов Хайрулла Магомедович",null,null,null,null,null,null,null,null,null,null,null,null,null,"1996-03-18",61.2,"КМС","Бывалин Е.С.",null,null,null,null,null,null,null,"г. Ханты-Мансийск"]
[null,7,"Джумакаев Абдулбек Арабдинович",null,null,null,null,null,null,null,null,null,null,null,null,null,"1998-08-02",61.2,null,"Бывалин Е.С.",null,null,null,null,null,null,null,"г. Ханты-Мансийск"]
[null,8,"Ильясов Магомед Ильясович",null,null,null,null,null,null,null,null,null,null,null,null,null,"1991-03-08",61.2,null,"Бывалин Е.С.",null,null,null,null,null,null,null,"г. Ханты-Мансийск"]
[null,9,"Юсупов Багавдин Ахмедович",null,null,null,null,null,null,null,null,null,null,null,null,null,"1998-12-01",61.2,null,"Сиражудинов Р.С.",null,null,null,null,null,null,null,"СДЮСШОР \"СПАРТАК\" (г.Нефтеюганск)"]
[null,10,"Гимаев Ильвир Ильгизович",null,null,null,null,null,null,null,null,null,null,null,null,null,"1988-06-04",61.2,null,"Казбеков Т.Г.",null,null,null,null,null,null,null,"г. Нижневартовск (СБЕ КОБРА)"]
[]
[]
[]
[]
[]
[]
[]
[]
[]
[]
[]
[]
[]
[]
[]
[]
[]
[]
[]
[]
[]
[]
[]
[]
[]
[]
[null,null,null,null,null,null,null,null,null,null,null,null,null,null,null,null,null,null,"Главный судья соревнований",null,null,null,null,null,null,null,null,null,null,null,null,null,null,null,null,"/","Карташков К.В.",null,null,null,null,null,null,null,null,"/"]
[]
[]
[]
[]
[]
[]
[]
[null,null,null,null,null,null,null,null,null,null,null,null,null,null,null,null,null,null,"Главный секретарь",null,null,null,null,null,null,null,null,null,null,null,null,null,null,null,null,"/","Толстыгин А.Ю.",null,null,null,null,null,null,null,null,"/"]
[]
[]
[]
[]
[null,null,null,null,null,null,null,null,null,null,null,null,null,null,null,null,null,null,null,null,null,null,null,null,null,null,null,null,null,null,null,null,null,null,null,null,null,null,null,null,null,null,null,null,null,null,4]

{"sheet":"5. ПВ 65,8","index":29,"n_rows":72,"n_cols":47,"rows_kept":72,"cut":false,"hidden":false,"merged":[[12,17,15,22],[12,23,15,24],[12,25,15,26],[6,16,10,29],[0,7,5,46],[6,35,9,46],[10,35,13,46],[17,39,21,45],[17,1,21,1],[17,2,21,15],[17,16,21,16],[17,17,21,17],[17,18,21,18],[17,27,21,38],[17,19,21,26],[66,18,69,28],[58,29,61,34],[58,35,61,35],[58,36,61,44],[58,45,61,45],[58,18,61,28],[71,46,73,46],[66,29,69,34],[66,35,69,35],[66,36,69,44],[66,45,69,45]]}
[null,null,null,null,null,null,null,"Чемпионат ХМАО-Югры по СБЕ (ММА) среди муж. 18лет и старше,первенство среди юношей 16-17лет"]
[]
[]
[]
[]
[]
[null,null,null,null,null,null,null,null,null,null,null,null,null,null,null,null,"ПРОТОКОЛ ВЗВЕШИВАНИЯ",null,null,null,null,null,null,null,null,null,null,null,null,null,null,null,null,null,null,"г. Ханты-Мансийск"]
[]
[]
[]
[null,null,null,null,null,null,null,null,null,null,null,null,null,null,null,null,null,null,null,null,null,null,null,null,null,null,null,null,null,null,null,null,null,null,null,"с16 по 19 февраля 2018г."]
[]
[null,null,null,null,null,null,null,null,null,null,null,null,null,null,null,null,null,"Весовая категория до",null,null,null,null,null,65.8,null,"кг"]
[]
[]
[]
[]
[null,"№ кат","Ф.И.О. (полностью)",null,null,null,null,null,null,null,null,null,null,null,null,null,"Дата рожд.","Факт. Вес","Разряд","Тренер",null,null,null,null,null,null,null,"Команда",null,null,null,null,null,null,null,null,null,null,null,"Клуб"]
[]
[]
[]
[]
[null,1,"Мамедов Руслан Ширванович",null,null,null,null,null,null,null,null,null,null,null,null,null,"1996-11-02",65.8,null,"Мамедов Р.А.,Хабибулаев А.Р.",null,null,null,null,null,null,null,"Скорпион (г. Лангепас)"]
[null,2,"Бердиев Шахзод Шахобидинович",null,null,null,null,null,null,null,null,null,null,null,null,null,"1998-09-14",65.8,"КМС","Сиражудинов Р.С.",null,null,null,null,null,null,null,"СДЮСШОР \"СПАРТАК\" (г.Нефтеюганск)"]
[null,3,"Рамазанов Джамал Камал оглы",null,null,null,null,null,null,null,null,null,null,null,null,null,"1997-06-30",65.8,null,"Сиражудинов Р.С.",null,null,null,null,null,null,null,"СДЮСШОР \"СПАРТАК\" (г.Нефтеюганск)"]
[null,4,"Дадаев Мансур Муслимович",null,null,null,null,null,null,null,null,null,null,null,null,null,"1999-01-17",65.8,"КМС","Бывалин Е.С.",null,null,null,null,null,null,null,"г. Ханты-Мансийск"]
[null,5,"Григоров Максим Андреевич",null,null,null,null,null,null,null,null,null,null,null,null,null,"1994-08-07",65.8,null,"Бывалин Е.С.",null,null,null,null,null,null,null,"г. Ханты-Мансийск"]
[null,6,"Адыгешаов Расим Мухамедович",null,null,null,null,null,null,null,null,null,null,null,null,null,"1998-01-26",65.8,"КМС","Кучкин А.В.",null,null,null,null,null,null,null,"г. Сургут"]
[null,7,"Гаджиахмедов Магомед Гаджиевич",null,null,null,null,null,null,null,null,null,null,null,null,null,"1996-08-30",65.8,"КМС","Изабеков А.З.",null,null,null,null,null,null,null,"г. Сургут"]
[null,8,"Ильясов Гасан Нурутдинович",null,null,null,null,null,null,null,null,null,null,null,null,null,"1999-04-12",65.8,"КМС","Изабеков А.З.",null,null,null,null,null,null,null,"г. Сургут"]
[null,9,"Касумов  Али Магомедрасулович",null,null,null,null,null,null,null,null,null,null,null,null,null,"1989-12-11",65.8,null,"Дибиров М.М.",null,null,null,null,null,null,null,"г. Сургут"]
[null,10,"Магомедов Бурагим Магомедович",null,null,null,null,null,null,null,null,null,null,null,null,null,"1996-07-09",65.8,null,"Бадабиев Р.С.,Халитов В.Р.",null,null,null,null,null,null,null,"г. Нижневартовск"]
[]
[]
[]
[]
[]
[]
[]
[]
[]
[]
[]
[]
[]
[]
[]
[]
[]
[]
[]
[]
[]
[]
[]
[]
[]
[]
[null,null,null,null,null,null,null,null,null,null,null,null,null,null,null,null,null,null,"Главный судья соревнований",null,null,null,null,null,null,null,null,null,null,null,null,null,null,null,null,"/","Карташков К.В.",null,null,null,null,null,null,null,null,"/"]
[]
[]
[]
[]
[]
[]
[]
[null,null,null,null,null,null,null,null,null,null,null,null,null,null,null,null,null,null,"Главный секретарь",null,null,null,null,null,null,null,null,null,null,null,null,null,null,null,null,"/","Толстыгин А.Ю.",null,null,null,null,null,null,null,null,"/"]
[]
[]
[]
[]
[null,null,null,null,null,null,null,null,null,null,null,null,null,null,null,null,null,null,null,null,null,null,null,null,null,null,null,null,null,null,null,null,null,null,null,null,null,null,null,null,null,null,null,null,null,null,5]

{"sheet":"6. ПВ 70,3","index":30,"n_rows":72,"n_cols":47,"rows_kept":72,"cut":false,"hidden":false,"merged":[[0,7,5,46],[6,16,10,29],[6,35,9,46],[10,35,13,46],[12,17,15,22],[12,23,15,24],[12,25,15,26],[17,1,21,1],[17,2,21,15],[17,16,21,16],[17,17,21,17],[17,18,21,18],[17,39,21,45],[17,19,21,26],[17,27,21,38],[71,46,73,46],[58,18,61,28],[58,29,61,34],[58,35,61,35],[58,36,61,44],[58,45,61,45],[66,18,69,28],[66,29,69,34],[66,35,69,35],[66,36,69,44],[66,45,69,45]]}
[null,null,null,null,null,null,null,"Чемпионат ХМАО-Югры по СБЕ (ММА) среди муж. 18лет и старше,первенство среди юношей 16-17лет"]
[]
[]
[]
[]
[]
[null,null,null,null,null,null,null,null,null,null,null,null,null,null,null,null,"ПРОТОКОЛ ВЗВЕШИВАНИЯ",null,null,null,null,null,null,null,null,null,null,null,null,null,null,null,null,null,null,"г. Ханты-Мансийск"]
[]
[]
[]
[null,null,null,null,null,null,null,null,null,null,null,null,null,null,null,null,null,null,null,null,null,null,null,null,null,null,null,null,null,null,null,null,null,null,null,"с16 по 19 февраля 2018г."]
[]
[null,null,null,null,null,null,null,null,null,null,null,null,null,null,null,null,null,"Весовая категория до",null,null,null,null,null,70.3,null,"кг"]
[]
[]
[]
[]
[null,"№ кат","Ф.И.О. (полностью)",null,null,null,null,null,null,null,null,null,null,null,null,null,"Дата рожд.","Факт. Вес","Разряд","Тренер",null,null,null,null,null,null,null,"Команда",null,null,null,null,null,null,null,null,null,null,null,"Клуб"]
[]
[]
[]
[]
[null,1,"Хабибулаев Алибек Расулович",null,null,null,null,null,null,null,null,null,null,null,null,null,"1986-11-14",70.3,"МС","Мамедов Р.А.,Хабибулаев А.Р.",null,null,null,null,null,null,null,"Скорпион (г. Лангепас)"]
[null,2,"Гаджиев Халид Мухтарович",null,null,null,null,null,null,null,null,null,null,null,null,null,"1990-07-23",70.3,"МС","Гаджиев Х.М.",null,null,null,null,null,null,null,"г. Нижневартовск"]
[null,3,"Бондарчук Иван Викторович",null,null,null,null,null,null,null,null,null,null,null,null,null,"1997-07-02",70.3,null,"Завьялов А.В.",null,null,null,null,null,null,null,"г. Сургут"]
[null,4,"Мирзаев Ибрагим Габибуллаевич",null,null,null,null,null,null,null,null,null,null,null,null,null,"1995-07-17",70.3,null,"Казбеков Т.Г.",null,null,null,null,null,null,null,"г. Нижневартовск (СБЕ КОБРА)"]
[null,5,"Мирзораджаб Мирзонодир ",null,null,null,null,null,null,null,null,null,null,null,null,null,"1991-12-27",70.3,null,"Гаджиев Х.М.",null,null,null,null,null,null,null,"г. Нижневартовск"]
[null,6,"Наврузалиев Камиль Шакирович",null,null,null,null,null,null,null,null,null,null,null,null,null,"1995-11-30",70.3,"КМС","Дибиров М.М.",null,null,null,null,null,null,null,"г. Сургут"]
[null,7,"Киричевский Максим Викторович",null,null,null,null,null,null,null,null,null,null,null,null,null,"1997-11-30",70.3,"КМС","Дибиров М.М.",null,null,null,null,null,null,null,"г. Сургут"]
[null,8,"Лупарев Максим Александрович",null,null,null,null,null,null,null,null,null,null,null,null,null,"1999-01-20",70.3,"КМС","Гаджиханов Р.",null,null,null,null,null,null,null,"г. Сургут"]
[null,9,"Рамазанов Рамазан Газимагомедович",null,null,null,null,null,null,null,null,null,null,null,null,null,"1997-06-13",70.3,null,"Бадабиев Р.С.,Халитов В.Р.",null,null,null,null,null,null,null,"г. Нижневартовск"]
[]
[]
[]
[]
[]
[]
[]
[]
[]
[]
[]
[]
[]
[]
[]
[]
[]
[]
[]
[]
[]
[]
[]
[]
[]
[]
[]
[null,null,null,null,null,null,null,null,null,null,null,null,null,null,null,null,null,null,"Главный судья соревнований",null,null,null,null,null,null,null,null,null,null,null,null,null,null,null,null,"/","Карташков К.В.",null,null,null,null,null,null,null,null,"/"]
[]
[]
[]
[]
[]
[]
[]
[null,null,null,null,null,null,null,null,null,null,null,null,null,null,null,null,null,null,"Главный секретарь",null,null,null,null,null,null,null,null,null,null,null,null,null,null,null,null,"/","Толстыгин А.Ю.",null,null,null,null,null,null,null,null,"/"]
[]
[]
[]
[]
[null,null,null,null,null,null,null,null,null,null,null,null,null,null,null,null,null,null,null,null,null,null,null,null,null,null,null,null,null,null,null,null,null,null,null,null,null,null,null,null,null,null,null,null,null,null,6]

{"sheet":"7. ПВ 77,1","index":31,"n_rows":72,"n_cols":47,"rows_kept":72,"cut":false,"hidden":false,"merged":[[0,7,5,46],[6,16,10,29],[6,35,9,46],[10,35,13,46],[12,17,15,22],[12,23,15,24],[12,25,15,26],[17,1,21,1],[17,2,21,15],[17,16,21,16],[17,17,21,17],[17,18,21,18],[17,39,21,45],[17,19,21,26],[17,27,21,38],[58,18,61,28],[58,29,61,34],[58,35,61,35],[58,36,61,44],[58,45,61,45],[71,46,73,46],[66,18,69,28],[66,29,69,34],[66,35,69,35],[66,36,69,44],[66,45,69,45]]}
[null,null,null,null,null,null,null,"Чемпионат ХМАО-Югры по СБЕ (ММА) среди муж. 18лет и старше,первенство среди юношей 16-17лет"]
[]
[]
[]
[]
[]
[null,null,null,null,null,null,null,null,null,null,null,null,null,null,null,null,"ПРОТОКОЛ ВЗВЕШИВАНИЯ",null,null,null,null,null,null,null,null,null,null,null,null,null,null,null,null,null,null,"г. Ханты-Мансийск"]
[]
[]
[]
[null,null,null,null,null,null,null,null,null,null,null,null,null,null,null,null,null,null,null,null,null,null,null,null,null,null,null,null,null,null,null,null,null,null,null,"с16 по 19 февраля 2018г."]
[]
[null,null,null,null,null,null,null,null,null,null,null,null,null,null,null,null,null,"Весовая категория до",null,null,null,null,null,77.099999999999994,null,"кг"]
[]
[]
[]
[]
[null,"№ кат","Ф.И.О. (полностью)",null,null,null,null,null,null,null,null,null,null,null,null,null,"Дата рожд.","Факт. Вес","Разряд","Тренер",null,null,null,null,null,null,null,"Команда",null,null,null,null,null,null,null,null,null,null,null,"Клуб"]
[]
[]
[]
[]
[null,1,"Расулов Магомедсайгид Магомедсаидович",null,null,null,null,null,null,null,null,null,null,null,null,null,"1995-08-19",77.099999999999994,"КМС","Бывалин Е.С.",null,null,null,null,null,null,null,"г. Ханты-Мансийск"]
[null,2,"Тарикулиев Заур Рамазанович",null,null,null,null,null,null,null,null,null,null,null,null,null,"1991-06-03",77.099999999999994,"МС","Сиражудинов Р.С.",null,null,null,null,null,null,null,"СДЮСШОР \"СПАРТАК\" (г.Нефтеюганск)"]
[null,3,"Костылевский Руслан Александрович",null,null,null,null,null,null,null,null,null,null,null,null,null,"1993-03-22",77.099999999999994,null,"Тагаев Э.Т.",null,null,null,null,null,null,null,"г.Белоярский"]
[null,4,"Магомедов Ахмед Умарович",null,null,null,null,null,null,null,null,null,null,null,null,null,"1999-12-07",77.099999999999994,null,"Бывалин Е.С.",null,null,null,null,null,null,null,"г. Ханты-Мансийск"]
[null,5,"Шапиев Абдулталип Эльбрусович",null,null,null,null,null,null,null,null,null,null,null,null,null,"1996-05-10",77.099999999999994,null,"Мамедов Р.А.,Хабибулаев А.Р.",null,null,null,null,null,null,null,"Скорпион (г. Лангепас)"]
[null,6,"Роговой Владимир Александрович",null,null,null,null,null,null,null,null,null,null,null,null,null,"1992-04-28",77.099999999999994,"КМС","Изабеков А.З.",null,null,null,null,null,null,null,"г. Сургут"]
[null,7,"Юсупов Магомед Абулмуслимович",null,null,null,null,null,null,null,null,null,null,null,null,null,"1993-09-22",77.099999999999994,"КМС","Изабеков А.З.",null,null,null,null,null,null,null,"г. Сургут"]
[null,8,"Муслимов Азамат Мурадович",null,null,null,null,null,null,null,null,null,null,null,null,null,"1993-08-02",77.099999999999994,"КМС","Изабеков А.З.",null,null,null,null,null,null,null,"г. Сургут"]
[null,9,"Серков Вадим Игоревич",null,null,null,null,null,null,null,null,null,null,null,null,null,"1993-07-11",77.099999999999994,"КМС","Изабеков А.З.",null,null,null,null,null,null,null,"г. Сургут"]
[null,10,"Ахмедов Равидин Ахмедович",null,null,null,null,null,null,null,null,null,null,null,null,null,"1989-05-28",77.099999999999994,"КМС","Кучкин А.В.",null,null,null,null,null,null,null,"г. Сургут"]
[null,11,"Сальников Ярослав Викторович",null,null,null,null,null,null,null,null,null,null,null,null,null,"1990-09-04",77.099999999999994,"КМС","Изабеков А.З.",null,null,null,null,null,null,null,"г. Сургут"]
[]
[]
[]
[]
[]
[]
[]
[]
[]
[]
[]
[]
[]
[]
[]
[]
[]
[]
[]
[]
[]
[]
[]
[]
[]
[null,null,null,null,null,null,null,null,null,null,null,null,null,null,null,null,null,null,"Главный судья соревнований",null,null,null,null,null,null,null,null,null,null,null,null,null,null,null,null,"/","Карташков К.В.",null,null,null,null,null,null,null,null,"/"]
[]
[]
[]
[]
[]
[]
[]
[null,null,null,null,null,null,null,null,null,null,null,null,null,null,null,null,null,null,"Главный секретарь",null,null,null,null,null,null,null,null,null,null,null,null,null,null,null,null,"/","Толстыгин А.Ю.",null,null,null,null,null,null,null,null,"/"]
[]
[]
[]
[]
[null,null,null,null,null,null,null,null,null,null,null,null,null,null,null,null,null,null,null,null,null,null,null,null,null,null,null,null,null,null,null,null,null,null,null,null,null,null,null,null,null,null,null,null,null,null,7]

{"sheet":"8. ПВ 84","index":32,"n_rows":72,"n_cols":47,"rows_kept":72,"cut":false,"hidden":false,"merged":[[0,7,5,46],[6,16,10,29],[6,35,9,46],[10,35,13,46],[12,17,15,22],[12,23,15,24],[12,25,15,26],[17,1,21,1],[17,2,21,15],[17,16,21,16],[17,17,21,17],[17,18,21,18],[17,39,21,45],[17,19,21,26],[17,27,21,38],[58,18,61,28],[58,29,61,34],[58,35,61,35],[58,36,61,44],[58,45,61,45],[71,46,73,46],[66,18,69,28],[66,29,69,34],[66,35,69,35],[66,36,69,44],[66,45,69,45]]}
[null,null,null,null,null,null,null,"Чемпионат ХМАО-Югры по СБЕ (ММА) среди муж. 18лет и старше,первенство среди юношей 16-17лет"]
[]
[]
[]
[]
[]
[null,null,null,null,null,null,null,null,null,null,null,null,null,null,null,null,"ПРОТОКОЛ ВЗВЕШИВАНИЯ",null,null,null,null,null,null,null,null,null,null,null,null,null,null,null,null,null,null,"г. Ханты-Мансийск"]
[]
[]
[]
[null,null,null,null,null,null,null,null,null,null,null,null,null,null,null,null,null,null,null,null,null,null,null,null,null,null,null,null,null,null,null,null,null,null,null,"с16 по 19 февраля 2018г."]
[]
[null,null,null,null,null,null,null,null,null,null,null,null,null,null,null,null,null,"Весовая категория до",null,null,null,null,null,84,null,"кг"]
[]
[]
[]
[]
[null,"№ кат","Ф.И.О. (полностью)",null,null,null,null,null,null,null,null,null,null,null,null,null,"Дата рожд.","Факт. Вес","Разряд","Тренер",null,null,null,null,null,null,null,"Команда",null,null,null,null,null,null,null,null,null,null,null,"Клуб"]
[]
[]
[]
[]
[null,1,"Багаутдинов Гамзатда Алиевич",null,null,null,null,null,null,null,null,null,null,null,null,null,"1994-09-15",84,null,"Казбеков Т.Г.",null,null,null,null,null,null,null,"г. Нижневартовск"]
[null,2,"Хатков Станислав Эдуардович",null,null,null,null,null,null,null,null,null,null,null,null,null,"1998-02-27",84,"КМС","Кучкин А.В.",null,null,null,null,null,null,null,"г. Сургут"]
[null,3,"Мамедов Нариман Алибиевич",null,null,null,null,null,null,null,null,null,null,null,null,null,"1998-06-05",84,null,"Сиражудинов Р.С.",null,null,null,null,null,null,null,"СДЮСШОР \"СПАРТАК\" (г.Нефтеюганск)"]
[null,4,"Солтанов Нариман Камилович",null,null,null,null,null,null,null,null,null,null,null,null,null,"1988-12-26",84,"МС","Сиражудинов Р.С.",null,null,null,null,null,null,null,"СДЮСШОР \"СПАРТАК\" (г.Нефтеюганск)"]
[]
[]
[]
[]
[]
[]
[]
[]
[]
[]
[]
[]
[]
[]
[]
[]
[]
[]
[]
[]
[]
[]
[]
[]
[]
[]
[]
[]
[]
[]
[]
[]
[null,null,null,null,null,null,null,null,null,null,null,null,null,null,null,null,null,null,"Главный судья соревнований",null,null,null,null,null,null,null,null,null,null,null,null,null,null,null,null,"/","Карташков К.В.",null,null,null,null,null,null,null,null,"/"]
[]
[]
[]
[]
[]
[]
[]
[null,null,null,null,null,null,null,null,null,null,null,null,null,null,null,null,null,null,"Главный секретарь",null,null,null,null,null,null,null,null,null,null,null,null,null,null,null,null,"/","Толстыгин А.Ю.",null,null,null,null,null,null,null,null,"/"]
[]
[]
[]
[]
[null,null,null,null,null,null,null,null,null,null,null,null,null,null,null,null,null,null,null,null,null,null,null,null,null,null,null,null,null,null,null,null,null,null,null,null,null,null,null,null,null,null,null,null,null,null,8]

{"sheet":"9. ПВ 93","index":33,"n_rows":72,"n_cols":47,"rows_kept":72,"cut":false,"hidden":false,"merged":[[0,7,5,46],[6,16,10,29],[6,35,9,46],[10,35,13,46],[12,17,15,22],[12,23,15,24],[12,25,15,26],[17,1,21,1],[17,2,21,15],[17,16,21,16],[17,17,21,17],[17,18,21,18],[17,39,21,45],[17,19,21,26],[17,27,21,38],[58,18,61,28],[58,29,61,34],[58,35,61,35],[58,36,61,44],[58,45,61,45],[71,46,73,46],[66,18,69,28],[66,29,69,34],[66,35,69,35],[66,36,69,44],[66,45,69,45]]}
[null,null,null,null,null,null,null,"Чемпионат ХМАО-Югры по СБЕ (ММА) среди муж. 18лет и старше,первенство среди юношей 16-17лет"]
[]
[]
[]
[]
[]
[null,null,null,null,null,null,null,null,null,null,null,null,null,null,null,null,"ПРОТОКОЛ ВЗВЕШИВАНИЯ",null,null,null,null,null,null,null,null,null,null,null,null,null,null,null,null,null,null,"г. Ханты-Мансийск"]
[]
[]
[]
[null,null,null,null,null,null,null,null,null,null,null,null,null,null,null,null,null,null,null,null,null,null,null,null,null,null,null,null,null,null,null,null,null,null,null,"с16 по 19 февраля 2018г."]
[]
[null,null,null,null,null,null,null,null,null,null,null,null,null,null,null,null,null,"Весовая категория до",null,null,null,null,null,93,null,"кг"]
[]
[]
[]
[]
[null,"№ кат","Ф.И.О. (полностью)",null,null,null,null,null,null,null,null,null,null,null,null,null,"Дата рожд.","Факт. Вес","Разряд","Тренер",null,null,null,null,null,null,null,"Команда",null,null,null,null,null,null,null,null,null,null,null,"Клуб"]
[]
[]
[]
[]
[null,1,"Расулов Абдуллатип Халидбекович",null,null,null,null,null,null,null,null,null,null,null,null,null,"1997-09-18",93,null,"Мамедов Р.А.,Хабибулаев А.Р.",null,null,null,null,null,null,null,"Скорпион (г. Лангепас)"]
[null,2,"Хебдеев Гаджимурад Тинамагомедович",null,null,null,null,null,null,null,null,null,null,null,null,null,"1992-05-01",93,null,"Сиражудинов Р.С.",null,null,null,null,null,null,null,"СДЮСШОР \"СПАРТАК\" (г.Нефтеюганск)"]
[]
[]
[]
[]
[]
[]
[]
[]
[]
[]
[]
[]
[]
[]
[]
[]
[]
[]
[]
[]
[]
[]
[]
[]
[]
[]
[]
[]
[]
[]
[]
[]
[]
[]
[null,null,null,null,null,null,null,null,null,null,null,null,null,null,null,null,null,null,"Главный судья соревнований",null,null,null,null,null,null,null,null,null,null,null,null,null,null,null,null,"/","Карташков К.В.",null,null,null,null,null,null,null,null,"/"]
[]
[]
[]
[]
[]
[]
[]
[null,null,null,null,null,null,null,null,null,null,null,null,null,null,null,null,null,null,"Главный секретарь",null,null,null,null,null,null,null,null,null,null,null,null,null,null,null,null,"/","Толстыгин А.Ю.",null,null,null,null,null,null,null,null,"/"]
[]
[]
[]
[]
[null,null,null,null,null,null,null,null,null,null,null,null,null,null,null,null,null,null,null,null,null,null,null,null,null,null,null,null,null,null,null,null,null,null,null,null,null,null,null,null,null,null,null,null,null,null,9]

{"sheet":"10. ПВ 93+","index":34,"n_rows":72,"n_cols":47,"rows_kept":72,"cut":false,"hidden":false,"merged":[[0,7,5,46],[6,16,10,29],[6,35,9,46],[10,35,13,46],[12,17,15,22],[12,23,15,24],[12,25,15,26],[17,1,21,1],[17,2,21,15],[17,16,21,16],[17,17,21,17],[17,18,21,18],[17,39,21,45],[17,19,21,26],[17,27,21,38],[58,18,61,28],[58,29,61,34],[58,35,61,35],[58,36,61,44],[58,45,61,45],[71,46,73,46],[66,18,69,28],[66,29,69,34],[66,35,69,35],[66,36,69,44],[66,45,69,45]]}
[null,null,null,null,null,null,null,"Чемпионат ХМАО-Югры по СБЕ (ММА) среди муж. 18лет и старше,первенство среди юношей 16-17лет"]
[]
[]
[]
[]
[]
[null,null,null,null,null,null,null,null,null,null,null,null,null,null,null,null,"ПРОТОКОЛ ВЗВЕШИВАНИЯ",null,null,null,null,null,null,null,null,null,null,null,null,null,null,null,null,null,null,"г. Ханты-Мансийск"]
[]
[]
[]
[null,null,null,null,null,null,null,null,null,null,null,null,null,null,null,null,null,null,null,null,null,null,null,null,null,null,null,null,null,null,null,null,null,null,null,"с16 по 19 февраля 2018г."]
[]
[null,null,null,null,null,null,null,null,null,null,null,null,null,null,null,null,null,"Весовая категория до",null,null,null,null,null,"93+",null,"кг"]
[]
[]
[]
[]
[null,"№ кат","Ф.И.О. (полностью)",null,null,null,null,null,null,null,null,null,null,null,null,null,"Дата рожд.","Факт. Вес","Разряд","Тренер",null,null,null,null,null,null,null,"Команда",null,null,null,null,null,null,null,null,null,null,null,"Клуб"]
[]
[]
[]
[]
[null,1,"Маслов Александр Анатольвич",null,null,null,null,null,null,null,null,null,null,null,null,null,"1993-08-28",100,"КМС","Изабеков А.З.",null,null,null,null,null,null,null,"г. Сургут"]
[null,2,"Ашурбеков Рустам Надирович",null,null,null,null,null,null,null,null,null,null,null,null,null,"1998-11-30",100,"КМС","Дибиров М.М.",null,null,null,null,null,null,null,"г. Сургут"]
[null,3,"Паутов Константин Владимирович",null,null,null,null,null,null,null,null,null,null,null,null,null,"1985-09-06",100,null,"Бывалин Е.С.",null,null,null,null,null,null,null,"г. Ханты-Мансийск"]
[]
[]
[]
[]
[]
[]
[]
[]
[]
[]
[]
[]
[]
[]
[]
[]
[]
[]
[]
[]
[]
[]
[]
[]
[]
[]
[]
[]
[]
[]
[]
[]
[]
[null,null,null,null,null,null,null,null,null,null,null,null,null,null,null,null,null,null,"Главный судья соревнований",null,null,null,null,null,null,null,null,null,null,null,null,null,null,null,null,"/","Карташков К.В.",null,null,null,null,null,null,null,null,"/"]
[]
[]
[]
[]
[]
[]
[]
[null,null,null,null,null,null,null,null,null,null,null,null,null,null,null,null,null,null,"Главный секретарь",null,null,null,null,null,null,null,null,null,null,null,null,null,null,null,null,"/","Толстыгин А.Ю.",null,null,null,null,null,null,null,null,"/"]
[]
[]
[]
[]
[null,null,null,null,null,null,null,null,null,null,null,null,null,null,null,null,null,null,null,null,null,null,null,null,null,null,null,null,null,null,null,null,null,null,null,null,null,null,null,null,null,null,null,null,null,null,10]

{"sheet":"Принцип сеток","index":35,"n_rows":34,"n_cols":66,"rows_kept":34,"cut":false,"hidden":true,"merged":[[1,36,1,38],[1,0,1,2],[1,4,1,6],[1,8,1,10],[1,12,1,14],[1,16,1,18],[1,20,1,22],[1,24,1,26],[1,28,1,30],[1,32,1,34],[2,60,2,62],[1,64,1,66],[1,40,1,42],[1,44,1,46],[1,48,1,50],[1,52,1,54],[1,56,1,58],[1,60,1,62]]}
[]
["Сетка32",null,null,null,"Сетка30",null,null,null,"Сетка28",null,null,null,"Сетка26",null,null,null,"Сетка24",null,null,null,"Сетка22",null,null,null,"Сетка20",null,null,null,"Сетка18",null,null,null,"Сетка16",null,null,null,"Сетка14",null,null,null,"Сетка12",null,null,null,"Сетка10",null,null,null,"Сетка8",null,null,null,"Сетка6",null,null,null,"Сетка4",null,null,null,"Сетка3",null,null,null,"Сетка2"]
[1,"I",{"$f":"LARGE($A$3:$A$34,A3)","v":32},null,1,"I",{"$f":"LARGE($E$3:$E$32,E3)","v":30},null,1,"I",{"$f":"LARGE($I$3:$I$30,I3)","v":28},null,1,"I",{"$f":"LARGE($M$3:$M$28,M3)","v":26},null,1,"I",{"$f":"LARGE($Q$3:$Q$28,Q3)","v":24},null,1,"I",{"$f":"LARGE($U$3:$U$28,U3)","v":22},null,1,"I",{"$f":"LARGE($Y$3:$Y$28,Y3)","v":20},null,1,"I",{"$f":"LARGE($AC$3:$AC$28,AC3)","v":18},null,1,"I",{"$f":"LARGE($AG$3:$AG$28,AG3)","v":16},null,1,"I",{"$f":"LARGE($AK$3:$AK$28,AK3)","v":14},null,1,"I",{"$f":"LARGE($AO$3:$AO$28,AO3)","v":12},null,1,"I",{"$f":"LARGE($AS$3:$AS$28,AS3)","v":10},null,1,"I",{"$f":"LARGE($AW$3:$AW$28,AW3)","v":8},null,1,"I",{"$f":"LARGE($BA$3:$BA$28,BA3)","v":6},null,1,{"$f":"LARGE($BE$3:$BE$28,BE3)","v":4},null,null,"Круговая",null,null,null,1,2]
[2,"I",{"$f":"LARGE($A$3:$A$34,A4)","v":31},null,2,"I",{"$f":"LARGE($E$3:$E$32,E4)","v":29},null,2,"I",{"$f":"LARGE($I$3:$I$30,I4)","v":27},null,2,"I",{"$f":"LARGE($M$3:$M$28,M4)","v":25},null,2,"I",{"$f":"LARGE($Q$3:$Q$28,Q4)","v":23},null,2,"I",{"$f":"LARGE($U$3:$U$28,U4)","v":21},null,2,"I",{"$f":"LARGE($Y$3:$Y$28,Y4)","v":19},null,2,"I",{"$f":"LARGE($AC$3:$AC$28,AC4)","v":17},null,2,"I",{"$f":"LARGE($AG$3:$AG$28,AG4)","v":15},null,2,"I",{"$f":"LARGE($AK$3:$AK$28,AK4)","v":13},null,2,"I",{"$f":"LARGE($AO$3:$AO$28,AO4)","v":11},null,2,"I",{"$f":"LARGE($AS$3:$AS$28,AS4)","v":9},null,2,"I",{"$f":"LARGE($AW$3:$AW$28,AW4)","v":7},null,2,4,null,null,2,{"$f":"LARGE($BE$3:$BE$28,BE4)","v":3}]
[3,"I",30,null,3,"I",28,null,3,"I",26,null,3,"I",24,null,3,"I",22,null,3,"I",20,null,3,"I",18,null,3,"I",{"$f":"LARGE($AC$3:$AC$28,AC5)","v":16},null,3,"I",{"$f":"LARGE($AG$3:$AG$28,AG5)","v":14},null,3,"I",{"$f":"LARGE($AK$3:$AK$28,AK5)","v":12},null,3,"I",{"$f":"LARGE($AO$3:$AO$28,AO5)","v":10},null,3,6,null,null,3,5,null,null,3,{"$f":"BB4+1","v":5},null,null,3]
[4,"I",29,null,4,"I",27,null,4,"I",25,null,4,"I",23,null,4,"I",21,null,4,"I",19,null,4,"I",17,null,4,"I",{"$f":"LARGE($AC$3:$AC$28,AC6)","v":15},null,4,"I",{"$f":"LARGE($AG$3:$AG$28,AG6)","v":13},null,4,"I",{"$f":"LARGE($AK$3:$AK$28,AK6)","v":11},null,4,"I",{"$f":"LARGE($AO$3:$AO$28,AO6)","v":9},null,4,{"$f":"AT5+1","v":7},null,null,4,{"$f":"AX5+1","v":6},null,null,4,null,null,null,4]
[5,"II",28,null,5,"II",26,null,5,"II",24,null,5,"II",22,null,5,"II",20,null,5,"II",18,null,5,"II",16,null,5,10,null,null,5,9,null,null,5,8,null,null,5,7,null,null,5,{"$f":"AT6+1","v":8},null,null,5,null,null,null,5]
[6,"II",27,null,6,"II",25,null,6,"II",23,null,6,"II",21,null,6,"II",19,null,6,"II",17,null,6,"II",15,null,6,{"$f":"AD7+1","v":11},null,null,6,{"$f":"AH7+1","v":10},null,null,6,{"$f":"AL7+1","v":9},null,null,6,{"$f":"AP7+1","v":8},null,null,6,null,null,null,6,null,null,null,6,"I"]
[7,"II",26,null,7,"II",24,null,7,"II",22,null,7,"II",20,null,7,"II",18,null,7,"II",16,null,7,"II",14,null,7,{"$f":"AD8+1","v":12},null,null,7,{"$f":"AH8+1","v":11},null,null,7,{"$f":"AL8+1","v":10},null,null,7,null,null,null,7,null,null,null,7,"I"]
[8,"II",25,null,8,"II",23,null,8,"II",21,null,8,"II",19,null,8,"II",17,null,8,"II",15,null,8,"II",13,null,8,{"$f":"AD9+1","v":13},null,null,8,{"$f":"AH9+1","v":12},null,null,8,null,null,null,8,null,null,null,8,null,null,null,8,"I"]
[9,"III",24,null,9,"III",22,null,9,"III",20,null,9,14,null,null,9,13,null,null,9,12,null,null,9,11,null,null,9,{"$f":"AD10+1","v":14},null,null,9,null,null,null,9,null,null,null,9,"I",null,null,9,"I"]
[10,"III",23,null,10,"III",21,null,10,"III",19,null,10,{"$f":"N11+1","v":15},null,null,10,{"$f":"R11+1","v":14},null,null,10,{"$f":"V11+1","v":13},null,null,10,{"$f":"Z11+1","v":12},null,null,10,null,null,null,10,null,null,null,10,null,null,null,10,"I",null,null,10,"I"]
[11,"III",22,null,11,"III",20,null,11,"III",18,null,11,{"$f":"N12+1","v":16},null,null,11,{"$f":"R12+1","v":15},null,null,11,{"$f":"V12+1","v":14},null,null,11,null,null,null,11,null,null,null,11,null,null,null,11,"I",null,null,11,"I"]
[12,"III",21,null,12,"III",19,null,12,"III",17,null,12,{"$f":"N13+1","v":17},null,null,12,{"$f":"R13+1","v":16},null,null,12,null,null,null,12,null,null,null,12,null,null,null,12,null,null,null,12,"I",null,null,12,"I"]
[13,17,null,null,13,16,null,null,13,15,null,null,13,{"$f":"N14+1","v":18},null,null,13,null,null,null,13,null,null,null,13,"II",null,null,13,null,null,null,13,"I",null,null,13,"I"]
[14,18,null,null,14,17,null,null,14,16,null,null,14,null,null,null,14,null,null,null,14,null,null,null,14,"II",null,null,14,null,null,null,14,"I",null,null,14,"I"]
[15,19,null,null,15,18,null,null,15,null,null,null,15,null,null,null,15,null,null,null,15,"II",null,null,15,"II",null,null,15,"I",null,null,15,"I"]
[16,20,null,null,16,null,null,null,16,null,null,null,16,null,null,null,16,null,null,null,16,"II",null,null,16,"II",null,null,16,"I",null,null,16,"I"]
[17,null,null,null,17,null,null,null,17,"III",null,null,17,null,null,null,17,"II",null,null,17,"II",null,null,17,"I",null,null,17,"I"]
[18,null,null,null,18,null,null,null,18,"III",null,null,18,null,null,null,18,"II",null,null,18,"II",null,null,18,"I",null,null,18,"I"]
[19,null,null,null,19,"III",null,null,19,"III",null,null,19,"II",null,null,19,"II",null,null,19,"I",null,null,19,"I"]
[20,null,null,null,20,"III",null,null,20,"III",null,null,20,"II",null,null,20,"II",null,null,20,"I",null,null,20,"I"]
[21,"III",null,null,21,"III",null,null,21,"II",null,null,21,"II",null,null,21,"I",null,null,21,"I"]
[22,"III",null,null,22,"III",null,null,22,"II",null,null,22,"II",null,null,22,"I",null,null,22,"I"]
[23,"III",null,null,23,"II",null,null,23,"II",null,null,23,"I",null,null,23,"I"]
[24,"III",null,null,24,"II",null,null,24,"II",null,null,24,"I",null,null,24,"I"]
[25,"II",null,null,25,"II",null,null,25,"I",null,null,25,"I"]
[26,"II",null,null,26,"II",null,null,26,"I",null,null,26,"I"]
[27,"II",null,null,27,"I",null,null,27,"I"]
[28,"II",null,null,28,"I",null,null,28,"I"]
[29,"I",null,null,29,"I"]
[30,"I",null,null,30,"I"]
[31,"I"]
[32,"I"]

{"sheet":"18. ПР 61,2","index":36,"n_rows":72,"n_cols":47,"rows_kept":72,"cut":false,"hidden":false,"merged":[[66,18,69,28],[66,29,69,34],[66,35,69,35],[66,36,69,44],[66,45,69,45],[71,46,73,46],[53,3,53,15],[53,18,53,23],[53,24,53,35],[53,36,53,42],[53,43,53,45],[58,18,61,28],[58,29,61,34],[58,35,61,35],[58,36,61,44],[58,45,61,45],[51,3,51,15],[51,18,51,23],[51,24,51,35],[51,36,51,42],[51,43,51,45],[52,3,52,15],[52,18,52,23],[52,24,52,35],[52,36,52,42],[52,43,52,45],[49,3,49,15],[49,18,49,23],[49,24,49,35],[49,36,49,42],[49,43,49,45],[50,3,50,15],[50,18,50,23],[50,24,50,35],[50,36,50,42],[50,43,50,45],[47,3,47,15],[47,18,47,23],[47,24,47,35],[47,36,47,42],[47,43,47,45],[48,3,48,15],[48,18,48,23],[48,24,48,35],[48,36,48,42],[48,43,48,45],[45,3,45,15],[45,18,45,23],[45,24,45,35],[45,36,45,42],[45,43,45,45],[46,3,46,15],[46,18,46,23],[46,24,46,35],[46,36,46,42],[46,43,46,45],[43,3,43,15],[43,18,43,23],[43,24,43,35],[43,36,43,42],[43,43,43,45],[44,3,44,15],[44,18,44,23],[44,24,44,35],[44,36,44,42],[44,43,44,45],[41,3,41,15],[41,18,41,23],[41,24,41,35],[41,36,41,42],[41,43,41,45],[42,3,42,15],[42,18,42,23],[42,24,42,35],[42,36,42,42],[42,43,42,45],[39,3,39,15],[39,18,39,23],[39,24,39,35],[39,36,39,42],[39,43,39,45],[40,3,40,15],[40,18,40,23],[40,24,40,35],[40,36,40,42],[40,43,40,45],[37,3,37,15],[37,18,37,23],[37,24,37,35],[37,36,37,42],[37,43,37,45],[38,3,38,15],[38,18,38,23],[38,24,38,35],[38,36,38,42],[38,43,38,45],[35,3,35,15],[35,18,35,23],[35,24,35,35],[35,36,35,42],[35,43,35,45],[36,3,36,15],[36,18,36,23],[36,24,36,35],[36,36,36,42],[36,43,36,45],[33,3,33,15],[33,18,33,23],[33,24,33,35],[33,36,33,42],[33,43,33,45],[34,3,34,15],[34,18,34,23],[34,24,34,35],[34,36,34,42],[34,43,34,45],[31,3,31,15],[31,18,31,23],[31,24,31,35],[31,36,31,42],[31,43,31,45],[32,3,32,15],[32,18,32,23],[32,24,32,35],[32,36,32,42],[32,43,32,45],[29,3,29,15],[29,18,29,23],[29,24,29,35],[29,36,29,42],[29,43,29,45],[30,3,30,15],[30,18,30,23],[30,24,30,35],[30,36,30,42],[30,43,30,45],[27,3,27,15],[27,18,27,23],[27,24,27,35],[27,36,27,42],[27,43,27,45],[28,3,28,15],[28,18,28,23],[28,24,28,35],[28,36,28,42],[28,43,28,45],[25,3,25,15],[25,18,25,23],[25,24,25,35],[25,36,25,42],[25,43,25,45],[26,3,26,15],[26,18,26,23],[26,24,26,35],[26,36,26,42],[26,43,26,45],[23,3,23,15],[23,18,23,23],[23,24,23,35],[23,36,23,42],[23,43,23,45],[24,3,24,15],[24,18,24,23],[24,24,24,35],[24,36,24,42],[24,43,24,45],[22,3,22,15],[22,18,22,23],[22,24,22,35],[22,36,22,42],[22,43,22,45],[17,1,21,1],[17,2,21,2],[17,3,21,15],[17,16,21,16],[17,17,21,17],[17,18,21,23],[0,7,5,46],[6,11,10,34],[6,35,9,46],[10,35,13,46],[12,17,15,22],[12,23,15,24],[12,25,15,26],[17,24,21,35],[17,36,21,42],[17,43,21,45]]}
[null,null,null,null,null,null,null,"Чемпионат ХМАО-Югры по СБЕ (ММА) среди муж. 18лет и старше,первенство среди юношей 16-17лет"]
[]
[]
[]
[]
[]
[null,null,null,null,null,null,null,null,null,null,null,"ПРОТОКОЛ РЕЗУЛЬТАТОВ ЛИЧНОГО ПЕРВЕНСТВА",null,null,null,null,null,null,null,null,null,null,null,null,null,null,null,null,null,null,null,null,null,null,null,"г. Ханты-Мансийск"]
[]
[]
[]
[null,null,null,null,null,null,null,null,null,null,null,null,null,null,null,null,null,null,null,null,null,null,null,null,null,null,null,null,null,null,null,null,null,null,null,"с16 по 19 февраля 2018г."]
[]
[null,null,null,null,null,null,null,null,null,null,null,null,null,null,null,null,null,"Весовая категория до",null,null,null,null,null,61.2,null,"кг"]
[]
[]
[]
[]
[null,"№ ","№ \nкат","Ф.И.О. (полностью)",null,null,null,null,null,null,null,null,null,null,null,null,"Дата рожд.","Разряд","Тренер",null,null,null,null,null,"Команда",null,null,null,null,null,null,null,null,null,null,null,"Клуб",null,null,null,null,null,null,"Место"]
[]
[]
[]
[]
[null,1,2,"Латипов Эльдар Магомедович",null,null,null,null,null,null,null,null,null,null,null,null,"1994-04-29","КМС","Мамедов Р.А.,Хабибулаев А.Р.",null,null,null,null,null,"Скорпион (г. Лангепас)",null,null,null,null,null,null,null,null,null,null,null,0,null,null,null,null,null,null,1]
[null,2,3,"Абдуллаев Элшан Равшан оглы",null,null,null,null,null,null,null,null,null,null,null,null,"1992-10-22",0,"Казбеков Т.Г.",null,null,null,null,null,"г. Нижневартовск (СБЕ КОБРА)",null,null,null,null,null,null,null,null,null,null,null,0,null,null,null,null,null,null,2]
[null,3,9,"Юсупов Багавдин Ахмедович",null,null,null,null,null,null,null,null,null,null,null,null,"1998-12-01",0,"Сиражудинов Р.С.",null,null,null,null,null,"СДЮСШОР \"СПАРТАК\" (г.Нефтеюганск)",null,null,null,null,null,null,null,null,null,null,null,0,null,null,null,null,null,null,3]
[null,4,6,"Магомедов Хайрулла Магомедович",null,null,null,null,null,null,null,null,null,null,null,null,"1996-03-18","КМС","Бывалин Е.С.",null,null,null,null,null,"г. Ханты-Мансийск",null,null,null,null,null,null,null,null,null,null,null,0,null,null,null,null,null,null,3]
[null,5,1,"Балащенко Динат Сергеевич",null,null,null,null,null,null,null,null,null,null,null,null,"1998-12-01",0,"Казбеков Т.Г.",null,null,null,null,null,"г. Нижневартовск",null,null,null,null,null,null,null,null,null,null,null,0,null,null,null,null,null,null,"5-8"]
[null,6,7,"Джумакаев Абдулбек Арабдинович",null,null,null,null,null,null,null,null,null,null,null,null,"1998-08-02",0,"Бывалин Е.С.",null,null,null,null,null,"г. Ханты-Мансийск",null,null,null,null,null,null,null,null,null,null,null,0,null,null,null,null,null,null,"5-8"]
[null,7,8,"Ильясов Магомед Ильясович",null,null,null,null,null,null,null,null,null,null,null,null,"1991-03-08",0,"Бывалин Е.С.",null,null,null,null,null,"г. Ханты-Мансийск",null,null,null,null,null,null,null,null,null,null,null,0,null,null,null,null,null,null,"5-8"]
[null,8,4,"Наврузов Расул Иманмуратович",null,null,null,null,null,null,null,null,null,null,null,null,"1990-03-19","КМС","Изабеков А.З.",null,null,null,null,null,"г. Сургут",null,null,null,null,null,null,null,null,null,null,null,0,null,null,null,null,null,null,"5-8"]
[null,9,0,"",null,null,null,null,null,null,null,null,null,null,null,null,"","","",null,null,null,null,null,"",null,null,null,null,null,null,null,null,null,null,null,"",null,null,null,null,null,null,"9-16"]
[null,10,5,"Рыбин Олег Александрович",null,null,null,null,null,null,null,null,null,null,null,null,"1984-06-12","КМС","Магеррамов Н.О., Магеррамов Р.О.",null,null,null,null,null,"г. Ханты-Мансийск",null,null,null,null,null,null,null,null,null,null,null,0,null,null,null,null,null,null,"9-16"]
[null,11,0,"",null,null,null,null,null,null,null,null,null,null,null,null,"","","",null,null,null,null,null,"",null,null,null,null,null,null,null,null,null,null,null,"",null,null,null,null,null,null,"9-16"]
[null,12,0,"",null,null,null,null,null,null,null,null,null,null,null,null,"","","",null,null,null,null,null,"",null,null,null,null,null,null,null,null,null,null,null,"",null,null,null,null,null,null,"9-16"]
[null,13,0,"",null,null,null,null,null,null,null,null,null,null,null,null,"","","",null,null,null,null,null,"",null,null,null,null,null,null,null,null,null,null,null,"",null,null,null,null,null,null,"9-16"]
[null,14,0,"",null,null,null,null,null,null,null,null,null,null,null,null,"","","",null,null,null,null,null,"",null,null,null,null,null,null,null,null,null,null,null,"",null,null,null,null,null,null,"9-16"]
[null,15,0,"",null,null,null,null,null,null,null,null,null,null,null,null,"","","",null,null,null,null,null,"",null,null,null,null,null,null,null,null,null,null,null,"",null,null,null,null,null,null,"9-16"]
[null,16,10,"Гимаев Ильвир Ильгизович",null,null,null,null,null,null,null,null,null,null,null,null,"1988-06-04",0,"Казбеков Т.Г.",null,null,null,null,null,"г. Нижневартовск (СБЕ КОБРА)",null,null,null,null,null,null,null,null,null,null,null,0,null,null,null,null,null,null,"9-16"]
[null,17,0,"",null,null,null,null,null,null,null,null,null,null,null,null,"","","",null,null,null,null,null,"",null,null,null,null,null,null,null,null,null,null,null,"",null,null,null,null,null,null,"17-32"]
[null,18,0,"",null,null,null,null,null,null,null,null,null,null,null,null,"","","",null,null,null,null,null,"",null,null,null,null,null,null,null,null,null,null,null,"",null,null,null,null,null,null,"17-32"]
[null,19,0,"",null,null,null,null,null,null,null,null,null,null,null,null,"","","",null,null,null,null,null,"",null,null,null,null,null,null,null,null,null,null,null,"",null,null,null,null,null,null,"17-32"]
[null,20,0,"",null,null,null,null,null,null,null,null,null,null,null,null,"","","",null,null,null,null,null,"",null,null,null,null,null,null,null,null,null,null,null,"",null,null,null,null,null,null,"17-32"]
[null,21,0,"",null,null,null,null,null,null,null,null,null,null,null,null,"","","",null,null,null,null,null,"",null,null,null,null,null,null,null,null,null,null,null,"",null,null,null,null,null,null,"17-32"]
[null,22,0,"",null,null,null,null,null,null,null,null,null,null,null,null,"","","",null,null,null,null,null,"",null,null,null,null,null,null,null,null,null,null,null,"",null,null,null,null,null,null,"17-32"]
[null,23,0,"",null,null,null,null,null,null,null,null,null,null,null,null,"","","",null,null,null,null,null,"",null,null,null,null,null,null,null,null,null,null,null,"",null,null,null,null,null,null,"17-32"]
[null,24,0,"",null,null,null,null,null,null,null,null,null,null,null,null,"","","",null,null,null,null,null,"",null,null,null,null,null,null,null,null,null,null,null,"",null,null,null,null,null,null,"17-32"]
[null,25,0,"",null,null,null,null,null,null,null,null,null,null,null,null,"","","",null,null,null,null,null,"",null,null,null,null,null,null,null,null,null,null,null,"",null,null,null,null,null,null,"17-32"]
[null,26,0,"",null,null,null,null,null,null,null,null,null,null,null,null,"","","",null,null,null,null,null,"",null,null,null,null,null,null,null,null,null,null,null,"",null,null,null,null,null,null,"17-32"]
[null,27,0,"",null,null,null,null,null,null,null,null,null,null,null,null,"","","",null,null,null,null,null,"",null,null,null,null,null,null,null,null,null,null,null,"",null,null,null,null,null,null,"17-32"]
[null,28,0,"",null,null,null,null,null,null,null,null,null,null,null,null,"","","",null,null,null,null,null,"",null,null,null,null,null,null,null,null,null,null,null,"",null,null,null,null,null,null,"17-32"]
[null,29,0,"",null,null,null,null,null,null,null,null,null,null,null,null,"","","",null,null,null,null,null,"",null,null,null,null,null,null,null,null,null,null,null,"",null,null,null,null,null,null,"17-32"]
[null,30,0,"",null,null,null,null,null,null,null,null,null,null,null,null,"","","",null,null,null,null,null,"",null,null,null,null,null,null,null,null,null,null,null,"",null,null,null,null,null,null,"17-32"]
[null,31,0,"",null,null,null,null,null,null,null,null,null,null,null,null,"","","",null,null,null,null,null,"",null,null,null,null,null,null,null,null,null,null,null,"",null,null,null,null,null,null,"17-32"]
[null,32,0,"",null,null,null,null,null,null,null,null,null,null,null,null,"","","",null,null,null,null,null,"",null,null,null,null,null,null,null,null,null,null,null,"",null,null,null,null,null,null,"17-32"]
[]
[]
[]
[]
[null,null,null,null,null,null,null,null,null,null,null,null,null,null,null,null,null,null,"Главный судья соревнований",null,null,null,null,null,null,null,null,null,null,null,null,null,null,null,null,"/","Карташков К.В.",null,null,null,null,null,null,null,null,"/"]
[]
[]
[]
[]
[]
[]
[]
[null,null,null,null,null,null,null,null,null,null,null,null,null,null,null,null,null,null,"Главный секретарь",null,null,null,null,null,null,null,null,null,null,null,null,null,null,null,null,"/","Толстыгин А.Ю.",null,null,null,null,null,null,null,null,"/"]
[]
[]
[]
[]
[null,null,null,null,null,null,null,null,null,null,null,null,null,null,null,null,null,null,null,null,null,null,null,null,null,null,null,null,null,null,null,null,null,null,null,null,null,null,null,null,null,null,null,null,null,null,18]

{"sheet":"19. ПР 65,8","index":37,"n_rows":72,"n_cols":47,"rows_kept":72,"cut":false,"hidden":false,"merged":[[53,18,53,23],[17,24,21,35],[22,24,22,35],[23,24,23,35],[24,24,24,35],[25,24,25,35],[26,24,26,35],[27,24,27,35],[28,24,28,35],[29,24,29,35],[30,24,30,35],[31,24,31,35],[32,24,32,35],[30,18,30,23],[31,18,31,23],[32,18,32,23],[33,18,33,23],[34,18,34,23],[25,18,25,23],[26,18,26,23],[17,18,21,23],[22,18,22,23],[23,18,23,23],[24,18,24,23],[50,18,50,23],[51,18,51,23],[52,18,52,23],[53,3,53,15],[25,3,25,15],[26,3,26,15],[27,3,27,15],[28,3,28,15],[29,3,29,15],[50,3,50,15],[41,18,41,23],[42,18,42,23],[44,18,44,23],[39,18,39,23],[51,3,51,15],[52,3,52,15],[38,18,38,23],[35,18,35,23],[36,18,36,23],[37,18,37,23],[39,3,39,15],[40,3,40,15],[31,3,31,15],[32,3,32,15],[17,2,21,2],[17,3,21,15],[22,3,22,15],[23,3,23,15],[24,3,24,15],[46,3,46,15],[47,3,47,15],[48,3,48,15],[49,3,49,15],[41,3,41,15],[42,3,42,15],[43,3,43,15],[44,3,44,15],[45,3,45,15],[36,3,36,15],[37,3,37,15],[38,3,38,15],[30,3,30,15],[33,3,33,15],[34,3,34,15],[35,3,35,15],[51,43,51,45],[52,43,52,45],[53,43,53,45],[46,43,46,45],[47,43,47,45],[48,43,48,45],[49,43,49,45],[50,43,50,45],[41,43,41,45],[42,43,42,45],[43,43,43,45],[44,43,44,45],[45,43,45,45],[36,43,36,45],[37,43,37,45],[38,43,38,45],[39,43,39,45],[40,43,40,45],[52,36,52,42],[53,36,53,42],[22,43,22,45],[23,43,23,45],[24,43,24,45],[25,43,25,45],[26,43,26,45],[27,43,27,45],[28,43,28,45],[29,43,29,45],[30,43,30,45],[31,43,31,45],[32,43,32,45],[33,43,33,45],[34,43,34,45],[35,43,35,45],[47,36,47,42],[48,36,48,42],[49,36,49,42],[34,36,34,42],[35,36,35,42],[49,24,49,35],[50,24,50,35],[51,24,51,35],[52,24,52,35],[34,24,34,35],[35,24,35,35],[36,24,36,35],[37,24,37,35],[38,24,38,35],[50,36,50,42],[51,36,51,42],[42,36,42,42],[43,36,43,42],[44,36,44,42],[45,36,45,42],[46,36,46,42],[37,36,37,42],[38,36,38,42],[39,36,39,42],[40,36,40,42],[41,36,41,42],[28,18,28,23],[29,18,29,23],[33,24,33,35],[22,36,22,42],[23,36,23,42],[24,36,24,42],[25,36,25,42],[26,36,26,42],[32,36,32,42],[33,36,33,42],[6,11,10,34],[17,17,21,17],[0,7,5,46],[6,35,9,46],[10,35,13,46],[12,17,15,22],[12,23,15,24],[12,25,15,26],[53,24,53,35],[40,18,40,23],[44,24,44,35],[45,24,45,35],[46,24,46,35],[47,24,47,35],[48,24,48,35],[43,18,43,23],[39,24,39,35],[40,24,40,35],[41,24,41,35],[42,24,42,35],[43,24,43,35],[45,18,45,23],[28,36,28,42],[29,36,29,42],[17,1,21,1],[17,16,21,16],[71,46,73,46],[17,43,21,45],[58,18,61,28],[58,29,61,34],[58,35,61,35],[58,36,61,44],[58,45,61,45],[66,18,69,28],[66,29,69,34],[66,35,69,35],[66,36,69,44],[66,45,69,45],[17,36,21,42],[46,18,46,23],[47,18,47,23],[48,18,48,23],[49,18,49,23],[36,36,36,42],[27,36,27,42],[30,36,30,42],[31,36,31,42],[27,18,27,23]]}
[null,null,null,null,null,null,null,"Чемпионат ХМАО-Югры по СБЕ (ММА) среди муж. 18лет и старше,первенство среди юношей 16-17лет"]
[]
[]
[]
[]
[]
[null,null,null,null,null,null,null,null,null,null,null,"ПРОТОКОЛ РЕЗУЛЬТАТОВ ЛИЧНОГО ПЕРВЕНСТВА",null,null,null,null,null,null,null,null,null,null,null,null,null,null,null,null,null,null,null,null,null,null,null,"г. Ханты-Мансийск"]
[]
[]
[]
[null,null,null,null,null,null,null,null,null,null,null,null,null,null,null,null,null,null,null,null,null,null,null,null,null,null,null,null,null,null,null,null,null,null,null,"с16 по 19 февраля 2018г."]
[]
[null,null,null,null,null,null,null,null,null,null,null,null,null,null,null,null,null,"Весовая категория до",null,null,null,null,null,"65,8",null,"кг"]
[]
[]
[]
[]
[null,"№ ","№ \nкат","Ф.И.О. (полностью)",null,null,null,null,null,null,null,null,null,null,null,null,"Дата рожд.","Разряд","Тренер",null,null,null,null,null,"Команда",null,null,null,null,null,null,null,null,null,null,null,"Клуб",null,null,null,null,null,null,"Место"]
[]
[]
[]
[]
[null,1,1,"Мамедов Руслан Ширванович",null,null,null,null,null,null,null,null,null,null,null,null,"1996-11-02",0,"Мамедов Р.А.,Хабибулаев А.Р.",null,null,null,null,null,"Скорпион (г. Лангепас)",null,null,null,null,null,null,null,null,null,null,null,0,null,null,null,null,null,null,1]
[null,2,4,"Дадаев Мансур Муслимович",null,null,null,null,null,null,null,null,null,null,null,null,"1999-01-17","КМС","Бывалин Е.С.",null,null,null,null,null,"г. Ханты-Мансийск",null,null,null,null,null,null,null,null,null,null,null,0,null,null,null,null,null,null,2]
[null,3,7,"Гаджиахмедов Магомед Гаджиевич",null,null,null,null,null,null,null,null,null,null,null,null,"1996-08-30","КМС","Изабеков А.З.",null,null,null,null,null,"г. Сургут",null,null,null,null,null,null,null,null,null,null,null,0,null,null,null,null,null,null,3]
[null,4,8,"Ильясов Гасан Нурутдинович",null,null,null,null,null,null,null,null,null,null,null,null,"1999-04-12","КМС","Изабеков А.З.",null,null,null,null,null,"г. Сургут",null,null,null,null,null,null,null,null,null,null,null,0,null,null,null,null,null,null,3]
[null,5,5,"Григоров Максим Андреевич",null,null,null,null,null,null,null,null,null,null,null,null,"1994-08-07",0,"Бывалин Е.С.",null,null,null,null,null,"г. Ханты-Мансийск",null,null,null,null,null,null,null,null,null,null,null,0,null,null,null,null,null,null,"5-8"]
[null,6,3,"Рамазанов Джамал Камал оглы",null,null,null,null,null,null,null,null,null,null,null,null,"1997-06-30",0,"Сиражудинов Р.С.",null,null,null,null,null,"СДЮСШОР \"СПАРТАК\" (г.Нефтеюганск)",null,null,null,null,null,null,null,null,null,null,null,0,null,null,null,null,null,null,"5-8"]
[null,7,2,"Бердиев Шахзод Шахобидинович",null,null,null,null,null,null,null,null,null,null,null,null,"1998-09-14","КМС","Сиражудинов Р.С.",null,null,null,null,null,"СДЮСШОР \"СПАРТАК\" (г.Нефтеюганск)",null,null,null,null,null,null,null,null,null,null,null,0,null,null,null,null,null,null,"5-8"]
[null,8,10,"Магомедов Бурагим Магомедович",null,null,null,null,null,null,null,null,null,null,null,null,"1996-07-09",0,"Бадабиев Р.С.,Халитов В.Р.",null,null,null,null,null,"г. Нижневартовск",null,null,null,null,null,null,null,null,null,null,null,0,null,null,null,null,null,null,"5-8"]
[null,9,0,"",null,null,null,null,null,null,null,null,null,null,null,null,"","","",null,null,null,null,null,"",null,null,null,null,null,null,null,null,null,null,null,"",null,null,null,null,null,null,"9-16"]
[null,10,9,"Касумов  Али Магомедрасулович",null,null,null,null,null,null,null,null,null,null,null,null,"1989-12-11",0,"Дибиров М.М.",null,null,null,null,null,"г. Сургут",null,null,null,null,null,null,null,null,null,null,null,0,null,null,null,null,null,null,"9-16"]
[null,11,0,"",null,null,null,null,null,null,null,null,null,null,null,null,"","","",null,null,null,null,null,"",null,null,null,null,null,null,null,null,null,null,null,"",null,null,null,null,null,null,"9-16"]
[null,12,0,"",null,null,null,null,null,null,null,null,null,null,null,null,"","","",null,null,null,null,null,"",null,null,null,null,null,null,null,null,null,null,null,"",null,null,null,null,null,null,"9-16"]
[null,13,0,"",null,null,null,null,null,null,null,null,null,null,null,null,"","","",null,null,null,null,null,"",null,null,null,null,null,null,null,null,null,null,null,"",null,null,null,null,null,null,"9-16"]
[null,14,0,"",null,null,null,null,null,null,null,null,null,null,null,null,"","","",null,null,null,null,null,"",null,null,null,null,null,null,null,null,null,null,null,"",null,null,null,null,null,null,"9-16"]
[null,15,0,"",null,null,null,null,null,null,null,null,null,null,null,null,"","","",null,null,null,null,null,"",null,null,null,null,null,null,null,null,null,null,null,"",null,null,null,null,null,null,"9-16"]
[null,16,6,"Адыгешаов Расим Мухамедович",null,null,null,null,null,null,null,null,null,null,null,null,"1998-01-26","КМС","Кучкин А.В.",null,null,null,null,null,"г. Сургут",null,null,null,null,null,null,null,null,null,null,null,0,null,null,null,null,null,null,"9-16"]
[null,17,0,"",null,null,null,null,null,null,null,null,null,null,null,null,"","","",null,null,null,null,null,"",null,null,null,null,null,null,null,null,null,null,null,"",null,null,null,null,null,null,"17-32"]
[null,18,0,"",null,null,null,null,null,null,null,null,null,null,null,null,"","","",null,null,null,null,null,"",null,null,null,null,null,null,null,null,null,null,null,"",null,null,null,null,null,null,"17-32"]
[null,19,0,"",null,null,null,null,null,null,null,null,null,null,null,null,"","","",null,null,null,null,null,"",null,null,null,null,null,null,null,null,null,null,null,"",null,null,null,null,null,null,"17-32"]
[null,20,0,"",null,null,null,null,null,null,null,null,null,null,null,null,"","","",null,null,null,null,null,"",null,null,null,null,null,null,null,null,null,null,null,"",null,null,null,null,null,null,"17-32"]
[null,21,0,"",null,null,null,null,null,null,null,null,null,null,null,null,"","","",null,null,null,null,null,"",null,null,null,null,null,null,null,null,null,null,null,"",null,null,null,null,null,null,"17-32"]
[null,22,0,"",null,null,null,null,null,null,null,null,null,null,null,null,"","","",null,null,null,null,null,"",null,null,null,null,null,null,null,null,null,null,null,"",null,null,null,null,null,null,"17-32"]
[null,23,0,"",null,null,null,null,null,null,null,null,null,null,null,null,"","","",null,null,null,null,null,"",null,null,null,null,null,null,null,null,null,null,null,"",null,null,null,null,null,null,"17-32"]
[null,24,0,"",null,null,null,null,null,null,null,null,null,null,null,null,"","","",null,null,null,null,null,"",null,null,null,null,null,null,null,null,null,null,null,"",null,null,null,null,null,null,"17-32"]
[null,25,0,"",null,null,null,null,null,null,null,null,null,null,null,null,"","","",null,null,null,null,null,"",null,null,null,null,null,null,null,null,null,null,null,"",null,null,null,null,null,null,"17-32"]
[null,26,0,"",null,null,null,null,null,null,null,null,null,null,null,null,"","","",null,null,null,null,null,"",null,null,null,null,null,null,null,null,null,null,null,"",null,null,null,null,null,null,"17-32"]
[null,27,0,"",null,null,null,null,null,null,null,null,null,null,null,null,"","","",null,null,null,null,null,"",null,null,null,null,null,null,null,null,null,null,null,"",null,null,null,null,null,null,"17-32"]
[null,28,0,"",null,null,null,null,null,null,null,null,null,null,null,null,"","","",null,null,null,null,null,"",null,null,null,null,null,null,null,null,null,null,null,"",null,null,null,null,null,null,"17-32"]
[null,29,0,"",null,null,null,null,null,null,null,null,null,null,null,null,"","","",null,null,null,null,null,"",null,null,null,null,null,null,null,null,null,null,null,"",null,null,null,null,null,null,"17-32"]
[null,30,0,"",null,null,null,null,null,null,null,null,null,null,null,null,"","","",null,null,null,null,null,"",null,null,null,null,null,null,null,null,null,null,null,"",null,null,null,null,null,null,"17-32"]
[null,31,0,"",null,null,null,null,null,null,null,null,null,null,null,null,"","","",null,null,null,null,null,"",null,null,null,null,null,null,null,null,null,null,null,"",null,null,null,null,null,null,"17-32"]
[null,32,0,"",null,null,null,null,null,null,null,null,null,null,null,null,"","","",null,null,null,null,null,"",null,null,null,null,null,null,null,null,null,null,null,"",null,null,null,null,null,null,"17-32"]
[]
[]
[]
[]
[null,null,null,null,null,null,null,null,null,null,null,null,null,null,null,null,null,null,"Главный судья соревнований",null,null,null,null,null,null,null,null,null,null,null,null,null,null,null,null,"/","Карташков К.В.",null,null,null,null,null,null,null,null,"/"]
[]
[]
[]
[]
[]
[]
[]
[null,null,null,null,null,null,null,null,null,null,null,null,null,null,null,null,null,null,"Главный секретарь",null,null,null,null,null,null,null,null,null,null,null,null,null,null,null,null,"/","Толстыгин А.Ю.",null,null,null,null,null,null,null,null,"/"]
[]
[]
[]
[]
[null,null,null,null,null,null,null,null,null,null,null,null,null,null,null,null,null,null,null,null,null,null,null,null,null,null,null,null,null,null,null,null,null,null,null,null,null,null,null,null,null,null,null,null,null,null,19]

{"sheet":"20. ПР 70,3","index":38,"n_rows":72,"n_cols":47,"rows_kept":72,"cut":false,"hidden":false,"merged":[[71,46,73,46],[66,18,69,28],[66,29,69,34],[66,35,69,35],[66,36,69,44],[66,45,69,45],[53,3,53,15],[53,18,53,23],[53,24,53,35],[53,36,53,42],[53,43,53,45],[58,18,61,28],[58,29,61,34],[58,35,61,35],[58,36,61,44],[58,45,61,45],[51,3,51,15],[51,18,51,23],[51,24,51,35],[51,36,51,42],[51,43,51,45],[52,3,52,15],[52,18,52,23],[52,24,52,35],[52,36,52,42],[52,43,52,45],[49,3,49,15],[49,18,49,23],[49,24,49,35],[49,36,49,42],[49,43,49,45],[50,3,50,15],[50,18,50,23],[50,24,50,35],[50,36,50,42],[50,43,50,45],[47,3,47,15],[47,18,47,23],[47,24,47,35],[47,36,47,42],[47,43,47,45],[48,3,48,15],[48,18,48,23],[48,24,48,35],[48,36,48,42],[48,43,48,45],[45,3,45,15],[45,18,45,23],[45,24,45,35],[45,36,45,42],[45,43,45,45],[46,3,46,15],[46,18,46,23],[46,24,46,35],[46,36,46,42],[46,43,46,45],[43,3,43,15],[43,18,43,23],[43,24,43,35],[43,36,43,42],[43,43,43,45],[44,3,44,15],[44,18,44,23],[44,24,44,35],[44,36,44,42],[44,43,44,45],[41,3,41,15],[41,18,41,23],[41,24,41,35],[41,36,41,42],[41,43,41,45],[42,3,42,15],[42,18,42,23],[42,24,42,35],[42,36,42,42],[42,43,42,45],[39,3,39,15],[39,18,39,23],[39,24,39,35],[39,36,39,42],[39,43,39,45],[40,3,40,15],[40,18,40,23],[40,24,40,35],[40,36,40,42],[40,43,40,45],[37,3,37,15],[37,18,37,23],[37,24,37,35],[37,36,37,42],[37,43,37,45],[38,3,38,15],[38,18,38,23],[38,24,38,35],[38,36,38,42],[38,43,38,45],[35,3,35,15],[35,18,35,23],[35,24,35,35],[35,36,35,42],[35,43,35,45],[36,3,36,15],[36,18,36,23],[36,24,36,35],[36,36,36,42],[36,43,36,45],[33,3,33,15],[33,18,33,23],[33,24,33,35],[33,36,33,42],[33,43,33,45],[34,3,34,15],[34,18,34,23],[34,24,34,35],[34,36,34,42],[34,43,34,45],[31,3,31,15],[31,18,31,23],[31,24,31,35],[31,36,31,42],[31,43,31,45],[32,3,32,15],[32,18,32,23],[32,24,32,35],[32,36,32,42],[32,43,32,45],[29,3,29,15],[29,18,29,23],[29,24,29,35],[29,36,29,42],[29,43,29,45],[30,3,30,15],[30,18,30,23],[30,24,30,35],[30,36,30,42],[30,43,30,45],[27,3,27,15],[27,18,27,23],[27,24,27,35],[27,36,27,42],[27,43,27,45],[28,3,28,15],[28,18,28,23],[28,24,28,35],[28,36,28,42],[28,43,28,45],[25,3,25,15],[25,18,25,23],[25,24,25,35],[25,36,25,42],[25,43,25,45],[26,3,26,15],[26,18,26,23],[26,24,26,35],[26,36,26,42],[26,43,26,45],[23,3,23,15],[23,18,23,23],[23,24,23,35],[23,36,23,42],[23,43,23,45],[24,3,24,15],[24,18,24,23],[24,24,24,35],[24,36,24,42],[24,43,24,45],[22,3,22,15],[22,18,22,23],[22,24,22,35],[22,36,22,42],[22,43,22,45],[17,1,21,1],[17,2,21,2],[17,3,21,15],[17,16,21,16],[17,17,21,17],[17,18,21,23],[0,7,5,46],[6,11,10,34],[6,35,9,46],[10,35,13,46],[12,17,15,22],[12,23,15,24],[12,25,15,26],[17,24,21,35],[17,36,21,42],[17,43,21,45]]}
[null,null,null,null,null,null,null,"Чемпионат ХМАО-Югры по СБЕ (ММА) среди муж. 18лет и старше,первенство среди юношей 16-17лет"]
[]
[]
[]
[]
[]
[null,null,null,null,null,null,null,null,null,null,null,"ПРОТОКОЛ РЕЗУЛЬТАТОВ ЛИЧНОГО ПЕРВЕНСТВА",null,null,null,null,null,null,null,null,null,null,null,null,null,null,null,null,null,null,null,null,null,null,null,"г. Ханты-Мансийск"]
[]
[]
[]
[null,null,null,null,null,null,null,null,null,null,null,null,null,null,null,null,null,null,null,null,null,null,null,null,null,null,null,null,null,null,null,null,null,null,null,"с16 по 19 февраля 2018г."]
[]
[null,null,null,null,null,null,null,null,null,null,null,null,null,null,null,null,null,"Весовая категория до",null,null,null,null,null,"70,3",null,"кг"]
[]
[]
[]
[]
[null,"№ ","№ \nкат","Ф.И.О. (полностью)",null,null,null,null,null,null,null,null,null,null,null,null,"Дата рожд.","Разряд","Тренер",null,null,null,null,null,"Команда",null,null,null,null,null,null,null,null,null,null,null,"Клуб",null,null,null,null,null,null,"Место"]
[]
[]
[]
[]
[null,1,1,"Хабибулаев Алибек Расулович",null,null,null,null,null,null,null,null,null,null,null,null,"1986-11-14","МС","Мамедов Р.А.,Хабибулаев А.Р.",null,null,null,null,null,"Скорпион (г. Лангепас)",null,null,null,null,null,null,null,null,null,null,null,0,null,null,null,null,null,null,1]
[null,2,6,"Наврузалиев Камиль Шакирович",null,null,null,null,null,null,null,null,null,null,null,null,"1995-11-30","КМС","Дибиров М.М.",null,null,null,null,null,"г. Сургут",null,null,null,null,null,null,null,null,null,null,null,0,null,null,null,null,null,null,2]
[null,3,3,"Бондарчук Иван Викторович",null,null,null,null,null,null,null,null,null,null,null,null,"1997-07-02",0,"Завьялов А.В.",null,null,null,null,null,"г. Сургут",null,null,null,null,null,null,null,null,null,null,null,0,null,null,null,null,null,null,3]
[null,4,2,"Гаджиев Халид Мухтарович",null,null,null,null,null,null,null,null,null,null,null,null,"1990-07-23","МС","Гаджиев Х.М.",null,null,null,null,null,"г. Нижневартовск",null,null,null,null,null,null,null,null,null,null,null,0,null,null,null,null,null,null,3]
[null,5,5,"Мирзораджаб Мирзонодир ",null,null,null,null,null,null,null,null,null,null,null,null,"1991-12-27",0,"Гаджиев Х.М.",null,null,null,null,null,"г. Нижневартовск",null,null,null,null,null,null,null,null,null,null,null,0,null,null,null,null,null,null,"5-8"]
[null,6,7,"Киричевский Максим Викторович",null,null,null,null,null,null,null,null,null,null,null,null,"1997-11-30","КМС","Дибиров М.М.",null,null,null,null,null,"г. Сургут",null,null,null,null,null,null,null,null,null,null,null,0,null,null,null,null,null,null,"5-8"]
[null,7,8,"Лупарев Максим Александрович",null,null,null,null,null,null,null,null,null,null,null,null,"1999-01-20","КМС","Гаджиханов Р.",null,null,null,null,null,"г. Сургут",null,null,null,null,null,null,null,null,null,null,null,0,null,null,null,null,null,null,"5-8"]
[null,8,4,"Мирзаев Ибрагим Габибуллаевич",null,null,null,null,null,null,null,null,null,null,null,null,"1995-07-17",0,"Казбеков Т.Г.",null,null,null,null,null,"г. Нижневартовск (СБЕ КОБРА)",null,null,null,null,null,null,null,null,null,null,null,0,null,null,null,null,null,null,"5-8"]
[null,9,0,"",null,null,null,null,null,null,null,null,null,null,null,null,"","","",null,null,null,null,null,"",null,null,null,null,null,null,null,null,null,null,null,"",null,null,null,null,null,null,"9-16"]
[null,10,9,"Рамазанов Рамазан Газимагомедович",null,null,null,null,null,null,null,null,null,null,null,null,"1997-06-13",0,"Бадабиев Р.С.,Халитов В.Р.",null,null,null,null,null,"г. Нижневартовск",null,null,null,null,null,null,null,null,null,null,null,0,null,null,null,null,null,null,"9-16"]
[null,11,0,"",null,null,null,null,null,null,null,null,null,null,null,null,"","","",null,null,null,null,null,"",null,null,null,null,null,null,null,null,null,null,null,"",null,null,null,null,null,null,"9-16"]
[null,12,0,"",null,null,null,null,null,null,null,null,null,null,null,null,"","","",null,null,null,null,null,"",null,null,null,null,null,null,null,null,null,null,null,"",null,null,null,null,null,null,"9-16"]
[null,13,0,"",null,null,null,null,null,null,null,null,null,null,null,null,"","","",null,null,null,null,null,"",null,null,null,null,null,null,null,null,null,null,null,"",null,null,null,null,null,null,"9-16"]
[null,14,0,"",null,null,null,null,null,null,null,null,null,null,null,null,"","","",null,null,null,null,null,"",null,null,null,null,null,null,null,null,null,null,null,"",null,null,null,null,null,null,"9-16"]
[null,15,0,"",null,null,null,null,null,null,null,null,null,null,null,null,"","","",null,null,null,null,null,"",null,null,null,null,null,null,null,null,null,null,null,"",null,null,null,null,null,null,"9-16"]
[null,16,10,"",null,null,null,null,null,null,null,null,null,null,null,null,"","","",null,null,null,null,null,"",null,null,null,null,null,null,null,null,null,null,null,"",null,null,null,null,null,null,"9-16"]
[null,17,0,"",null,null,null,null,null,null,null,null,null,null,null,null,"","","",null,null,null,null,null,"",null,null,null,null,null,null,null,null,null,null,null,"",null,null,null,null,null,null,"17-32"]
[null,19,0,"",null,null,null,null,null,null,null,null,null,null,null,null,"","","",null,null,null,null,null,"",null,null,null,null,null,null,null,null,null,null,null,"",null,null,null,null,null,null,"17-32"]
[null,null,0,"",null,null,null,null,null,null,null,null,null,null,null,null,"","","",null,null,null,null,null,"",null,null,null,null,null,null,null,null,null,null,null,"",null,null,null,null,null,null,"17-32"]
[null,null,0,"",null,null,null,null,null,null,null,null,null,null,null,null,"","","",null,null,null,null,null,"",null,null,null,null,null,null,null,null,null,null,null,"",null,null,null,null,null,null,"17-32"]
[null,21,0,"",null,null,null,null,null,null,null,null,null,null,null,null,"","","",null,null,null,null,null,"",null,null,null,null,null,null,null,null,null,null,null,"",null,null,null,null,null,null,"17-32"]
[null,22,0,"",null,null,null,null,null,null,null,null,null,null,null,null,"","","",null,null,null,null,null,"",null,null,null,null,null,null,null,null,null,null,null,"",null,null,null,null,null,null,"17-32"]
[null,23,0,"",null,null,null,null,null,null,null,null,null,null,null,null,"","","",null,null,null,null,null,"",null,null,null,null,null,null,null,null,null,null,null,"",null,null,null,null,null,null,"17-32"]
[null,24,0,"",null,null,null,null,null,null,null,null,null,null,null,null,"","","",null,null,null,null,null,"",null,null,null,null,null,null,null,null,null,null,null,"",null,null,null,null,null,null,"17-32"]
[null,25,0,"",null,null,null,null,null,null,null,null,null,null,null,null,"","","",null,null,null,null,null,"",null,null,null,null,null,null,null,null,null,null,null,"",null,null,null,null,null,null,"17-32"]
[null,26,0,"",null,null,null,null,null,null,null,null,null,null,null,null,"","","",null,null,null,null,null,"",null,null,null,null,null,null,null,null,null,null,null,"",null,null,null,null,null,null,"17-32"]
[null,27,0,"",null,null,null,null,null,null,null,null,null,null,null,null,"","","",null,null,null,null,null,"",null,null,null,null,null,null,null,null,null,null,null,"",null,null,null,null,null,null,"17-32"]
[null,28,0,"",null,null,null,null,null,null,null,null,null,null,null,null,"","","",null,null,null,null,null,"",null,null,null,null,null,null,null,null,null,null,null,"",null,null,null,null,null,null,"17-32"]
[null,29,0,"",null,null,null,null,null,null,null,null,null,null,null,null,"","","",null,null,null,null,null,"",null,null,null,null,null,null,null,null,null,null,null,"",null,null,null,null,null,null,"17-32"]
[null,30,0,"",null,null,null,null,null,null,null,null,null,null,null,null,"","","",null,null,null,null,null,"",null,null,null,null,null,null,null,null,null,null,null,"",null,null,null,null,null,null,"17-32"]
[null,31,0,"",null,null,null,null,null,null,null,null,null,null,null,null,"","","",null,null,null,null,null,"",null,null,null,null,null,null,null,null,null,null,null,"",null,null,null,null,null,null,"17-32"]
[null,32,0,"",null,null,null,null,null,null,null,null,null,null,null,null,"","","",null,null,null,null,null,"",null,null,null,null,null,null,null,null,null,null,null,"",null,null,null,null,null,null,"17-32"]
[]
[]
[]
[]
[null,null,null,null,null,null,null,null,null,null,null,null,null,null,null,null,null,null,"Главный судья соревнований",null,null,null,null,null,null,null,null,null,null,null,null,null,null,null,null,"/","Карташков К.В.",null,null,null,null,null,null,null,null,"/"]
[]
[]
[]
[]
[]
[]
[]
[null,null,null,null,null,null,null,null,null,null,null,null,null,null,null,null,null,null,"Главный секретарь",null,null,null,null,null,null,null,null,null,null,null,null,null,null,null,null,"/","Толстыгин А.Ю.",null,null,null,null,null,null,null,null,"/"]
[]
[]
[]
[]
[null,null,null,null,null,null,null,null,null,null,null,null,null,null,null,null,null,null,null,null,null,null,null,null,null,null,null,null,null,null,null,null,null,null,null,null,null,null,null,null,null,null,null,null,null,null,20]

{"sheet":"21. ПР 77,1","index":39,"n_rows":72,"n_cols":47,"rows_kept":72,"cut":false,"hidden":false,"merged":[[71,46,73,46],[66,18,69,28],[66,29,69,34],[66,35,69,35],[66,36,69,44],[66,45,69,45],[53,3,53,15],[53,18,53,23],[53,24,53,35],[53,36,53,42],[53,43,53,45],[58,18,61,28],[58,29,61,34],[58,35,61,35],[58,36,61,44],[58,45,61,45],[51,3,51,15],[51,18,51,23],[51,24,51,35],[51,36,51,42],[51,43,51,45],[52,3,52,15],[52,18,52,23],[52,24,52,35],[52,36,52,42],[52,43,52,45],[49,3,49,15],[49,18,49,23],[49,24,49,35],[49,36,49,42],[49,43,49,45],[50,3,50,15],[50,18,50,23],[50,24,50,35],[50,36,50,42],[50,43,50,45],[47,3,47,15],[47,18,47,23],[47,24,47,35],[47,36,47,42],[47,43,47,45],[48,3,48,15],[48,18,48,23],[48,24,48,35],[48,36,48,42],[48,43,48,45],[45,3,45,15],[45,18,45,23],[45,24,45,35],[45,36,45,42],[45,43,45,45],[46,3,46,15],[46,18,46,23],[46,24,46,35],[46,36,46,42],[46,43,46,45],[43,3,43,15],[43,18,43,23],[43,24,43,35],[43,36,43,42],[43,43,43,45],[44,3,44,15],[44,18,44,23],[44,24,44,35],[44,36,44,42],[44,43,44,45],[41,3,41,15],[41,18,41,23],[41,24,41,35],[41,36,41,42],[41,43,41,45],[42,3,42,15],[42,18,42,23],[42,24,42,35],[42,36,42,42],[42,43,42,45],[39,3,39,15],[39,18,39,23],[39,24,39,35],[39,36,39,42],[39,43,39,45],[40,3,40,15],[40,18,40,23],[40,24,40,35],[40,36,40,42],[40,43,40,45],[37,3,37,15],[37,18,37,23],[37,24,37,35],[37,36,37,42],[37,43,37,45],[38,3,38,15],[38,18,38,23],[38,24,38,35],[38,36,38,42],[38,43,38,45],[35,3,35,15],[35,18,35,23],[35,24,35,35],[35,36,35,42],[35,43,35,45],[36,3,36,15],[36,18,36,23],[36,24,36,35],[36,36,36,42],[36,43,36,45],[33,3,33,15],[33,18,33,23],[33,24,33,35],[33,36,33,42],[33,43,33,45],[34,3,34,15],[34,18,34,23],[34,24,34,35],[34,36,34,42],[34,43,34,45],[31,3,31,15],[31,18,31,23],[31,24,31,35],[31,36,31,42],[31,43,31,45],[32,3,32,15],[32,18,32,23],[32,24,32,35],[32,36,32,42],[32,43,32,45],[29,3,29,15],[29,18,29,23],[29,24,29,35],[29,36,29,42],[29,43,29,45],[30,3,30,15],[30,18,30,23],[30,24,30,35],[30,36,30,42],[30,43,30,45],[27,3,27,15],[27,18,27,23],[27,24,27,35],[27,36,27,42],[27,43,27,45],[28,3,28,15],[28,18,28,23],[28,24,28,35],[28,36,28,42],[28,43,28,45],[25,3,25,15],[25,18,25,23],[25,24,25,35],[25,36,25,42],[25,43,25,45],[26,3,26,15],[26,18,26,23],[26,24,26,35],[26,36,26,42],[26,43,26,45],[23,3,23,15],[23,18,23,23],[23,24,23,35],[23,36,23,42],[23,43,23,45],[24,3,24,15],[24,18,24,23],[24,24,24,35],[24,36,24,42],[24,43,24,45],[22,3,22,15],[22,18,22,23],[22,24,22,35],[22,36,22,42],[22,43,22,45],[17,1,21,1],[17,2,21,2],[17,3,21,15],[17,16,21,16],[17,17,21,17],[17,18,21,23],[0,7,5,46],[6,11,10,34],[6,35,9,46],[10,35,13,46],[12,17,15,22],[12,23,15,24],[12,25,15,26],[17,24,21,35],[17,36,21,42],[17,43,21,45]]}
[null,null,null,null,null,null,null,"Чемпионат ХМАО-Югры по СБЕ (ММА) среди муж. 18лет и старше,первенство среди юношей 16-17лет"]
[]
[]
[]
[]
[]
[null,null,null,null,null,null,null,null,null,null,null,"ПРОТОКОЛ РЕЗУЛЬТАТОВ ЛИЧНОГО ПЕРВЕНСТВА",null,null,null,null,null,null,null,null,null,null,null,null,null,null,null,null,null,null,null,null,null,null,null,"г. Ханты-Мансийск"]
[]
[]
[]
[null,null,null,null,null,null,null,null,null,null,null,null,null,null,null,null,null,null,null,null,null,null,null,null,null,null,null,null,null,null,null,null,null,null,null,"с16 по 19 февраля 2018г."]
[]
[null,null,null,null,null,null,null,null,null,null,null,null,null,null,null,null,null,"Весовая категория до",null,null,null,null,null,77.099999999999994,null,"кг"]
[]
[]
[]
[]
[null,"№ ","№ \nкат","Ф.И.О. (полностью)",null,null,null,null,null,null,null,null,null,null,null,null,"Дата рожд.","Разряд","Тренер",null,null,null,null,null,"Команда",null,null,null,null,null,null,null,null,null,null,null,"Клуб",null,null,null,null,null,null,"Место"]
[]
[]
[]
[]
[null,1,2,"Тарикулиев Заур Рамазанович",null,null,null,null,null,null,null,null,null,null,null,null,"1991-06-03","МС","Сиражудинов Р.С.",null,null,null,null,null,"СДЮСШОР \"СПАРТАК\" (г.Нефтеюганск)",null,null,null,null,null,null,null,null,null,null,null,0,null,null,null,null,null,null,1]
[null,2,5,"Шапиев Абдулталип Эльбрусович",null,null,null,null,null,null,null,null,null,null,null,null,"1996-05-10",0,"Мамедов Р.А.,Хабибулаев А.Р.",null,null,null,null,null,"Скорпион (г. Лангепас)",null,null,null,null,null,null,null,null,null,null,null,0,null,null,null,null,null,null,2]
[null,3,3,"Костылевский Руслан Александрович",null,null,null,null,null,null,null,null,null,null,null,null,"1993-03-22",0,"Тагаев Э.Т.",null,null,null,null,null,"г.Белоярский",null,null,null,null,null,null,null,null,null,null,null,0,null,null,null,null,null,null,3]
[null,4,8,"Муслимов Азамат Мурадович",null,null,null,null,null,null,null,null,null,null,null,null,"1993-08-02","КМС","Изабеков А.З.",null,null,null,null,null,"г. Сургут",null,null,null,null,null,null,null,null,null,null,null,0,null,null,null,null,null,null,3]
[null,5,1,"Расулов Магомедсайгид Магомедсаидович",null,null,null,null,null,null,null,null,null,null,null,null,"1995-08-19","КМС","Бывалин Е.С.",null,null,null,null,null,"г. Ханты-Мансийск",null,null,null,null,null,null,null,null,null,null,null,0,null,null,null,null,null,null,"5-8"]
[null,6,7,"Юсупов Магомед Абулмуслимович",null,null,null,null,null,null,null,null,null,null,null,null,"1993-09-22","КМС","Изабеков А.З.",null,null,null,null,null,"г. Сургут",null,null,null,null,null,null,null,null,null,null,null,0,null,null,null,null,null,null,"5-8"]
[null,7,10,"Ахмедов Равидин Ахмедович",null,null,null,null,null,null,null,null,null,null,null,null,"1989-05-28","КМС","Кучкин А.В.",null,null,null,null,null,"г. Сургут",null,null,null,null,null,null,null,null,null,null,null,0,null,null,null,null,null,null,"5-8"]
[null,8,4,"Магомедов Ахмед Умарович",null,null,null,null,null,null,null,null,null,null,null,null,"1999-12-07",0,"Бывалин Е.С.",null,null,null,null,null,"г. Ханты-Мансийск",null,null,null,null,null,null,null,null,null,null,null,0,null,null,null,null,null,null,"5-8"]
[null,9,0,"",null,null,null,null,null,null,null,null,null,null,null,null,"","","",null,null,null,null,null,"",null,null,null,null,null,null,null,null,null,null,null,"",null,null,null,null,null,null,"9-16"]
[null,10,9,"Серков Вадим Игоревич",null,null,null,null,null,null,null,null,null,null,null,null,"1993-07-11","КМС","Изабеков А.З.",null,null,null,null,null,"г. Сургут",null,null,null,null,null,null,null,null,null,null,null,0,null,null,null,null,null,null,"9-16"]
[null,11,0,"",null,null,null,null,null,null,null,null,null,null,null,null,"","","",null,null,null,null,null,"",null,null,null,null,null,null,null,null,null,null,null,"",null,null,null,null,null,null,"9-16"]
[null,12,11,"Сальников Ярослав Викторович",null,null,null,null,null,null,null,null,null,null,null,null,"1990-09-04","КМС","Изабеков А.З.",null,null,null,null,null,"г. Сургут",null,null,null,null,null,null,null,null,null,null,null,0,null,null,null,null,null,null,"9-16"]
[null,13,0,"",null,null,null,null,null,null,null,null,null,null,null,null,"","","",null,null,null,null,null,"",null,null,null,null,null,null,null,null,null,null,null,"",null,null,null,null,null,null,"9-16"]
[null,14,6,"Роговой Владимир Александрович",null,null,null,null,null,null,null,null,null,null,null,null,"1992-04-28","КМС","Изабеков А.З.",null,null,null,null,null,"г. Сургут",null,null,null,null,null,null,null,null,null,null,null,0,null,null,null,null,null,null,"9-16"]
[null,15,0,"",null,null,null,null,null,null,null,null,null,null,null,null,"","","",null,null,null,null,null,"",null,null,null,null,null,null,null,null,null,null,null,"",null,null,null,null,null,null,"9-16"]
[null,16,12,"",null,null,null,null,null,null,null,null,null,null,null,null,"","","",null,null,null,null,null,"",null,null,null,null,null,null,null,null,null,null,null,"",null,null,null,null,null,null,"9-16"]
[null,17,0,"",null,null,null,null,null,null,null,null,null,null,null,null,"","","",null,null,null,null,null,"",null,null,null,null,null,null,null,null,null,null,null,"",null,null,null,null,null,null,"17-32"]
[null,18,0,"",null,null,null,null,null,null,null,null,null,null,null,null,"","","",null,null,null,null,null,"",null,null,null,null,null,null,null,null,null,null,null,"",null,null,null,null,null,null,"17-32"]
[null,19,0,"",null,null,null,null,null,null,null,null,null,null,null,null,"","","",null,null,null,null,null,"",null,null,null,null,null,null,null,null,null,null,null,"",null,null,null,null,null,null,"17-32"]
[null,20,0,"",null,null,null,null,null,null,null,null,null,null,null,null,"","","",null,null,null,null,null,"",null,null,null,null,null,null,null,null,null,null,null,"",null,null,null,null,null,null,"17-32"]
[null,21,0,"",null,null,null,null,null,null,null,null,null,null,null,null,"","","",null,null,null,null,null,"",null,null,null,null,null,null,null,null,null,null,null,"",null,null,null,null,null,null,"17-32"]
[null,22,0,"",null,null,null,null,null,null,null,null,null,null,null,null,"","","",null,null,null,null,null,"",null,null,null,null,null,null,null,null,null,null,null,"",null,null,null,null,null,null,"17-32"]
[null,23,0,"",null,null,null,null,null,null,null,null,null,null,null,null,"","","",null,null,null,null,null,"",null,null,null,null,null,null,null,null,null,null,null,"",null,null,null,null,null,null,"17-32"]
[null,24,0,"",null,null,null,null,null,null,null,null,null,null,null,null,"","","",null,null,null,null,null,"",null,null,null,null,null,null,null,null,null,null,null,"",null,null,null,null,null,null,"17-32"]
[null,25,0,"",null,null,null,null,null,null,null,null,null,null,null,null,"","","",null,null,null,null,null,"",null,null,null,null,null,null,null,null,null,null,null,"",null,null,null,null,null,null,"17-32"]
[null,26,0,"",null,null,null,null,null,null,null,null,null,null,null,null,"","","",null,null,null,null,null,"",null,null,null,null,null,null,null,null,null,null,null,"",null,null,null,null,null,null,"17-32"]
[null,27,0,"",null,null,null,null,null,null,null,null,null,null,null,null,"","","",null,null,null,null,null,"",null,null,null,null,null,null,null,null,null,null,null,"",null,null,null,null,null,null,"17-32"]
[null,28,0,"",null,null,null,null,null,null,null,null,null,null,null,null,"","","",null,null,null,null,null,"",null,null,null,null,null,null,null,null,null,null,null,"",null,null,null,null,null,null,"17-32"]
[null,29,0,"",null,null,null,null,null,null,null,null,null,null,null,null,"","","",null,null,null,null,null,"",null,null,null,null,null,null,null,null,null,null,null,"",null,null,null,null,null,null,"17-32"]
[null,30,0,"",null,null,null,null,null,null,null,null,null,null,null,null,"","","",null,null,null,null,null,"",null,null,null,null,null,null,null,null,null,null,null,"",null,null,null,null,null,null,"17-32"]
[null,31,0,"",null,null,null,null,null,null,null,null,null,null,null,null,"","","",null,null,null,null,null,"",null,null,null,null,null,null,null,null,null,null,null,"",null,null,null,null,null,null,"17-32"]
[null,32,0,"",null,null,null,null,null,null,null,null,null,null,null,null,"","","",null,null,null,null,null,"",null,null,null,null,null,null,null,null,null,null,null,"",null,null,null,null,null,null,"17-32"]
[]
[]
[]
[]
[null,null,null,null,null,null,null,null,null,null,null,null,null,null,null,null,null,null,"Главный судья соревнований",null,null,null,null,null,null,null,null,null,null,null,null,null,null,null,null,"/","Карташков К.В.",null,null,null,null,null,null,null,null,"/"]
[]
[]
[]
[]
[]
[]
[]
[null,null,null,null,null,null,null,null,null,null,null,null,null,null,null,null,null,null,"Главный секретарь",null,null,null,null,null,null,null,null,null,null,null,null,null,null,null,null,"/","Толстыгин А.Ю.",null,null,null,null,null,null,null,null,"/"]
[]
[]
[]
[]
[null,null,null,null,null,null,null,null,null,null,null,null,null,null,null,null,null,null,null,null,null,null,null,null,null,null,null,null,null,null,null,null,null,null,null,null,null,null,null,null,null,null,null,null,null,null,21]

{"sheet":"22. ПР 84","index":40,"n_rows":72,"n_cols":47,"rows_kept":72,"cut":false,"hidden":false,"merged":[[71,46,73,46],[66,18,69,28],[66,29,69,34],[66,35,69,35],[66,36,69,44],[66,45,69,45],[53,3,53,15],[53,18,53,23],[53,24,53,35],[53,36,53,42],[53,43,53,45],[58,18,61,28],[58,29,61,34],[58,35,61,35],[58,36,61,44],[58,45,61,45],[51,3,51,15],[51,18,51,23],[51,24,51,35],[51,36,51,42],[51,43,51,45],[52,3,52,15],[52,18,52,23],[52,24,52,35],[52,36,52,42],[52,43,52,45],[49,3,49,15],[49,18,49,23],[49,24,49,35],[49,36,49,42],[49,43,49,45],[50,3,50,15],[50,18,50,23],[50,24,50,35],[50,36,50,42],[50,43,50,45],[47,3,47,15],[47,18,47,23],[47,24,47,35],[47,36,47,42],[47,43,47,45],[48,3,48,15],[48,18,48,23],[48,24,48,35],[48,36,48,42],[48,43,48,45],[45,3,45,15],[45,18,45,23],[45,24,45,35],[45,36,45,42],[45,43,45,45],[46,3,46,15],[46,18,46,23],[46,24,46,35],[46,36,46,42],[46,43,46,45],[43,3,43,15],[43,18,43,23],[43,24,43,35],[43,36,43,42],[43,43,43,45],[44,3,44,15],[44,18,44,23],[44,24,44,35],[44,36,44,42],[44,43,44,45],[41,3,41,15],[41,18,41,23],[41,24,41,35],[41,36,41,42],[41,43,41,45],[42,3,42,15],[42,18,42,23],[42,24,42,35],[42,36,42,42],[42,43,42,45],[39,3,39,15],[39,18,39,23],[39,24,39,35],[39,36,39,42],[39,43,39,45],[40,3,40,15],[40,18,40,23],[40,24,40,35],[40,36,40,42],[40,43,40,45],[37,3,37,15],[37,18,37,23],[37,24,37,35],[37,36,37,42],[37,43,37,45],[38,3,38,15],[38,18,38,23],[38,24,38,35],[38,36,38,42],[38,43,38,45],[35,3,35,15],[35,18,35,23],[35,24,35,35],[35,36,35,42],[35,43,35,45],[36,3,36,15],[36,18,36,23],[36,24,36,35],[36,36,36,42],[36,43,36,45],[33,3,33,15],[33,18,33,23],[33,24,33,35],[33,36,33,42],[33,43,33,45],[34,3,34,15],[34,18,34,23],[34,24,34,35],[34,36,34,42],[34,43,34,45],[31,3,31,15],[31,18,31,23],[31,24,31,35],[31,36,31,42],[31,43,31,45],[32,3,32,15],[32,18,32,23],[32,24,32,35],[32,36,32,42],[32,43,32,45],[29,3,29,15],[29,18,29,23],[29,24,29,35],[29,36,29,42],[29,43,29,45],[30,3,30,15],[30,18,30,23],[30,24,30,35],[30,36,30,42],[30,43,30,45],[27,3,27,15],[27,18,27,23],[27,24,27,35],[27,36,27,42],[27,43,27,45],[28,3,28,15],[28,18,28,23],[28,24,28,35],[28,36,28,42],[28,43,28,45],[25,3,25,15],[25,18,25,23],[25,24,25,35],[25,36,25,42],[25,43,25,45],[26,3,26,15],[26,18,26,23],[26,24,26,35],[26,36,26,42],[26,43,26,45],[23,3,23,15],[23,18,23,23],[23,24,23,35],[23,36,23,42],[23,43,23,45],[24,3,24,15],[24,18,24,23],[24,24,24,35],[24,36,24,42],[24,43,24,45],[22,3,22,15],[22,18,22,23],[22,24,22,35],[22,36,22,42],[22,43,22,45],[17,1,21,1],[17,2,21,2],[17,3,21,15],[17,16,21,16],[17,17,21,17],[17,18,21,23],[0,7,5,46],[6,11,10,34],[6,35,9,46],[10,35,13,46],[12,17,15,22],[12,23,15,24],[12,25,15,26],[17,24,21,35],[17,36,21,42],[17,43,21,45]]}
[null,null,null,null,null,null,null,"Чемпионат ХМАО-Югры по СБЕ (ММА) среди муж. 18лет и старше,первенство среди юношей 16-17лет"]
[]
[]
[]
[]
[]
[null,null,null,null,null,null,null,null,null,null,null,"ПРОТОКОЛ РЕЗУЛЬТАТОВ ЛИЧНОГО ПЕРВЕНСТВА",null,null,null,null,null,null,null,null,null,null,null,null,null,null,null,null,null,null,null,null,null,null,null,"г. Ханты-Мансийск"]
[]
[]
[]
[null,null,null,null,null,null,null,null,null,null,null,null,null,null,null,null,null,null,null,null,null,null,null,null,null,null,null,null,null,null,null,null,null,null,null,"с16 по 19 февраля 2018г."]
[]
[null,null,null,null,null,null,null,null,null,null,null,null,null,null,null,null,null,"Весовая категория до",null,null,null,null,null,84,null,"кг"]
[]
[]
[]
[]
[null,"№ ","№ \nкат","Ф.И.О. (полностью)",null,null,null,null,null,null,null,null,null,null,null,null,"Дата рожд.","Разряд","Тренер",null,null,null,null,null,"Команда",null,null,null,null,null,null,null,null,null,null,null,"Клуб",null,null,null,null,null,null,"Место"]
[]
[]
[]
[]
[null,1,2,"Хатков Станислав Эдуардович",null,null,null,null,null,null,null,null,null,null,null,null,"1998-02-27","КМС","Кучкин А.В.",null,null,null,null,null,"г. Сургут",null,null,null,null,null,null,null,null,null,null,null,0,null,null,null,null,null,null,1]
[null,2,3,"Мамедов Нариман Алибиевич",null,null,null,null,null,null,null,null,null,null,null,null,"1998-06-05",0,"Сиражудинов Р.С.",null,null,null,null,null,"СДЮСШОР \"СПАРТАК\" (г.Нефтеюганск)",null,null,null,null,null,null,null,null,null,null,null,0,null,null,null,null,null,null,2]
[null,3,1,"Багаутдинов Гамзатда Алиевич",null,null,null,null,null,null,null,null,null,null,null,null,"1994-09-15",0,"Казбеков Т.Г.",null,null,null,null,null,"г. Нижневартовск",null,null,null,null,null,null,null,null,null,null,null,0,null,null,null,null,null,null,3]
[null,4,4,"Солтанов Нариман Камилович",null,null,null,null,null,null,null,null,null,null,null,null,"1988-12-26","МС","Сиражудинов Р.С.",null,null,null,null,null,"СДЮСШОР \"СПАРТАК\" (г.Нефтеюганск)",null,null,null,null,null,null,null,null,null,null,null,0,null,null,null,null,null,null,3]
[null,5,0,"",null,null,null,null,null,null,null,null,null,null,null,null,"","","",null,null,null,null,null,"",null,null,null,null,null,null,null,null,null,null,null,"",null,null,null,null,null,null,"5-8"]
[null,6,0,"",null,null,null,null,null,null,null,null,null,null,null,null,"","","",null,null,null,null,null,"",null,null,null,null,null,null,null,null,null,null,null,"",null,null,null,null,null,null,"5-8"]
[null,7,0,"",null,null,null,null,null,null,null,null,null,null,null,null,"","","",null,null,null,null,null,"",null,null,null,null,null,null,null,null,null,null,null,"",null,null,null,null,null,null,"5-8"]
[null,8,0,"",null,null,null,null,null,null,null,null,null,null,null,null,"","","",null,null,null,null,null,"",null,null,null,null,null,null,null,null,null,null,null,"",null,null,null,null,null,null,"5-8"]
[null,9,0,"",null,null,null,null,null,null,null,null,null,null,null,null,"","","",null,null,null,null,null,"",null,null,null,null,null,null,null,null,null,null,null,"",null,null,null,null,null,null,"9-16"]
[null,10,0,"",null,null,null,null,null,null,null,null,null,null,null,null,"","","",null,null,null,null,null,"",null,null,null,null,null,null,null,null,null,null,null,"",null,null,null,null,null,null,"9-16"]
[null,11,0,"",null,null,null,null,null,null,null,null,null,null,null,null,"","","",null,null,null,null,null,"",null,null,null,null,null,null,null,null,null,null,null,"",null,null,null,null,null,null,"9-16"]
[null,12,0,"",null,null,null,null,null,null,null,null,null,null,null,null,"","","",null,null,null,null,null,"",null,null,null,null,null,null,null,null,null,null,null,"",null,null,null,null,null,null,"9-16"]
[null,13,0,"",null,null,null,null,null,null,null,null,null,null,null,null,"","","",null,null,null,null,null,"",null,null,null,null,null,null,null,null,null,null,null,"",null,null,null,null,null,null,"9-16"]
[null,14,0,"",null,null,null,null,null,null,null,null,null,null,null,null,"","","",null,null,null,null,null,"",null,null,null,null,null,null,null,null,null,null,null,"",null,null,null,null,null,null,"9-16"]
[null,15,0,"",null,null,null,null,null,null,null,null,null,null,null,null,"","","",null,null,null,null,null,"",null,null,null,null,null,null,null,null,null,null,null,"",null,null,null,null,null,null,"9-16"]
[null,16,0,"",null,null,null,null,null,null,null,null,null,null,null,null,"","","",null,null,null,null,null,"",null,null,null,null,null,null,null,null,null,null,null,"",null,null,null,null,null,null,"9-16"]
[null,17,0,"",null,null,null,null,null,null,null,null,null,null,null,null,"","","",null,null,null,null,null,"",null,null,null,null,null,null,null,null,null,null,null,"",null,null,null,null,null,null,"17-32"]
[null,18,0,"",null,null,null,null,null,null,null,null,null,null,null,null,"","","",null,null,null,null,null,"",null,null,null,null,null,null,null,null,null,null,null,"",null,null,null,null,null,null,"17-32"]
[null,19,0,"",null,null,null,null,null,null,null,null,null,null,null,null,"","","",null,null,null,null,null,"",null,null,null,null,null,null,null,null,null,null,null,"",null,null,null,null,null,null,"17-32"]
[null,20,0,"",null,null,null,null,null,null,null,null,null,null,null,null,"","","",null,null,null,null,null,"",null,null,null,null,null,null,null,null,null,null,null,"",null,null,null,null,null,null,"17-32"]
[null,21,0,"",null,null,null,null,null,null,null,null,null,null,null,null,"","","",null,null,null,null,null,"",null,null,null,null,null,null,null,null,null,null,null,"",null,null,null,null,null,null,"17-32"]
[null,22,0,"",null,null,null,null,null,null,null,null,null,null,null,null,"","","",null,null,null,null,null,"",null,null,null,null,null,null,null,null,null,null,null,"",null,null,null,null,null,null,"17-32"]
[null,23,0,"",null,null,null,null,null,null,null,null,null,null,null,null,"","","",null,null,null,null,null,"",null,null,null,null,null,null,null,null,null,null,null,"",null,null,null,null,null,null,"17-32"]
[null,24,0,"",null,null,null,null,null,null,null,null,null,null,null,null,"","","",null,null,null,null,null,"",null,null,null,null,null,null,null,null,null,null,null,"",null,null,null,null,null,null,"17-32"]
[null,25,0,"",null,null,null,null,null,null,null,null,null,null,null,null,"","","",null,null,null,null,null,"",null,null,null,null,null,null,null,null,null,null,null,"",null,null,null,null,null,null,"17-32"]
[null,26,0,"",null,null,null,null,null,null,null,null,null,null,null,null,"","","",null,null,null,null,null,"",null,null,null,null,null,null,null,null,null,null,null,"",null,null,null,null,null,null,"17-32"]
[null,27,0,"",null,null,null,null,null,null,null,null,null,null,null,null,"","","",null,null,null,null,null,"",null,null,null,null,null,null,null,null,null,null,null,"",null,null,null,null,null,null,"17-32"]
[null,28,0,"",null,null,null,null,null,null,null,null,null,null,null,null,"","","",null,null,null,null,null,"",null,null,null,null,null,null,null,null,null,null,null,"",null,null,null,null,null,null,"17-32"]
[null,29,0,"",null,null,null,null,null,null,null,null,null,null,null,null,"","","",null,null,null,null,null,"",null,null,null,null,null,null,null,null,null,null,null,"",null,null,null,null,null,null,"17-32"]
[null,30,0,"",null,null,null,null,null,null,null,null,null,null,null,null,"","","",null,null,null,null,null,"",null,null,null,null,null,null,null,null,null,null,null,"",null,null,null,null,null,null,"17-32"]
[null,31,0,"",null,null,null,null,null,null,null,null,null,null,null,null,"","","",null,null,null,null,null,"",null,null,null,null,null,null,null,null,null,null,null,"",null,null,null,null,null,null,"17-32"]
[null,32,0,"",null,null,null,null,null,null,null,null,null,null,null,null,"","","",null,null,null,null,null,"",null,null,null,null,null,null,null,null,null,null,null,"",null,null,null,null,null,null,"17-32"]
[]
[]
[]
[]
[null,null,null,null,null,null,null,null,null,null,null,null,null,null,null,null,null,null,"Главный судья соревнований",null,null,null,null,null,null,null,null,null,null,null,null,null,null,null,null,"/","Карташков К.В.",null,null,null,null,null,null,null,null,"/"]
[]
[]
[]
[]
[]
[]
[]
[null,null,null,null,null,null,null,null,null,null,null,null,null,null,null,null,null,null,"Главный секретарь",null,null,null,null,null,null,null,null,null,null,null,null,null,null,null,null,"/","Толстыгин А.Ю.",null,null,null,null,null,null,null,null,"/"]
[]
[]
[]
[]
[null,null,null,null,null,null,null,null,null,null,null,null,null,null,null,null,null,null,null,null,null,null,null,null,null,null,null,null,null,null,null,null,null,null,null,null,null,null,null,null,null,null,null,null,null,null,22]

{"sheet":"23. ПР 93","index":41,"n_rows":72,"n_cols":47,"rows_kept":72,"cut":false,"hidden":false,"merged":[[71,46,73,46],[66,18,69,28],[66,29,69,34],[66,35,69,35],[66,36,69,44],[66,45,69,45],[53,3,53,15],[53,18,53,23],[53,24,53,35],[53,36,53,42],[53,43,53,45],[58,18,61,28],[58,29,61,34],[58,35,61,35],[58,36,61,44],[58,45,61,45],[51,3,51,15],[51,18,51,23],[51,24,51,35],[51,36,51,42],[51,43,51,45],[52,3,52,15],[52,18,52,23],[52,24,52,35],[52,36,52,42],[52,43,52,45],[49,3,49,15],[49,18,49,23],[49,24,49,35],[49,36,49,42],[49,43,49,45],[50,3,50,15],[50,18,50,23],[50,24,50,35],[50,36,50,42],[50,43,50,45],[47,3,47,15],[47,18,47,23],[47,24,47,35],[47,36,47,42],[47,43,47,45],[48,3,48,15],[48,18,48,23],[48,24,48,35],[48,36,48,42],[48,43,48,45],[45,3,45,15],[45,18,45,23],[45,24,45,35],[45,36,45,42],[45,43,45,45],[46,3,46,15],[46,18,46,23],[46,24,46,35],[46,36,46,42],[46,43,46,45],[43,3,43,15],[43,18,43,23],[43,24,43,35],[43,36,43,42],[43,43,43,45],[44,3,44,15],[44,18,44,23],[44,24,44,35],[44,36,44,42],[44,43,44,45],[41,3,41,15],[41,18,41,23],[41,24,41,35],[41,36,41,42],[41,43,41,45],[42,3,42,15],[42,18,42,23],[42,24,42,35],[42,36,42,42],[42,43,42,45],[39,3,39,15],[39,18,39,23],[39,24,39,35],[39,36,39,42],[39,43,39,45],[40,3,40,15],[40,18,40,23],[40,24,40,35],[40,36,40,42],[40,43,40,45],[37,3,37,15],[37,18,37,23],[37,24,37,35],[37,36,37,42],[37,43,37,45],[38,3,38,15],[38,18,38,23],[38,24,38,35],[38,36,38,42],[38,43,38,45],[35,3,35,15],[35,18,35,23],[35,24,35,35],[35,36,35,42],[35,43,35,45],[36,3,36,15],[36,18,36,23],[36,24,36,35],[36,36,36,42],[36,43,36,45],[33,3,33,15],[33,18,33,23],[33,24,33,35],[33,36,33,42],[33,43,33,45],[34,3,34,15],[34,18,34,23],[34,24,34,35],[34,36,34,42],[34,43,34,45],[31,3,31,15],[31,18,31,23],[31,24,31,35],[31,36,31,42],[31,43,31,45],[32,3,32,15],[32,18,32,23],[32,24,32,35],[32,36,32,42],[32,43,32,45],[29,3,29,15],[29,18,29,23],[29,24,29,35],[29,36,29,42],[29,43,29,45],[30,3,30,15],[30,18,30,23],[30,24,30,35],[30,36,30,42],[30,43,30,45],[27,3,27,15],[27,18,27,23],[27,24,27,35],[27,36,27,42],[27,43,27,45],[28,3,28,15],[28,18,28,23],[28,24,28,35],[28,36,28,42],[28,43,28,45],[25,3,25,15],[25,18,25,23],[25,24,25,35],[25,36,25,42],[25,43,25,45],[26,3,26,15],[26,18,26,23],[26,24,26,35],[26,36,26,42],[26,43,26,45],[23,3,23,15],[23,18,23,23],[23,24,23,35],[23,36,23,42],[23,43,23,45],[24,3,24,15],[24,18,24,23],[24,24,24,35],[24,36,24,42],[24,43,24,45],[22,3,22,15],[22,18,22,23],[22,24,22,35],[22,36,22,42],[22,43,22,45],[17,1,21,1],[17,2,21,2],[17,3,21,15],[17,16,21,16],[17,17,21,17],[17,18,21,23],[0,7,5,46],[6,11,10,34],[6,35,9,46],[10,35,13,46],[12,17,15,22],[12,23,15,24],[12,25,15,26],[17,24,21,35],[17,36,21,42],[17,43,21,45]]}
[null,null,null,null,null,null,null,"Чемпионат ХМАО-Югры по СБЕ (ММА) среди муж. 18лет и старше,первенство среди юношей 16-17лет"]
[]
[]
[]
[]
[]
[null,null,null,null,null,null,null,null,null,null,null,"ПРОТОКОЛ РЕЗУЛЬТАТОВ ЛИЧНОГО ПЕРВЕНСТВА",null,null,null,null,null,null,null,null,null,null,null,null,null,null,null,null,null,null,null,null,null,null,null,"г. Ханты-Мансийск"]
[]
[]
[]
[null,null,null,null,null,null,null,null,null,null,null,null,null,null,null,null,null,null,null,null,null,null,null,null,null,null,null,null,null,null,null,null,null,null,null,"с16 по 19 февраля 2018г."]
[]
[null,null,null,null,null,null,null,null,null,null,null,null,null,null,null,null,null,"Весовая категория до",null,null,null,null,null,93,null,"кг"]
[]
[]
[]
[]
[null,"№ ","№ \nкат","Ф.И.О. (полностью)",null,null,null,null,null,null,null,null,null,null,null,null,"Дата рожд.","Разряд","Тренер",null,null,null,null,null,"Команда",null,null,null,null,null,null,null,null,null,null,null,"Клуб",null,null,null,null,null,null,"Место"]
[]
[]
[]
[]
[null,1,2,"Хебдеев Гаджимурад Тинамагомедович",null,null,null,null,null,null,null,null,null,null,null,null,"1992-05-01",0,"Сиражудинов Р.С.",null,null,null,null,null,"СДЮСШОР \"СПАРТАК\" (г.Нефтеюганск)",null,null,null,null,null,null,null,null,null,null,null,0,null,null,null,null,null,null,1]
[null,2,1,"Расулов Абдуллатип Халидбекович",null,null,null,null,null,null,null,null,null,null,null,null,"1997-09-18",0,"Мамедов Р.А.,Хабибулаев А.Р.",null,null,null,null,null,"Скорпион (г. Лангепас)",null,null,null,null,null,null,null,null,null,null,null,0,null,null,null,null,null,null,2]
[null,3,0,"",null,null,null,null,null,null,null,null,null,null,null,null,"","","",null,null,null,null,null,"",null,null,null,null,null,null,null,null,null,null,null,"",null,null,null,null,null,null,3]
[null,4,0,"",null,null,null,null,null,null,null,null,null,null,null,null,"","","",null,null,null,null,null,"",null,null,null,null,null,null,null,null,null,null,null,"",null,null,null,null,null,null,3]
[null,5,0,"",null,null,null,null,null,null,null,null,null,null,null,null,"","","",null,null,null,null,null,"",null,null,null,null,null,null,null,null,null,null,null,"",null,null,null,null,null,null,"5-8"]
[null,6,0,"",null,null,null,null,null,null,null,null,null,null,null,null,"","","",null,null,null,null,null,"",null,null,null,null,null,null,null,null,null,null,null,"",null,null,null,null,null,null,"5-8"]
[null,7,0,"",null,null,null,null,null,null,null,null,null,null,null,null,"","","",null,null,null,null,null,"",null,null,null,null,null,null,null,null,null,null,null,"",null,null,null,null,null,null,"5-8"]
[null,8,0,"",null,null,null,null,null,null,null,null,null,null,null,null,"","","",null,null,null,null,null,"",null,null,null,null,null,null,null,null,null,null,null,"",null,null,null,null,null,null,"5-8"]
[null,9,0,"",null,null,null,null,null,null,null,null,null,null,null,null,"","","",null,null,null,null,null,"",null,null,null,null,null,null,null,null,null,null,null,"",null,null,null,null,null,null,"9-16"]
[null,10,0,"",null,null,null,null,null,null,null,null,null,null,null,null,"","","",null,null,null,null,null,"",null,null,null,null,null,null,null,null,null,null,null,"",null,null,null,null,null,null,"9-16"]
[null,11,0,"",null,null,null,null,null,null,null,null,null,null,null,null,"","","",null,null,null,null,null,"",null,null,null,null,null,null,null,null,null,null,null,"",null,null,null,null,null,null,"9-16"]
[null,12,0,"",null,null,null,null,null,null,null,null,null,null,null,null,"","","",null,null,null,null,null,"",null,null,null,null,null,null,null,null,null,null,null,"",null,null,null,null,null,null,"9-16"]
[null,13,0,"",null,null,null,null,null,null,null,null,null,null,null,null,"","","",null,null,null,null,null,"",null,null,null,null,null,null,null,null,null,null,null,"",null,null,null,null,null,null,"9-16"]
[null,null,0,"",null,null,null,null,null,null,null,null,null,null,null,null,"","","",null,null,null,null,null,"",null,null,null,null,null,null,null,null,null,null,null,""]
[null,15,0,"",null,null,null,null,null,null,null,null,null,null,null,null,"","","",null,null,null,null,null,"",null,null,null,null,null,null,null,null,null,null,null,"",null,null,null,null,null,null,"9-16"]
[null,16,0,"",null,null,null,null,null,null,null,null,null,null,null,null,"","","",null,null,null,null,null,"",null,null,null,null,null,null,null,null,null,null,null,"",null,null,null,null,null,null,"9-16"]
[null,17,0,"",null,null,null,null,null,null,null,null,null,null,null,null,"","","",null,null,null,null,null,"",null,null,null,null,null,null,null,null,null,null,null,"",null,null,null,null,null,null,"17-32"]
[null,18,0,"",null,null,null,null,null,null,null,null,null,null,null,null,"","","",null,null,null,null,null,"",null,null,null,null,null,null,null,null,null,null,null,"",null,null,null,null,null,null,"17-32"]
[null,19,0,"",null,null,null,null,null,null,null,null,null,null,null,null,"","","",null,null,null,null,null,"",null,null,null,null,null,null,null,null,null,null,null,"",null,null,null,null,null,null,"17-32"]
[null,20,0,"",null,null,null,null,null,null,null,null,null,null,null,null,"","","",null,null,null,null,null,"",null,null,null,null,null,null,null,null,null,null,null,"",null,null,null,null,null,null,"17-32"]
[null,21,0,"",null,null,null,null,null,null,null,null,null,null,null,null,"","","",null,null,null,null,null,"",null,null,null,null,null,null,null,null,null,null,null,"",null,null,null,null,null,null,"17-32"]
[null,22,0,"",null,null,null,null,null,null,null,null,null,null,null,null,"","","",null,null,null,null,null,"",null,null,null,null,null,null,null,null,null,null,null,"",null,null,null,null,null,null,"17-32"]
[null,23,0,"",null,null,null,null,null,null,null,null,null,null,null,null,"","","",null,null,null,null,null,"",null,null,null,null,null,null,null,null,null,null,null,"",null,null,null,null,null,null,"17-32"]
[null,24,0,"",null,null,null,null,null,null,null,null,null,null,null,null,"","","",null,null,null,null,null,"",null,null,null,null,null,null,null,null,null,null,null,"",null,null,null,null,null,null,"17-32"]
[null,25,0,"",null,null,null,null,null,null,null,null,null,null,null,null,"","","",null,null,null,null,null,"",null,null,null,null,null,null,null,null,null,null,null,"",null,null,null,null,null,null,"17-32"]
[null,26,0,"",null,null,null,null,null,null,null,null,null,null,null,null,"","","",null,null,null,null,null,"",null,null,null,null,null,null,null,null,null,null,null,"",null,null,null,null,null,null,"17-32"]
[null,27,0,"",null,null,null,null,null,null,null,null,null,null,null,null,"","","",null,null,null,null,null,"",null,null,null,null,null,null,null,null,null,null,null,"",null,null,null,null,null,null,"17-32"]
[null,28,0,"",null,null,null,null,null,null,null,null,null,null,null,null,"","","",null,null,null,null,null,"",null,null,null,null,null,null,null,null,null,null,null,"",null,null,null,null,null,null,"17-32"]
[null,29,0,"",null,null,null,null,null,null,null,null,null,null,null,null,"","","",null,null,null,null,null,"",null,null,null,null,null,null,null,null,null,null,null,"",null,null,null,null,null,null,"17-32"]
[null,30,0,"",null,null,null,null,null,null,null,null,null,null,null,null,"","","",null,null,null,null,null,"",null,null,null,null,null,null,null,null,null,null,null,"",null,null,null,null,null,null,"17-32"]
[null,31,0,"",null,null,null,null,null,null,null,null,null,null,null,null,"","","",null,null,null,null,null,"",null,null,null,null,null,null,null,null,null,null,null,"",null,null,null,null,null,null,"17-32"]
[null,32,0,"",null,null,null,null,null,null,null,null,null,null,null,null,"","","",null,null,null,null,null,"",null,null,null,null,null,null,null,null,null,null,null,"",null,null,null,null,null,null,"17-32"]
[]
[]
[]
[]
[null,null,null,null,null,null,null,null,null,null,null,null,null,null,null,null,null,null,"Главный судья соревнований",null,null,null,null,null,null,null,null,null,null,null,null,null,null,null,null,"/","Карташков К.В.",null,null,null,null,null,null,null,null,"/"]
[]
[]
[]
[]
[]
[]
[]
[null,null,null,null,null,null,null,null,null,null,null,null,null,null,null,null,null,null,"Главный секретарь",null,null,null,null,null,null,null,null,null,null,null,null,null,null,null,null,"/","Толстыгин А.Ю.",null,null,null,null,null,null,null,null,"/"]
[]
[]
[]
[]
[null,null,null,null,null,null,null,null,null,null,null,null,null,null,null,null,null,null,null,null,null,null,null,null,null,null,null,null,null,null,null,null,null,null,null,null,null,null,null,null,null,null,null,null,null,null,23]

{"sheet":"24. ПР 93+","index":42,"n_rows":72,"n_cols":47,"rows_kept":72,"cut":false,"hidden":false,"merged":[[71,46,73,46],[66,18,69,28],[66,29,69,34],[66,35,69,35],[66,36,69,44],[66,45,69,45],[53,3,53,15],[53,18,53,23],[53,24,53,35],[53,36,53,42],[53,43,53,45],[58,18,61,28],[58,29,61,34],[58,35,61,35],[58,36,61,44],[58,45,61,45],[51,3,51,15],[51,18,51,23],[51,24,51,35],[51,36,51,42],[51,43,51,45],[52,3,52,15],[52,18,52,23],[52,24,52,35],[52,36,52,42],[52,43,52,45],[49,3,49,15],[49,18,49,23],[49,24,49,35],[49,36,49,42],[49,43,49,45],[50,3,50,15],[50,18,50,23],[50,24,50,35],[50,36,50,42],[50,43,50,45],[47,3,47,15],[47,18,47,23],[47,24,47,35],[47,36,47,42],[47,43,47,45],[48,3,48,15],[48,18,48,23],[48,24,48,35],[48,36,48,42],[48,43,48,45],[45,3,45,15],[45,18,45,23],[45,24,45,35],[45,36,45,42],[45,43,45,45],[46,3,46,15],[46,18,46,23],[46,24,46,35],[46,36,46,42],[46,43,46,45],[43,3,43,15],[43,18,43,23],[43,24,43,35],[43,36,43,42],[43,43,43,45],[44,3,44,15],[44,18,44,23],[44,24,44,35],[44,36,44,42],[44,43,44,45],[41,3,41,15],[41,18,41,23],[41,24,41,35],[41,36,41,42],[41,43,41,45],[42,3,42,15],[42,18,42,23],[42,24,42,35],[42,36,42,42],[42,43,42,45],[39,3,39,15],[39,18,39,23],[39,24,39,35],[39,36,39,42],[39,43,39,45],[40,3,40,15],[40,18,40,23],[40,24,40,35],[40,36,40,42],[40,43,40,45],[37,3,37,15],[37,18,37,23],[37,24,37,35],[37,36,37,42],[37,43,37,45],[38,3,38,15],[38,18,38,23],[38,24,38,35],[38,36,38,42],[38,43,38,45],[35,3,35,15],[35,18,35,23],[35,24,35,35],[35,36,35,42],[35,43,35,45],[36,3,36,15],[36,18,36,23],[36,24,36,35],[36,36,36,42],[36,43,36,45],[33,3,33,15],[33,18,33,23],[33,24,33,35],[33,36,33,42],[33,43,33,45],[34,3,34,15],[34,18,34,23],[34,24,34,35],[34,36,34,42],[34,43,34,45],[31,3,31,15],[31,18,31,23],[31,24,31,35],[31,36,31,42],[31,43,31,45],[32,3,32,15],[32,18,32,23],[32,24,32,35],[32,36,32,42],[32,43,32,45],[29,3,29,15],[29,18,29,23],[29,24,29,35],[29,36,29,42],[29,43,29,45],[30,3,30,15],[30,18,30,23],[30,24,30,35],[30,36,30,42],[30,43,30,45],[27,3,27,15],[27,18,27,23],[27,24,27,35],[27,36,27,42],[27,43,27,45],[28,3,28,15],[28,18,28,23],[28,24,28,35],[28,36,28,42],[28,43,28,45],[25,3,25,15],[25,18,25,23],[25,24,25,35],[25,36,25,42],[25,43,25,45],[26,3,26,15],[26,18,26,23],[26,24,26,35],[26,36,26,42],[26,43,26,45],[23,3,23,15],[23,18,23,23],[23,24,23,35],[23,36,23,42],[23,43,23,45],[24,3,24,15],[24,18,24,23],[24,24,24,35],[24,36,24,42],[24,43,24,45],[22,3,22,15],[22,18,22,23],[22,24,22,35],[22,36,22,42],[22,43,22,45],[17,1,21,1],[17,2,21,2],[17,3,21,15],[17,16,21,16],[17,17,21,17],[17,18,21,23],[0,7,5,46],[6,11,10,34],[6,35,9,46],[10,35,13,46],[12,17,15,22],[12,23,15,24],[12,25,15,26],[17,24,21,35],[17,36,21,42],[17,43,21,45]]}
[null,null,null,null,null,null,null,"Чемпионат ХМАО-Югры по СБЕ (ММА) среди муж. 18лет и старше,первенство среди юношей 16-17лет"]
[]
[]
[]
[]
[]
[null,null,null,null,null,null,null,null,null,null,null,"ПРОТОКОЛ РЕЗУЛЬТАТОВ ЛИЧНОГО ПЕРВЕНСТВА",null,null,null,null,null,null,null,null,null,null,null,null,null,null,null,null,null,null,null,null,null,null,null,"г. Ханты-Мансийск"]
[]
[]
[]
[null,null,null,null,null,null,null,null,null,null,null,null,null,null,null,null,null,null,null,null,null,null,null,null,null,null,null,null,null,null,null,null,null,null,null,"с16 по 19 февраля 2018г."]
[]
[null,null,null,null,null,null,null,null,null,null,null,null,null,null,null,null,null,"Весовая категория до",null,null,null,null,null,"93+",null,"кг"]
[]
[]
[]
[]
[null,"№ ","№ \nкат","Ф.И.О. (полностью)",null,null,null,null,null,null,null,null,null,null,null,null,"Дата рожд.","Разряд","Тренер",null,null,null,null,null,"Команда",null,null,null,null,null,null,null,null,null,null,null,"Клуб",null,null,null,null,null,null,"Место"]
[]
[]
[]
[]
[null,1,1,"Ашурбеков Рустам Надирович",null,null,null,null,null,null,null,null,null,null,null,null,"1998-11-30","КМС","Дибиров М.М.",null,null,null,null,null,"г. Сургут",null,null,null,null,null,null,null,null,null,null,null,0,null,null,null,null,null,null,1]
[null,2,3,"Паутов Константин Владимирович",null,null,null,null,null,null,null,null,null,null,null,null,"1985-09-06",0,"Бывалин Е.С.",null,null,null,null,null,"г. Ханты-Мансийск",null,null,null,null,null,null,null,null,null,null,null,0,null,null,null,null,null,null,2]
[null,3,2,"Маслов Александр Анатольвич",null,null,null,null,null,null,null,null,null,null,null,null,"1993-08-28","КМС","Изабеков А.З.",null,null,null,null,null,"г. Сургут",null,null,null,null,null,null,null,null,null,null,null,0,null,null,null,null,null,null,3]
[null,4,0,"",null,null,null,null,null,null,null,null,null,null,null,null,"","","",null,null,null,null,null,"",null,null,null,null,null,null,null,null,null,null,null,"",null,null,null,null,null,null,3]
[null,5,0,"",null,null,null,null,null,null,null,null,null,null,null,null,"","","",null,null,null,null,null,"",null,null,null,null,null,null,null,null,null,null,null,"",null,null,null,null,null,null,"5-8"]
[null,6,0,"",null,null,null,null,null,null,null,null,null,null,null,null,"","","",null,null,null,null,null,"",null,null,null,null,null,null,null,null,null,null,null,"",null,null,null,null,null,null,"5-8"]
[null,7,0,"",null,null,null,null,null,null,null,null,null,null,null,null,"","","",null,null,null,null,null,"",null,null,null,null,null,null,null,null,null,null,null,"",null,null,null,null,null,null,"5-8"]
[null,8,0,"",null,null,null,null,null,null,null,null,null,null,null,null,"","","",null,null,null,null,null,"",null,null,null,null,null,null,null,null,null,null,null,"",null,null,null,null,null,null,"5-8"]
[null,9,0,"",null,null,null,null,null,null,null,null,null,null,null,null,"","","",null,null,null,null,null,"",null,null,null,null,null,null,null,null,null,null,null,"",null,null,null,null,null,null,"9-16"]
[null,10,0,"",null,null,null,null,null,null,null,null,null,null,null,null,"","","",null,null,null,null,null,"",null,null,null,null,null,null,null,null,null,null,null,"",null,null,null,null,null,null,"9-16"]
[null,11,0,"",null,null,null,null,null,null,null,null,null,null,null,null,"","","",null,null,null,null,null,"",null,null,null,null,null,null,null,null,null,null,null,"",null,null,null,null,null,null,"9-16"]
[null,12,0,"",null,null,null,null,null,null,null,null,null,null,null,null,"","","",null,null,null,null,null,"",null,null,null,null,null,null,null,null,null,null,null,"",null,null,null,null,null,null,"9-16"]
[null,13,0,"",null,null,null,null,null,null,null,null,null,null,null,null,"","","",null,null,null,null,null,"",null,null,null,null,null,null,null,null,null,null,null,"",null,null,null,null,null,null,"9-16"]
[null,14,0,"",null,null,null,null,null,null,null,null,null,null,null,null,"","","",null,null,null,null,null,"",null,null,null,null,null,null,null,null,null,null,null,"",null,null,null,null,null,null,"9-16"]
[null,15,0,"",null,null,null,null,null,null,null,null,null,null,null,null,"","","",null,null,null,null,null,"",null,null,null,null,null,null,null,null,null,null,null,"",null,null,null,null,null,null,"9-16"]
[null,16,0,"",null,null,null,null,null,null,null,null,null,null,null,null,"","","",null,null,null,null,null,"",null,null,null,null,null,null,null,null,null,null,null,"",null,null,null,null,null,null,"9-16"]
[null,17,0,"",null,null,null,null,null,null,null,null,null,null,null,null,"","","",null,null,null,null,null,"",null,null,null,null,null,null,null,null,null,null,null,"",null,null,null,null,null,null,"17-32"]
[null,18,0,"",null,null,null,null,null,null,null,null,null,null,null,null,"","","",null,null,null,null,null,"",null,null,null,null,null,null,null,null,null,null,null,"",null,null,null,null,null,null,"17-32"]
[null,19,0,"",null,null,null,null,null,null,null,null,null,null,null,null,"","","",null,null,null,null,null,"",null,null,null,null,null,null,null,null,null,null,null,"",null,null,null,null,null,null,"17-32"]
[null,20,0,"",null,null,null,null,null,null,null,null,null,null,null,null,"","","",null,null,null,null,null,"",null,null,null,null,null,null,null,null,null,null,null,"",null,null,null,null,null,null,"17-32"]
[null,21,0,"",null,null,null,null,null,null,null,null,null,null,null,null,"","","",null,null,null,null,null,"",null,null,null,null,null,null,null,null,null,null,null,"",null,null,null,null,null,null,"17-32"]
[null,22,0,"",null,null,null,null,null,null,null,null,null,null,null,null,"","","",null,null,null,null,null,"",null,null,null,null,null,null,null,null,null,null,null,"",null,null,null,null,null,null,"17-32"]
[null,23,0,"",null,null,null,null,null,null,null,null,null,null,null,null,"","","",null,null,null,null,null,"",null,null,null,null,null,null,null,null,null,null,null,"",null,null,null,null,null,null,"17-32"]
[null,24,0,"",null,null,null,null,null,null,null,null,null,null,null,null,"","","",null,null,null,null,null,"",null,null,null,null,null,null,null,null,null,null,null,"",null,null,null,null,null,null,"17-32"]
[null,25,0,"",null,null,null,null,null,null,null,null,null,null,null,null,"","","",null,null,null,null,null,"",null,null,null,null,null,null,null,null,null,null,null,"",null,null,null,null,null,null,"17-32"]
[null,26,0,"",null,null,null,null,null,null,null,null,null,null,null,null,"","","",null,null,null,null,null,"",null,null,null,null,null,null,null,null,null,null,null,"",null,null,null,null,null,null,"17-32"]
[null,27,0,"",null,null,null,null,null,null,null,null,null,null,null,null,"","","",null,null,null,null,null,"",null,null,null,null,null,null,null,null,null,null,null,"",null,null,null,null,null,null,"17-32"]
[null,28,0,"",null,null,null,null,null,null,null,null,null,null,null,null,"","","",null,null,null,null,null,"",null,null,null,null,null,null,null,null,null,null,null,"",null,null,null,null,null,null,"17-32"]
[null,29,0,"",null,null,null,null,null,null,null,null,null,null,null,null,"","","",null,null,null,null,null,"",null,null,null,null,null,null,null,null,null,null,null,"",null,null,null,null,null,null,"17-32"]
[null,30,0,"",null,null,null,null,null,null,null,null,null,null,null,null,"","","",null,null,null,null,null,"",null,null,null,null,null,null,null,null,null,null,null,"",null,null,null,null,null,null,"17-32"]
[null,31,0,"",null,null,null,null,null,null,null,null,null,null,null,null,"","","",null,null,null,null,null,"",null,null,null,null,null,null,null,null,null,null,null,"",null,null,null,null,null,null,"17-32"]
[null,32,0,"",null,null,null,null,null,null,null,null,null,null,null,null,"","","",null,null,null,null,null,"",null,null,null,null,null,null,null,null,null,null,null,"",null,null,null,null,null,null,"17-32"]
[]
[]
[]
[]
[null,null,null,null,null,null,null,null,null,null,null,null,null,null,null,null,null,null,"Главный судья соревнований",null,null,null,null,null,null,null,null,null,null,null,null,null,null,null,null,"/","Карташков К.В.",null,null,null,null,null,null,null,null,"/"]
[]
[]
[]
[]
[]
[]
[]
[null,null,null,null,null,null,null,null,null,null,null,null,null,null,null,null,null,null,"Главный секретарь",null,null,null,null,null,null,null,null,null,null,null,null,null,null,null,null,"/","Толстыгин А.Ю.",null,null,null,null,null,null,null,null,"/"]
[]
[]
[]
[]
[null,null,null,null,null,null,null,null,null,null,null,null,null,null,null,null,null,null,null,null,null,null,null,null,null,null,null,null,null,null,null,null,null,null,null,null,null,null,null,null,null,null,null,null,null,null,24]

{"sheet":"25. Командный","index":43,"n_rows":65,"n_cols":57,"rows_kept":65,"cut":false,"hidden":false,"merged":[[17,4,18,21],[1,8,3,48],[62,38,62,47],[18,34,18,36],[18,28,18,30],[59,38,59,47],[18,37,18,39],[18,40,18,42],[12,12,13,18],[14,12,15,18],[12,19,13,25],[14,19,15,25],[5,8,5,20],[5,38,5,48],[7,5,7,46],[8,5,8,46],[17,52,17,56],[12,2,13,11],[14,2,15,11],[10,2,11,44],[17,1,18,3],[17,43,18,46],[18,25,18,27],[18,31,18,33],[14,26,15,32],[12,26,13,32],[12,33,13,38],[14,33,15,38],[12,39,13,44],[14,39,15,44],[18,22,18,24],[17,22,17,42]]}
[]
[null,null,null,null,null,null,null,null,"Чемпионат ХМАО-Югры по СБЕ (ММА) среди муж. 18лет и старше,первенство среди юношей 16-17лет"]
[]
[]
[]
[null,null,null,null,null,null,null,null,"с16 по 19 февраля 2018г.",null,null,null,null,null,null,null,null,null,null,null,null,null,null,null,null,null,null,null,null,null,null,null,null,null,null,null,null,null,"г. Ханты-Мансийск"]
[]
[null,null,null,null,null,"ПРОТОКОЛ"]
[null,null,null,null,null,"РЕЗУЛЬТАТОВ КОМАНДНОГО ЗАЧЁТА"]
[]
[null,null,"Система начисления очков командам за достигнутые спортсменами результаты"]
[]
[null,null,"Место",null,null,null,null,null,null,null,null,null,1,null,null,null,null,null,null,2,null,null,null,null,null,null,"3-3",null,null,null,null,null,null,"5-8",null,null,null,null,null,"9-16"]
[]
[null,null,"Очки",null,null,null,null,null,null,null,null,null,10,null,null,null,null,null,null,8,null,null,null,null,null,null,6,null,null,null,null,null,null,2,null,null,null,null,null,1]
[]
[]
[null,"Место",null,null,"Команда",null,null,null,null,null,null,null,null,null,null,null,null,null,null,null,null,null,"Весовые категории",null,null,null,null,null,null,null,null,null,null,null,null,null,null,null,null,null,null,null,null,"Очки",null,null,null,null,null,null,null,null,"Мест"]
[null,null,null,null,null,null,null,null,null,null,null,null,null,null,null,null,null,null,null,null,null,null,61.2,null,null,65.8,null,null,70.3,null,null,77.099999999999994,null,null,84,null,null,93,null,null,"93+",null,null,null,null,null,null,null,null,null,null,null,"1х","2х","3х","5-8","9-16"]
[null,null,1,null,"г. Сургут",null,null,null,null,null,null,null,null,null,null,null,null,null,null,null,null,null,null,2,null,null,14,null,null,18,null,null,13,null,null,10,null,null,0,null,null,16,null,null,73,null,null,null,null,null,null,null,2,1,5,5,5]
[null,null,2,null,"Скорпион (г. Лангепас)",null,null,null,null,null,null,null,null,null,null,null,null,null,null,null,null,null,null,10,null,null,10,null,null,10,null,null,8,null,null,0,null,null,8,null,null,0,null,null,46,null,null,null,null,null,null,null,3,2,0,0,0]
[null,null,3,null,"СДЮСШОР \"СПАРТАК\" (г.Нефтеюганск)",null,null,null,null,null,null,null,null,null,null,null,null,null,null,null,null,null,null,6,null,null,4,null,null,0,null,null,10,null,null,14,null,null,10,null,null,0,null,null,44,null,null,null,null,null,null,null,2,1,2,2,0]
[null,null,4,null,"г. Ханты-Мансийск",null,null,null,null,null,null,null,null,null,null,null,null,null,null,null,null,null,null,11,null,null,10,null,null,0,null,null,4,null,null,0,null,null,0,null,null,8,null,null,33,null,null,null,null,null,null,null,0,2,1,5,1]
[null,null,5,null,"г. Нижневартовск",null,null,null,null,null,null,null,null,null,null,null,null,null,null,null,null,null,null,2,null,null,2,null,null,9,null,null,0,null,null,6,null,null,0,null,null,0,null,null,19,null,null,null,null,null,null,null,0,0,2,3,1]
[null,null,6,null,"г. Нижневартовск (СБЕ КОБРА)",null,null,null,null,null,null,null,null,null,null,null,null,null,null,null,null,null,null,9,null,null,0,null,null,2,null,null,0,null,null,0,null,null,0,null,null,0,null,null,11,null,null,null,null,null,null,null,0,1,0,1,1]
[null,null,7,null,"г.Белоярский",null,null,null,null,null,null,null,null,null,null,null,null,null,null,null,null,null,null,0,null,null,0,null,null,0,null,null,6,null,null,0,null,null,0,null,null,0,null,null,6,null,null,null,null,null,null,null,0,0,1,0,0]
[]
[]
[]
[]
[]
[]
[]
[]
[]
[]
[]
[]
[]
[]
[]
[]
[]
[]
[]
[]
[]
[]
[]
[]
[]
[]
[]
[]
[]
[]
[]
[]
[]
[null,null,null,null,null,null,null,null,null,null,null,null,null,null,null,null,null,null,null,null,null,null,null,null,null,null,"Главный судья соревнований",null,null,null,null,null,null,null,null,null,null,"/","Карташков К.В.",null,null,null,null,null,null,null,null,null,"/"]
[]
[]
[null,null,null,null,null,null,null,null,null,null,null,null,null,null,null,null,null,null,null,null,null,null,null,null,null,null,"Главный секретарь",null,null,null,null,null,null,null,null,null,null,"/","Толстыгин А.Ю.",null,null,null,null,null,null,null,null,null,"/"]
[]
[null,null,null,null,null,null,null,null,null,null,null,null,null,null,null,null,null,null,null,null,null,null,null,null,null,null,null,null,null,null,null,null,null,null,null,null,null,null,null,null,null,null,null,null,null,null,null,null,25]

{"sheet":"26. Итог чемпионата","index":44,"n_rows":76,"n_cols":47,"rows_kept":76,"cut":false,"hidden":false,"merged":[[32,1,35,1],[37,1,40,1],[42,1,45,1],[47,1,50,1],[26,1,26,45],[31,1,31,45],[36,1,36,45],[41,1,41,45],[47,3,47,15],[47,18,47,23],[47,24,47,35],[47,43,47,45],[43,43,43,45],[44,43,44,45],[46,1,46,45],[45,3,45,15],[45,18,45,23],[45,24,45,35],[45,36,45,42],[40,43,40,45],[47,36,47,42],[42,43,42,45],[45,43,45,45],[48,43,48,45],[49,43,49,45],[50,3,50,15],[50,18,50,23],[52,43,52,45],[48,3,48,15],[48,18,48,23],[48,24,48,35],[48,36,48,42],[49,3,49,15],[49,18,49,23],[49,24,49,35],[49,36,49,42],[70,18,73,28],[70,29,73,34],[70,35,73,35],[70,36,73,44],[70,45,73,45],[75,46,77,46],[62,18,65,28],[62,29,65,34],[62,35,65,35],[62,36,65,44],[62,45,65,45],[55,3,55,15],[55,18,55,23],[55,24,55,35],[55,36,55,42],[50,43,50,45],[51,1,51,45],[52,1,55,1],[53,43,53,45],[54,43,54,45],[52,3,52,15],[52,18,52,23],[52,24,52,35],[52,36,52,42],[50,24,50,35],[50,36,50,42],[55,43,55,45],[53,3,53,15],[53,18,53,23],[53,24,53,35],[53,36,53,42],[54,3,54,15],[54,18,54,23],[54,24,54,35],[54,36,54,42],[44,3,44,15],[44,18,44,23],[44,24,44,35],[44,36,44,42],[39,43,39,45],[40,3,40,15],[40,18,40,23],[40,24,40,35],[40,36,40,42],[42,3,42,15],[42,18,42,23],[42,24,42,35],[42,36,42,42],[39,3,39,15],[39,18,39,23],[39,24,39,35],[39,36,39,42],[43,3,43,15],[43,18,43,23],[43,24,43,35],[43,36,43,42],[38,43,38,45],[38,3,38,15],[38,18,38,23],[38,24,38,35],[38,36,38,42],[33,3,33,15],[33,18,33,23],[33,24,33,35],[33,36,33,42],[35,3,35,15],[35,18,35,23],[35,24,35,35],[35,36,35,42],[35,43,35,45],[37,3,37,15],[37,18,37,23],[37,24,37,35],[37,36,37,42],[37,43,37,45],[28,43,28,45],[34,3,34,15],[34,18,34,23],[34,24,34,35],[34,36,34,42],[29,43,29,45],[29,3,29,15],[29,18,29,23],[29,24,29,35],[30,3,30,15],[30,18,30,23],[30,24,30,35],[33,43,33,45],[28,36,28,42],[29,36,29,42],[30,36,30,42],[32,3,32,15],[34,43,34,45],[32,18,32,23],[32,24,32,35],[30,43,30,45],[32,43,32,45],[32,36,32,42],[17,1,21,1],[17,2,21,2],[17,3,21,15],[17,16,21,16],[17,17,21,17],[17,18,21,23],[28,3,28,15],[28,18,28,23],[28,24,28,35],[22,1,25,1],[22,3,22,15],[22,18,22,23],[22,24,22,35],[25,3,25,15],[25,18,25,23],[25,24,25,35],[27,1,30,1],[23,3,23,15],[23,18,23,23],[23,24,23,35],[24,3,24,15],[24,18,24,23],[24,24,24,35],[0,7,5,46],[6,35,9,46],[10,35,13,46],[7,10,14,33],[17,24,21,35],[17,36,21,42],[17,43,21,45],[27,3,27,15],[27,18,27,23],[27,24,27,35],[27,36,27,42],[22,43,22,45],[25,36,25,42],[22,36,22,42],[23,36,23,42],[24,36,24,42],[23,43,23,45],[24,43,24,45],[25,43,25,45],[27,43,27,45]]}
[null,null,null,null,null,null,null,"Чемпионат ХМАО-Югры по СБЕ (ММА) среди муж. 18лет и старше,первенство среди юношей 16-17лет"]
[]
[]
[]
[]
[]
[null,null,null,null,null,null,null,null,null,null,null,null,null,null,null,null,null,null,null,null,null,null,null,null,null,null,null,null,null,null,null,null,null,null,null,"г. Ханты-Мансийск"]
[null,null,null,null,null,null,null,null,null,null,"КРАТКИЙ ИТОГ ЧЕМПИОНАТА"]
[]
[]
[null,null,null,null,null,null,null,null,null,null,null,null,null,null,null,null,null,null,null,null,null,null,null,null,null,null,null,null,null,null,null,null,null,null,null,"с16 по 19 февраля 2018г."]
[]
[]
[]
[]
[]
[]
[null,"№ ","№ \nкат","Ф.И.О. (полностью)",null,null,null,null,null,null,null,null,null,null,null,null,"Дата рожд.","Разряд","Тренер",null,null,null,null,null,"Команда",null,null,null,null,null,null,null,null,null,null,null,"Клуб",null,null,null,null,null,null,"Место"]
[]
[]
[]
[]
[null,61.2,2,"Латипов Эльдар Магомедович",null,null,null,null,null,null,null,null,null,null,null,null,"1994-04-29","КМС","Мамедов Р.А.,Хабибулаев А.Р.",null,null,null,null,null,"Скорпион (г. Лангепас)",null,null,null,null,null,null,null,null,null,null,null,0,null,null,null,null,null,null,1]
[null,null,3,"Абдуллаев Элшан Равшан оглы",null,null,null,null,null,null,null,null,null,null,null,null,"1992-10-22",0,"Казбеков Т.Г.",null,null,null,null,null,"г. Нижневартовск (СБЕ КОБРА)",null,null,null,null,null,null,null,null,null,null,null,0,null,null,null,null,null,null,2]
[null,null,9,"Юсупов Багавдин Ахмедович",null,null,null,null,null,null,null,null,null,null,null,null,"1998-12-01",0,"Сиражудинов Р.С.",null,null,null,null,null,"СДЮСШОР \"СПАРТАК\" (г.Нефтеюганск)",null,null,null,null,null,null,null,null,null,null,null,0,null,null,null,null,null,null,3]
[null,null,6,"Магомедов Хайрулла Магомедович",null,null,null,null,null,null,null,null,null,null,null,null,"1996-03-18","КМС","Бывалин Е.С.",null,null,null,null,null,"г. Ханты-Мансийск",null,null,null,null,null,null,null,null,null,null,null,0,null,null,null,null,null,null,3]
[]
[null,65.8,1,"Мамедов Руслан Ширванович",null,null,null,null,null,null,null,null,null,null,null,null,"1996-11-02",0,"Мамедов Р.А.,Хабибулаев А.Р.",null,null,null,null,null,"Скорпион (г. Лангепас)",null,null,null,null,null,null,null,null,null,null,null,0,null,null,null,null,null,null,1]
[null,null,4,"Дадаев Мансур Муслимович",null,null,null,null,null,null,null,null,null,null,null,null,"1999-01-17","КМС","Бывалин Е.С.",null,null,null,null,null,"г. Ханты-Мансийск",null,null,null,null,null,null,null,null,null,null,null,0,null,null,null,null,null,null,2]
[null,null,7,"Гаджиахмедов Магомед Гаджиевич",null,null,null,null,null,null,null,null,null,null,null,null,"1996-08-30","КМС","Изабеков А.З.",null,null,null,null,null,"г. Сургут",null,null,null,null,null,null,null,null,null,null,null,0,null,null,null,null,null,null,3]
[null,null,8,"Ильясов Гасан Нурутдинович",null,null,null,null,null,null,null,null,null,null,null,null,"1999-04-12","КМС","Изабеков А.З.",null,null,null,null,null,"г. Сургут",null,null,null,null,null,null,null,null,null,null,null,0,null,null,null,null,null,null,3]
[]
[null,70.3,1,"Хабибулаев Алибек Расулович",null,null,null,null,null,null,null,null,null,null,null,null,"1986-11-14","МС","Мамедов Р.А.,Хабибулаев А.Р.",null,null,null,null,null,"Скорпион (г. Лангепас)",null,null,null,null,null,null,null,null,null,null,null,0,null,null,null,null,null,null,1]
[null,null,6,"Наврузалиев Камиль Шакирович",null,null,null,null,null,null,null,null,null,null,null,null,"1995-11-30","КМС","Дибиров М.М.",null,null,null,null,null,"г. Сургут",null,null,null,null,null,null,null,null,null,null,null,0,null,null,null,null,null,null,2]
[null,null,3,"Бондарчук Иван Викторович",null,null,null,null,null,null,null,null,null,null,null,null,"1997-07-02",0,"Завьялов А.В.",null,null,null,null,null,"г. Сургут",null,null,null,null,null,null,null,null,null,null,null,0,null,null,null,null,null,null,3]
[null,null,2,"Гаджиев Халид Мухтарович",null,null,null,null,null,null,null,null,null,null,null,null,"1990-07-23","МС","Гаджиев Х.М.",null,null,null,null,null,"г. Нижневартовск",null,null,null,null,null,null,null,null,null,null,null,0,null,null,null,null,null,null,3]
[]
[null,77.099999999999994,2,"Тарикулиев Заур Рамазанович",null,null,null,null,null,null,null,null,null,null,null,null,"1991-06-03","МС","Сиражудинов Р.С.",null,null,null,null,null,"СДЮСШОР \"СПАРТАК\" (г.Нефтеюганск)",null,null,null,null,null,null,null,null,null,null,null,0,null,null,null,null,null,null,1]
[null,null,5,"Шапиев Абдулталип Эльбрусович",null,null,null,null,null,null,null,null,null,null,null,null,"1996-05-10",0,"Мамедов Р.А.,Хабибулаев А.Р.",null,null,null,null,null,"Скорпион (г. Лангепас)",null,null,null,null,null,null,null,null,null,null,null,0,null,null,null,null,null,null,2]
[null,null,3,"Костылевский Руслан Александрович",null,null,null,null,null,null,null,null,null,null,null,null,"1993-03-22",0,"Тагаев Э.Т.",null,null,null,null,null,"г.Белоярский",null,null,null,null,null,null,null,null,null,null,null,0,null,null,null,null,null,null,3]
[null,null,8,"Муслимов Азамат Мурадович",null,null,null,null,null,null,null,null,null,null,null,null,"1993-08-02","КМС","Изабеков А.З.",null,null,null,null,null,"г. Сургут",null,null,null,null,null,null,null,null,null,null,null,0,null,null,null,null,null,null,3]
[]
[null,84,2,"Хатков Станислав Эдуардович",null,null,null,null,null,null,null,null,null,null,null,null,"1998-02-27","КМС","Кучкин А.В.",null,null,null,null,null,"г. Сургут",null,null,null,null,null,null,null,null,null,null,null,0,null,null,null,null,null,null,1]
[null,null,3,"Мамедов Нариман Алибиевич",null,null,null,null,null,null,null,null,null,null,null,null,"1998-06-05",0,"Сиражудинов Р.С.",null,null,null,null,null,"СДЮСШОР \"СПАРТАК\" (г.Нефтеюганск)",null,null,null,null,null,null,null,null,null,null,null,0,null,null,null,null,null,null,2]
[null,null,1,"Багаутдинов Гамзатда Алиевич",null,null,null,null,null,null,null,null,null,null,null,null,"1994-09-15",0,"Казбеков Т.Г.",null,null,null,null,null,"г. Нижневартовск",null,null,null,null,null,null,null,null,null,null,null,0,null,null,null,null,null,null,3]
[null,null,4,"Солтанов Нариман Камилович",null,null,null,null,null,null,null,null,null,null,null,null,"1988-12-26","МС","Сиражудинов Р.С.",null,null,null,null,null,"СДЮСШОР \"СПАРТАК\" (г.Нефтеюганск)",null,null,null,null,null,null,null,null,null,null,null,0,null,null,null,null,null,null,3]
[]
[null,93,2,"Хебдеев Гаджимурад Тинамагомедович",null,null,null,null,null,null,null,null,null,null,null,null,"1992-05-01",0,"Сиражудинов Р.С.",null,null,null,null,null,"СДЮСШОР \"СПАРТАК\" (г.Нефтеюганск)",null,null,null,null,null,null,null,null,null,null,null,0,null,null,null,null,null,null,1]
[null,null,1,"Расулов Абдуллатип Халидбекович",null,null,null,null,null,null,null,null,null,null,null,null,"1997-09-18",0,"Мамедов Р.А.,Хабибулаев А.Р.",null,null,null,null,null,"Скорпион (г. Лангепас)",null,null,null,null,null,null,null,null,null,null,null,0,null,null,null,null,null,null,2]
[null,null,0,"",null,null,null,null,null,null,null,null,null,null,null,null,"","","",null,null,null,null,null,"",null,null,null,null,null,null,null,null,null,null,null,"",null,null,null,null,null,null,3]
[null,null,0,"",null,null,null,null,null,null,null,null,null,null,null,null,"","","",null,null,null,null,null,"",null,null,null,null,null,null,null,null,null,null,null,"",null,null,null,null,null,null,3]
[]
[null,"93+",1,"Ашурбеков Рустам Надирович",null,null,null,null,null,null,null,null,null,null,null,null,"1998-11-30","КМС","Дибиров М.М.",null,null,null,null,null,"г. Сургут",null,null,null,null,null,null,null,null,null,null,null,0,null,null,null,null,null,null,1]
[null,null,3,"Паутов Константин Владимирович",null,null,null,null,null,null,null,null,null,null,null,null,"1985-09-06",0,"Бывалин Е.С.",null,null,null,null,null,"г. Ханты-Мансийск",null,null,null,null,null,null,null,null,null,null,null,0,null,null,null,null,null,null,2]
[null,null,2,"Маслов Александр Анатольвич",null,null,null,null,null,null,null,null,null,null,null,null,"1993-08-28","КМС","Изабеков А.З.",null,null,null,null,null,"г. Сургут",null,null,null,null,null,null,null,null,null,null,null,0,null,null,null,null,null,null,3]
[null,null,0,"",null,null,null,null,null,null,null,null,null,null,null,null,"","","",null,null,null,null,null,"",null,null,null,null,null,null,null,null,null,null,null,"",null,null,null,null,null,null,3]
[]
[]
[]
[]
[]
[]
[null,null,null,null,null,null,null,null,null,null,null,null,null,null,null,null,null,null,"Главный судья соревнований",null,null,null,null,null,null,null,null,null,null,null,null,null,null,null,null,"/","Карташков К.В.",null,null,null,null,null,null,null,null,"/"]
[]
[]
[]
[]
[]
[]
[]
[null,null,null,null,null,null,null,null,null,null,null,null,null,null,null,null,null,null,"Главный секретарь",null,null,null,null,null,null,null,null,null,null,null,null,null,null,null,null,"/","Толстыгин А.Ю.",null,null,null,null,null,null,null,null,"/"]
[]
[]
[]
[]
[null,null,null,null,null,null,null,null,null,null,null,null,null,null,null,null,null,null,null,null,null,null,null,null,null,null,null,null,null,null,null,null,null,null,null,null,null,null,null,null,null,null,null,null,null,null,26]

{"sheet":"Мандатка","index":45,"n_rows":25,"n_cols":13,"rows_kept":25,"cut":false,"hidden":false,"merged":[[2,1,3,1],[13,1,14,1],[1,11,2,12],[2,2,2,8],[13,2,13,8],[9,5,9,7],[10,5,10,7]]}
[null,"Мандатка"]
[null,null,null,null,null,null,null,null,null,null,null,"Таблица 3\n     (Тренера в командах)"]
[null,"Таблица 1\n(Общая)","Весовая категория"]
[null,null,"61,2","65,8","70,3","77,1","84","93","93+","Итого",null,"Команд на чемпионате: 7","Тренера:"]
[null,"Участников в категории",10,10,9,11,4,2,3,49,null,"г. Нижневартовск","Бадабиев Р.С.,Халитов В.Р."]
[null,"В шлеме",3,5,4,1,2,1,1,17,null,null,"Гаджиев Х.М."]
[null,"Вид сетки","Олимпийская","Олимпийская","Олимпийская","Олимпийская","Олимпийская","Олимпийская","Круговая",null,null,null,"Казбеков Т.Г."]
[null,null,null,null,null,null,null,null,null,null,null,"г. Нижневартовск (СБЕ КОБРА)","Казбеков Т.Г."]
[null,null,null,null,null,null,null,null,null,null,null,"г. Сургут","Изабеков А.З."]
[null,null,null,null,null,null,null,null,null,null,null,null,"Дибиров М.М."]
[null,null,null,null,null,null,null,null,null,null,null,null,"Завьялов А.В."]
[null,null,null,null,null,null,null,null,null,null,null,null,"Кучкин А.В."]
[null,null,null,null,null,null,null,null,null,null,null,null,"Гаджиханов Р."]
[null,"Таблица 2\n(участники по командам)","Весовая категория",null,null,null,null,null,null,null,null,"г. Ханты-Мансийск","Магеррамов Н.О., Магеррамов Р.О."]
[null,null,"61,2",65.8,70.3,77.099999999999994,84,93,"93+","Итого",null,null,"Бывалин Е.С."]
[null,"г. Нижневартовск",1,1,3,"",1,"","",6,null,"г.Белоярский","Тагаев Э.Т."]
[null,"г. Нижневартовск (СБЕ КОБРА)",2,"",1,"","","","",3,null,"СДЮСШОР \"СПАРТАК\" (г.Нефтеюганск)","Сиражудинов Р.С."]
[null,"г. Сургут",1,4,4,6,1,"",2,18,null,"Скорпион (г. Лангепас)","Мамедов Р.А.,Хабибулаев А.Р."]
[null,"г. Ханты-Мансийск",4,2,"",2,"","",1,9]
[null,"г.Белоярский","","","",1,"","","",1]
[null,"СДЮСШОР \"СПАРТАК\" (г.Нефтеюганск)",1,2,"",1,2,1,"",7]
[null,"Скорпион (г. Лангепас)",1,1,1,1,"",1,"",5]
[null,null,10,10,9,11,4,2,3,49]
[]
[null,"Проверь правильность названия команд, для корректного отчета по командному первенству!!!"]

{"sheet":"Участники чемпионата","index":46,"n_rows":55,"n_cols":32,"rows_kept":55,"cut":false,"hidden":false,"merged":[[3,21,3,23],[3,13,3,16]]}
[null,null,null,null,null,null,null,null,"Участники чемпионата",null,{"$f":"\"МСМК: \"&COUNTIF(J:J,\"МСМК\")","v":"МСМК: 0"},"Скрыть - Servis","Скрыть - Servis",null,null,null,null,{"$f":"\"61,2: \"&COUNTIF(S:S,\"61,2\")","v":"61,2: 10"},null,{"$f":"\"84: \"&COUNTIF(S:S,\"84\")","v":"84: 4"},"Скрыть - Servis","Скрыть - Servis","Скрыть - Servis","Welter weight",null,"Сегодня:","Завтра:"]
[null,null,null,null,null,{"$f":"\"Повторений: \" &(SUM(AC:AC)-(COUNTA(G:G)-1))/2","v":"Повторений: 8"},null,null,null,null,{"$f":"\"МС: \"&COUNTIF(J:J,\"МС\")","v":"МС: 4"},"Сумма взноса:",null,null,{"$f":"\"Бойцов: \"&COUNTA(R$5:R$428)-1","v":"Бойцов: 49"},null,null,{"$f":"\"65,8: \"&COUNTIF(S:S,\"65,8\")","v":"65,8: 10"},null,{"$f":"\"93: \"&COUNTIF(S:S,\"93\")","v":"93: 2"},"Feather weight",null,null,"Light heavyweight",null,{"$f":"IF(WEEKDAY(TODAY(),2)=1,\"Пн\",IF(WEEKDAY(TODAY(),2)=2,\"Вт\",IF(WEEKDAY(TODAY(),2)=3,\"Ср\",IF(WEEKDAY(TODAY(),2)=4,\"Чт\",IF(WEEKDAY(TODAY(),2)=5,\"Пт\",IF(WEEKDAY(TODAY(),2)=6,\"Сб\",\"Вс\"))))))","v":"Вс"},{"$f":"IF(WEEKDAY(TODAY()+1,2)=1,\"Пн\",IF(WEEKDAY(TODAY()+1,2)=2,\"Вт\",IF(WEEKDAY(TODAY()+1,2)=3,\"Ср\",IF(WEEKDAY(TODAY()+1,2)=4,\"Чт\",IF(WEEKDAY(TODAY()+1,2)=5,\"Пт\",IF(WEEKDAY(TODAY()+1,2)=6,\"Сб\",\"Вс\"))))))","v":"Пн"}]
[null,1,null,null,null,{"$f":"IFERROR(VLOOKUP(2,AC:AD,2,0),\"\")","v":"Расулов"},null,null,null,null,{"$f":"\"КМС: \"&COUNTIF(J:J,\"КМС\")","v":"КМС: 22"},0,null,null,null,null,null,{"$f":"\"70,3: \"&COUNTIF(S:S,\"70,3\")","v":"70,3: 9"},null,{"$f":"\"93+: \"&COUNTIF(S:S,\"93+\")","v":"93+: 3"},"Light weight",null,null,"Heavyweight",null,{"$f":"TODAY()","v":"2018-02-18"},{"$f":"TODAY()+1","v":"2018-02-19"}]
[null,null,null,null,null,null,null,null,null,null,{"$f":"\"Шлем: \"&COUNTIF(Y:Y,\"Шлем\")-1","v":"Шлем: 17"},null,null,"Ввод даты рождения",null,null,null,{"$f":"\"77,1: \"&COUNTIF(S:S,\"77,1\")","v":"77,1: 11"},null,null,"Middle weight","Возраст      (расчёт \"Шлема\")",null,null,null,null,null,"Скрыть - Servis","Скрыть - Servis","Скрыть - Servis","Скрыть - Servis","Скрыть - Servis"]
[null,"№ П","№ К","Доп. информация\nпо команде","КОМАНДА\n (Область,Регион,Город,Клуб)","ФИО тренера","Фамилия","Имя","Отчество","Разряд","Страховка","Взнос","ФИО\n(для сетки)","День","Месяц","Год","Год","Факт-й Вес","Категория","∆","Дата рождения","Дней","Месяцев","Лет","Шлем","Рейтинг","С/Клуб","ФИО\n(полное)","Совпадение","Совпадение","Ш","Фамилия + Шлем"]
[{"$f":"IF(C6=\"\",\"\",CONCATENATE(C6,\" вес \",S6))","v":"1 вес 84"},5,1,null,"г. Нижневартовск","Казбеков Т.Г.","Багаутдинов","Гамзатда","Алиевич",null,1,null,{"$f":"G6&\" \"&H6","v":"Багаутдинов Гамзатда"},"15","09","19","94",84,{"$f":"IF(R6=\"\",\"\",IF(R6<=61.2,\"61,2\",IF(R6<=65.8,\"65,8\",IF(R6<=70.3,\"70,3\",IF(R6<=77.1,\"77,1\",IF(R6<=84,\"84\",IF(R6<=93,\"93\",IF(R6>93,\"93+\",0))))))))","v":"84"},{"$f":"IF(R6=\"\",\"\",IF(R6<93,S6-R6,IF(R6>=93,R6-93,0)))","v":0},{"$f":"IF(Q6=\"\",\"\",DATE((VALUE(P6&Q6)),O6,N6))","v":"1994-09-15"},{"$f":"'Unvisible Servis'!$V$2-N6","v":4},{"$f":"'Unvisible Servis'!$W$2-O6","v":-7},{"$f":"'Unvisible Servis'!$X$2-(P6&Q6)","v":24},{"$f":"IF(X6<21,\"Шлем\",IF(X6>21,\"\",IF(AND(X6=21,W6>0),\"\",IF(OR(W6<0,V6<0),\"Шлем\",\"\"))))","v":""},null,null,{"$f":"G6&\" \"&H6&\" \"&I6","v":"Багаутдинов Гамзатда Алиевич"},{"$f":"COUNTIF(G:G,G6)","v":1},{"$f":"IF(AC6>1,G6,\"\")","v":""},{"$f":"IF(Y6=\"\",\"\",\"(Ш)\")","v":""},{"$f":"CONCATENATE(G6,\" \",AE6)","v":"Багаутдинов "}]
["1 вес 61,2",6,1,null,"г. Нижневартовск","Казбеков Т.Г.","Балащенко","Динат","Сергеевич",null,1,null,"Балащенко Динат","1","12","19","98",61.2,"61,2",0,"1998-12-01",{"$f":"'Unvisible Servis'!$V$2-N7","v":18},{"$f":"'Unvisible Servis'!$W$2-O7","v":-10},{"$f":"'Unvisible Servis'!$X$2-(P7&Q7)","v":20},"Шлем",null,null,"Балащенко Динат Сергеевич",1,"","(Ш)","Балащенко (Ш)"]
["2 вес 93+",19,2,null,"г. Сургут","Изабеков А.З.","Маслов","Александр","Анатольвич","КМС",1,null,"Маслов Александр","28","8","19","93",100,"93+",7,"1993-08-28",{"$f":"'Unvisible Servis'!$V$2-N8","v":-9},{"$f":"'Unvisible Servis'!$W$2-O8","v":-6},{"$f":"'Unvisible Servis'!$X$2-(P8&Q8)","v":25},"",null,null,"Маслов Александр Анатольвич",1,"","","Маслов "]
["1 вес 77,1",34,1,null,"г. Ханты-Мансийск","Бывалин Е.С.","Расулов","Магомедсайгид","Магомедсаидович","КМС",1,null,"Расулов Магомедсайгид","19","8","19","95",77.099999999999994,"77,1",0,"1995-08-19",{"$f":"'Unvisible Servis'!$V$2-N9","v":0},{"$f":"'Unvisible Servis'!$W$2-O9","v":-6},{"$f":"'Unvisible Servis'!$X$2-(P9&Q9)","v":23},"",null,null,"Расулов Магомедсайгид Магомедсаидович",2,"Расулов","","Расулов "]
["1 вес 70,3",45,1,null,"Скорпион (г. Лангепас)","Мамедов Р.А.,Хабибулаев А.Р.","Хабибулаев","Алибек","Расулович","МС",1,null,"Хабибулаев Алибек","14","11","19","86",70.3,"70,3",0,"1986-11-14",{"$f":"'Unvisible Servis'!$V$2-N10","v":5},{"$f":"'Unvisible Servis'!$W$2-O10","v":-9},{"$f":"'Unvisible Servis'!$X$2-(P10&Q10)","v":32},"",null,null,"Хабибулаев Алибек Расулович",1,"","","Хабибулаев "]
["1 вес 65,8",47,1,null,"Скорпион (г. Лангепас)","Мамедов Р.А.,Хабибулаев А.Р.","Мамедов","Руслан","Ширванович",null,1,null,"Мамедов Руслан","2","11","19","96",65.8,"65,8",0,"1996-11-02",{"$f":"'Unvisible Servis'!$V$2-N11","v":17},{"$f":"'Unvisible Servis'!$W$2-O11","v":-9},{"$f":"'Unvisible Servis'!$X$2-(P11&Q11)","v":22},"",null,null,"Мамедов Руслан Ширванович",2,"Мамедов","","Мамедов "]
["1 вес 93",48,1,null,"Скорпион (г. Лангепас)","Мамедов Р.А.,Хабибулаев А.Р.","Расулов","Абдуллатип","Халидбекович",null,1,null,"Расулов Абдуллатип","18","9","19","97",93,"93",0,"1997-09-18",{"$f":"'Unvisible Servis'!$V$2-N12","v":1},{"$f":"'Unvisible Servis'!$W$2-O12","v":-7},{"$f":"'Unvisible Servis'!$X$2-(P12&Q12)","v":21},"Шлем",null,null,"Расулов Абдуллатип Халидбекович",2,"Расулов","(Ш)","Расулов (Ш)"]
["2 вес 70,3",3,2,null,"г. Нижневартовск","Гаджиев Х.М.","Гаджиев","Халид","Мухтарович","МС",1,null,"Гаджиев Халид","23","7","19","90",70.3,"70,3",0,"1990-07-23",{"$f":"'Unvisible Servis'!$V$2-N13","v":-4},{"$f":"'Unvisible Servis'!$W$2-O13","v":-5},{"$f":"'Unvisible Servis'!$X$2-(P13&Q13)","v":28},"",null,null,"Гаджиев Халид Мухтарович",1,"","","Гаджиев "]
["2 вес 84",21,2,null,"г. Сургут","Кучкин А.В.","Хатков","Станислав","Эдуардович","КМС",1,null,"Хатков Станислав","27","2","19","98",84,"84",0,"1998-02-27",{"$f":"'Unvisible Servis'!$V$2-N14","v":-8},{"$f":"'Unvisible Servis'!$W$2-O14","v":0},{"$f":"'Unvisible Servis'!$X$2-(P14&Q14)","v":20},"Шлем",null,null,"Хатков Станислав Эдуардович",1,"","(Ш)","Хатков (Ш)"]
["1 вес 93+",26,1,null,"г. Сургут","Дибиров М.М.","Ашурбеков","Рустам","Надирович","КМС",1,null,"Ашурбеков Рустам",null,null,"19","99",100,"93+",7,"1998-11-30",{"$f":"'Unvisible Servis'!$V$2-N15","v":19},{"$f":"'Unvisible Servis'!$W$2-O15","v":2},{"$f":"'Unvisible Servis'!$X$2-(P15&Q15)","v":19},"Шлем",null,null,"Ашурбеков Рустам Надирович",1,"","(Ш)","Ашурбеков (Ш)"]
["2 вес 77,1",39,2,null,"СДЮСШОР \"СПАРТАК\" (г.Нефтеюганск)","Сиражудинов Р.С.","Тарикулиев","Заур","Рамазанович","МС",1,null,"Тарикулиев Заур","3","6","19","91",77.099999999999994,"77,1",0,"1991-06-03",{"$f":"'Unvisible Servis'!$V$2-N16","v":16},{"$f":"'Unvisible Servis'!$W$2-O16","v":-4},{"$f":"'Unvisible Servis'!$X$2-(P16&Q16)","v":27},"",null,null,"Тарикулиев Заур Рамазанович",1,"","","Тарикулиев "]
["2 вес 65,8",42,2,null,"СДЮСШОР \"СПАРТАК\" (г.Нефтеюганск)","Сиражудинов Р.С.","Бердиев","Шахзод","Шахобидинович","КМС",1,null,"Бердиев Шахзод","14","9","19","98",65.8,"65,8",0,"1998-09-14",{"$f":"'Unvisible Servis'!$V$2-N17","v":5},{"$f":"'Unvisible Servis'!$W$2-O17","v":-7},{"$f":"'Unvisible Servis'!$X$2-(P17&Q17)","v":20},"Шлем",null,null,"Бердиев Шахзод Шахобидинович",1,"","(Ш)","Бердиев (Ш)"]
["2 вес 93",43,2,null,"СДЮСШОР \"СПАРТАК\" (г.Нефтеюганск)","Сиражудинов Р.С.","Хебдеев","Гаджимурад","Тинамагомедович",null,1,null,"Хебдеев Гаджимурад","1","5","19","92",93,"93",0,"1992-05-01",{"$f":"'Unvisible Servis'!$V$2-N18","v":18},{"$f":"'Unvisible Servis'!$W$2-O18","v":-3},{"$f":"'Unvisible Servis'!$X$2-(P18&Q18)","v":26},"",null,null,"Хебдеев Гаджимурад Тинамагомедович",1,"","","Хебдеев "]
["2 вес 61,2",44,2,null,"Скорпион (г. Лангепас)","Мамедов Р.А.,Хабибулаев А.Р.","Латипов","Эльдар","Магомедович","КМС",1,null,"Латипов Эльдар","29","4","19","94",61.2,"61,2",0,"1994-04-29",{"$f":"'Unvisible Servis'!$V$2-N19","v":-10},{"$f":"'Unvisible Servis'!$W$2-O19","v":-2},{"$f":"'Unvisible Servis'!$X$2-(P19&Q19)","v":24},"",null,null,"Латипов Эльдар Магомедович",1,"","","Латипов "]
["3 вес 61,2",9,3,null,"г. Нижневартовск (СБЕ КОБРА)","Казбеков Т.Г.","Абдуллаев","Элшан","Равшан оглы",null,1,null,"Абдуллаев Элшан","22","10","19","92",61.2,"61,2",0,"1992-10-22",{"$f":"'Unvisible Servis'!$V$2-N20","v":-3},{"$f":"'Unvisible Servis'!$W$2-O20","v":-8},{"$f":"'Unvisible Servis'!$X$2-(P20&Q20)","v":26},"",null,null,"Абдуллаев Элшан Равшан оглы",1,"","","Абдуллаев "]
["3 вес 70,3",20,3,null,"г. Сургут","Завьялов А.В.","Бондарчук","Иван","Викторович",null,1,null,"Бондарчук Иван","2","7","19","97",70.3,"70,3",0,"1997-07-02",{"$f":"'Unvisible Servis'!$V$2-N21","v":17},{"$f":"'Unvisible Servis'!$W$2-O21","v":-5},{"$f":"'Unvisible Servis'!$X$2-(P21&Q21)","v":21},"Шлем",null,null,"Бондарчук Иван Викторович",1,"","(Ш)","Бондарчук (Ш)"]
["3 вес 93+",36,3,null,"г. Ханты-Мансийск","Бывалин Е.С.","Паутов","Константин","Владимирович",null,1,null,"Паутов Константин","6","9","19","85",100,"93+",7,"1985-09-06",{"$f":"'Unvisible Servis'!$V$2-N22","v":13},{"$f":"'Unvisible Servis'!$W$2-O22","v":-7},{"$f":"'Unvisible Servis'!$X$2-(P22&Q22)","v":33},"",null,null,"Паутов Константин Владимирович",1,"","","Паутов "]
["3 вес 77,1",37,3,null,"г.Белоярский","Тагаев Э.Т.","Костылевский","Руслан","Александрович",null,1,null,"Костылевский Руслан","22","3","19","93",77.099999999999994,"77,1",0,"1993-03-22",{"$f":"'Unvisible Servis'!$V$2-N23","v":-3},{"$f":"'Unvisible Servis'!$W$2-O23","v":-1},{"$f":"'Unvisible Servis'!$X$2-(P23&Q23)","v":25},"",null,null,"Костылевский Руслан Александрович",1,"","","Костылевский "]
["3 вес 84",40,3,null,"СДЮСШОР \"СПАРТАК\" (г.Нефтеюганск)","Сиражудинов Р.С.","Мамедов","Нариман","Алибиевич",null,1,null,"Мамедов Нариман","5","6","19","98",84,"84",0,"1998-06-05",{"$f":"'Unvisible Servis'!$V$2-N24","v":14},{"$f":"'Unvisible Servis'!$W$2-O24","v":-4},{"$f":"'Unvisible Servis'!$X$2-(P24&Q24)","v":20},"Шлем",null,null,"Мамедов Нариман Алибиевич",2,"Мамедов","(Ш)","Мамедов (Ш)"]
["3 вес 65,8",41,3,null,"СДЮСШОР \"СПАРТАК\" (г.Нефтеюганск)","Сиражудинов Р.С.","Рамазанов","Джамал","Камал оглы",null,1,null,"Рамазанов Джамал","30","6","19","97",65.8,"65,8",0,"1997-06-30",{"$f":"'Unvisible Servis'!$V$2-N25","v":-11},{"$f":"'Unvisible Servis'!$W$2-O25","v":-4},{"$f":"'Unvisible Servis'!$X$2-(P25&Q25)","v":21},"Шлем",null,null,"Рамазанов Джамал Камал оглы",2,"Рамазанов","(Ш)","Рамазанов (Ш)"]
["4 вес 70,3",8,4,null,"г. Нижневартовск (СБЕ КОБРА)","Казбеков Т.Г.","Мирзаев","Ибрагим","Габибуллаевич",null,1,null,"Мирзаев Ибрагим","17","7","19","95",70.3,"70,3",0,"1995-07-17",{"$f":"'Unvisible Servis'!$V$2-N26","v":2},{"$f":"'Unvisible Servis'!$W$2-O26","v":-5},{"$f":"'Unvisible Servis'!$X$2-(P26&Q26)","v":23},"",null,null,"Мирзаев Ибрагим Габибуллаевич",1,"","","Мирзаев "]
["4 вес 61,2",10,4,null,"г. Сургут","Изабеков А.З.","Наврузов","Расул","Иманмуратович","КМС",1,null,"Наврузов Расул","19","3","19","90",61.2,"61,2",0,"1990-03-19",{"$f":"'Unvisible Servis'!$V$2-N27","v":0},{"$f":"'Unvisible Servis'!$W$2-O27","v":-1},{"$f":"'Unvisible Servis'!$X$2-(P27&Q27)","v":28},"",null,null,"Наврузов Расул Иманмуратович",1,"","","Наврузов "]
["4 вес 65,8",33,4,null,"г. Ханты-Мансийск","Бывалин Е.С.","Дадаев","Мансур","Муслимович","КМС",1,null,"Дадаев Мансур","17","1","19","99",65.8,"65,8",0,"1999-01-17",{"$f":"'Unvisible Servis'!$V$2-N28","v":2},{"$f":"'Unvisible Servis'!$W$2-O28","v":1},{"$f":"'Unvisible Servis'!$X$2-(P28&Q28)","v":19},"Шлем",null,null,"Дадаев Мансур Муслимович",1,"","(Ш)","Дадаев (Ш)"]
["4 вес 77,1",35,4,null,"г. Ханты-Мансийск","Бывалин Е.С.","Магомедов","Ахмед","Умарович",null,1,null,"Магомедов Ахмед","7","12","19","99",77.099999999999994,"77,1",0,"1999-12-07",{"$f":"'Unvisible Servis'!$V$2-N29","v":12},{"$f":"'Unvisible Servis'!$W$2-O29","v":-10},{"$f":"'Unvisible Servis'!$X$2-(P29&Q29)","v":19},"Шлем",null,null,"Магомедов Ахмед Умарович",3,"Магомедов","(Ш)","Магомедов (Ш)"]
["4 вес 84",38,4,null,"СДЮСШОР \"СПАРТАК\" (г.Нефтеюганск)","Сиражудинов Р.С.","Солтанов","Нариман","Камилович","МС",1,null,"Солтанов Нариман","26","12","19","88",84,"84",0,"1988-12-26",{"$f":"'Unvisible Servis'!$V$2-N30","v":-7},{"$f":"'Unvisible Servis'!$W$2-O30","v":-10},{"$f":"'Unvisible Servis'!$X$2-(P30&Q30)","v":30},"",null,null,"Солтанов Нариман Камилович",1,"","","Солтанов "]
["5 вес 70,3",4,5,null,"г. Нижневартовск","Гаджиев Х.М.","Мирзораджаб","Мирзонодир",null,null,1,null,"Мирзораджаб Мирзонодир","27","12","19","91",70.3,"70,3",0,"1991-12-27",{"$f":"'Unvisible Servis'!$V$2-N31","v":-8},{"$f":"'Unvisible Servis'!$W$2-O31","v":-10},{"$f":"'Unvisible Servis'!$X$2-(P31&Q31)","v":27},"",null,null,"Мирзораджаб Мирзонодир ",1,"","","Мирзораджаб "]
["5 вес 61,2",28,5,null,"г. Ханты-Мансийск","Магеррамов Н.О., Магеррамов Р.О.","Рыбин","Олег","Александрович","КМС",1,null,"Рыбин Олег","12","6","19","84",61.2,"61,2",0,"1984-06-12",{"$f":"'Unvisible Servis'!$V$2-N32","v":7},{"$f":"'Unvisible Servis'!$W$2-O32","v":-4},{"$f":"'Unvisible Servis'!$X$2-(P32&Q32)","v":34},"",null,null,"Рыбин Олег Александрович",1,"","","Рыбин "]
["5 вес 65,8",32,5,null,"г. Ханты-Мансийск","Бывалин Е.С.","Григоров","Максим","Андреевич",null,1,null,"Григоров Максим","7","8","19","94",65.8,"65,8",0,"1994-08-07",{"$f":"'Unvisible Servis'!$V$2-N33","v":12},{"$f":"'Unvisible Servis'!$W$2-O33","v":-6},{"$f":"'Unvisible Servis'!$X$2-(P33&Q33)","v":24},"",null,null,"Григоров Максим Андреевич",1,"","","Григоров "]
["5 вес 77,1",46,5,null,"Скорпион (г. Лангепас)","Мамедов Р.А.,Хабибулаев А.Р.","Шапиев","Абдулталип","Эльбрусович",null,1,null,"Шапиев Абдулталип","10","5","19","96",77.099999999999994,"77,1",0,"1996-05-10",{"$f":"'Unvisible Servis'!$V$2-N34","v":9},{"$f":"'Unvisible Servis'!$W$2-O34","v":-3},{"$f":"'Unvisible Servis'!$X$2-(P34&Q34)","v":22},"",null,null,"Шапиев Абдулталип Эльбрусович",1,"","","Шапиев "]
["6 вес 77,1",17,6,null,"г. Сургут","Изабеков А.З.","Роговой","Владимир","Александрович","КМС",1,null,"Роговой Владимир","28","4","19","92",77.099999999999994,"77,1",0,"1992-04-28",{"$f":"'Unvisible Servis'!$V$2-N35","v":-9},{"$f":"'Unvisible Servis'!$W$2-O35","v":-2},{"$f":"'Unvisible Servis'!$X$2-(P35&Q35)","v":26},"",null,null,"Роговой Владимир Александрович",1,"","","Роговой "]
["6 вес 65,8",23,6,null,"г. Сургут","Кучкин А.В.","Адыгешаов","Расим","Мухамедович","КМС",1,null,"Адыгешаов Расим","26","1","19","98",65.8,"65,8",0,"1998-01-26",{"$f":"'Unvisible Servis'!$V$2-N36","v":-7},{"$f":"'Unvisible Servis'!$W$2-O36","v":1},{"$f":"'Unvisible Servis'!$X$2-(P36&Q36)","v":20},"Шлем",null,null,"Адыгешаов Расим Мухамедович",1,"","(Ш)","Адыгешаов (Ш)"]
["6 вес 70,3",24,6,null,"г. Сургут","Дибиров М.М.","Наврузалиев","Камиль","Шакирович","КМС",1,null,"Наврузалиев Камиль",null,null,"19","96",70.3,"70,3",0,"1995-11-30",{"$f":"'Unvisible Servis'!$V$2-N37","v":19},{"$f":"'Unvisible Servis'!$W$2-O37","v":2},{"$f":"'Unvisible Servis'!$X$2-(P37&Q37)","v":22},"",null,null,"Наврузалиев Камиль Шакирович",1,"","","Наврузалиев "]
[{"$f":"IF(C38=\"\",\"\",CONCATENATE(C38,\" вес \",S38))","v":"6 вес 61,2"},29,6,null,"г. Ханты-Мансийск","Бывалин Е.С.","Магомедов","Хайрулла","Магомедович","КМС",1,null,{"$f":"G38&\" \"&H38","v":"Магомедов Хайрулла"},"18","3","19","96",61.2,{"$f":"IF(R38=\"\",\"\",IF(R38<=61.2,\"61,2\",IF(R38<=65.8,\"65,8\",IF(R38<=70.3,\"70,3\",IF(R38<=77.1,\"77,1\",IF(R38<=84,\"84\",IF(R38<=93,\"93\",IF(R38>93,\"93+\",0))))))))","v":"61,2"},{"$f":"IF(R38=\"\",\"\",IF(R38<93,S38-R38,IF(R38>=93,R38-93,0)))","v":0},{"$f":"IF(Q38=\"\",\"\",DATE((VALUE(P38&Q38)),O38,N38))","v":"1996-03-18"},{"$f":"'Unvisible Servis'!$V$2-N38","v":1},{"$f":"'Unvisible Servis'!$W$2-O38","v":-1},{"$f":"'Unvisible Servis'!$X$2-(P38&Q38)","v":22},{"$f":"IF(X38<21,\"Шлем\",IF(X38>21,\"\",IF(AND(X38=21,W38>0),\"\",IF(OR(W38<0,V38<0),\"Шлем\",\"\"))))","v":""},null,null,{"$f":"G38&\" \"&H38&\" \"&I38","v":"Магомедов Хайрулла Магомедович"},{"$f":"COUNTIF(G:G,G38)","v":3},{"$f":"IF(AC38>1,G38,\"\")","v":"Магомедов"},{"$f":"IF(Y38=\"\",\"\",\"(Ш)\")","v":""},{"$f":"CONCATENATE(G38,\" \",AE38)","v":"Магомедов "}]
["7 вес 77,1",14,7,null,"г. Сургут","Изабеков А.З.","Юсупов","Магомед","Абулмуслимович","КМС",1,null,"Юсупов Магомед","22","9","19","93",77.099999999999994,"77,1",0,"1993-09-22",{"$f":"'Unvisible Servis'!$V$2-N39","v":-3},{"$f":"'Unvisible Servis'!$W$2-O39","v":-7},{"$f":"'Unvisible Servis'!$X$2-(P39&Q39)","v":25},"",null,null,"Юсупов Магомед Абулмуслимович",2,"Юсупов","","Юсупов "]
["7 вес 65,8",16,7,null,"г. Сургут","Изабеков А.З.","Гаджиахмедов","Магомед","Гаджиевич","КМС",1,null,"Гаджиахмедов Магомед","30","8","19","96",65.8,"65,8",0,"1996-08-30",{"$f":"'Unvisible Servis'!$V$2-N40","v":-11},{"$f":"'Unvisible Servis'!$W$2-O40","v":-6},{"$f":"'Unvisible Servis'!$X$2-(P40&Q40)","v":22},"",null,null,"Гаджиахмедов Магомед Гаджиевич",1,"","","Гаджиахмедов "]
["7 вес 70,3",25,7,null,"г. Сургут","Дибиров М.М.","Киричевский","Максим","Викторович","КМС",1,null,"Киричевский Максим",null,null,"19","98",70.3,"70,3",0,"1997-11-30",{"$f":"'Unvisible Servis'!$V$2-N41","v":19},{"$f":"'Unvisible Servis'!$W$2-O41","v":2},{"$f":"'Unvisible Servis'!$X$2-(P41&Q41)","v":20},"Шлем",null,null,"Киричевский Максим Викторович",1,"","(Ш)","Киричевский (Ш)"]
["7 вес 61,2",30,7,null,"г. Ханты-Мансийск","Бывалин Е.С.","Джумакаев","Абдулбек","Арабдинович",null,1,null,"Джумакаев Абдулбек","2","8","19","98",61.2,"61,2",0,"1998-08-02",{"$f":"'Unvisible Servis'!$V$2-N42","v":17},{"$f":"'Unvisible Servis'!$W$2-O42","v":-6},{"$f":"'Unvisible Servis'!$X$2-(P42&Q42)","v":20},"Шлем",null,null,"Джумакаев Абдулбек Арабдинович",1,"","(Ш)","Джумакаев (Ш)"]
["8 вес 65,8",13,8,null,"г. Сургут","Изабеков А.З.","Ильясов","Гасан","Нурутдинович","КМС",1,null,"Ильясов Гасан","12","4","19","99",65.8,"65,8",0,"1999-04-12",{"$f":"'Unvisible Servis'!$V$2-N43","v":7},{"$f":"'Unvisible Servis'!$W$2-O43","v":-2},{"$f":"'Unvisible Servis'!$X$2-(P43&Q43)","v":19},"Шлем",null,null,"Ильясов Гасан Нурутдинович",2,"Ильясов","(Ш)","Ильясов (Ш)"]
["8 вес 77,1",15,8,null,"г. Сургут","Изабеков А.З.","Муслимов","Азамат","Мурадович","КМС",1,null,"Муслимов Азамат","02","08","19","93",77.099999999999994,"77,1",0,"1993-08-02",{"$f":"'Unvisible Servis'!$V$2-N44","v":17},{"$f":"'Unvisible Servis'!$W$2-O44","v":-6},{"$f":"'Unvisible Servis'!$X$2-(P44&Q44)","v":25},"",null,null,"Муслимов Азамат Мурадович",1,"","","Муслимов "]
["8 вес 70,3",27,8,null,"г. Сургут","Гаджиханов Р.","Лупарев","Максим","Александрович","КМС",1,null,"Лупарев Максим","20","1","19","99",70.3,"70,3",0,"1999-01-20",{"$f":"'Unvisible Servis'!$V$2-N45","v":-1},{"$f":"'Unvisible Servis'!$W$2-O45","v":1},{"$f":"'Unvisible Servis'!$X$2-(P45&Q45)","v":19},"Шлем",null,null,"Лупарев Максим Александрович",1,"","(Ш)","Лупарев (Ш)"]
["8 вес 61,2",31,8,null,"г. Ханты-Мансийск","Бывалин Е.С.","Ильясов","Магомед","Ильясович",null,1,null,"Ильясов Магомед","8","3","19","91",61.2,"61,2",0,"1991-03-08",{"$f":"'Unvisible Servis'!$V$2-N46","v":11},{"$f":"'Unvisible Servis'!$W$2-O46","v":-1},{"$f":"'Unvisible Servis'!$X$2-(P46&Q46)","v":27},"",null,null,"Ильясов Магомед Ильясович",2,"Ильясов","","Ильясов "]
["9 вес 70,3",2,9,null,"г. Нижневартовск","Бадабиев Р.С.,Халитов В.Р.","Рамазанов","Рамазан","Газимагомедович",null,1,null,"Рамазанов Рамазан","13","6","19","97",70.3,"70,3",0,"1997-06-13",{"$f":"'Unvisible Servis'!$V$2-N47","v":6},{"$f":"'Unvisible Servis'!$W$2-O47","v":-4},{"$f":"'Unvisible Servis'!$X$2-(P47&Q47)","v":21},"Шлем",null,null,"Рамазанов Рамазан Газимагомедович",2,"Рамазанов","(Ш)","Рамазанов (Ш)"]
["9 вес 65,8",12,9,null,"г. Сургут","Дибиров М.М.","Касумов ","Али","Магомедрасулович",null,1,null,"Касумов  Али","11","12","19","89",65.8,"65,8",0,"1989-12-11",{"$f":"'Unvisible Servis'!$V$2-N48","v":8},{"$f":"'Unvisible Servis'!$W$2-O48","v":-10},{"$f":"'Unvisible Servis'!$X$2-(P48&Q48)","v":29},"",null,null,"Касумов  Али Магомедрасулович",1,"","","Касумов  "]
["9 вес 77,1",18,9,null,"г. Сургут","Изабеков А.З.","Серков","Вадим","Игоревич","КМС",1,null,"Серков Вадим","11","7","19","93",77.099999999999994,"77,1",0,"1993-07-11",{"$f":"'Unvisible Servis'!$V$2-N49","v":8},{"$f":"'Unvisible Servis'!$W$2-O49","v":-5},{"$f":"'Unvisible Servis'!$X$2-(P49&Q49)","v":25},"",null,null,"Серков Вадим Игоревич",1,"","","Серков "]
["9 вес 61,2",49,9,null,"СДЮСШОР \"СПАРТАК\" (г.Нефтеюганск)","Сиражудинов Р.С.","Юсупов","Багавдин","Ахмедович",null,1,null,"Юсупов Багавдин","1","12","19","98",61.2,"61,2",0,"1998-12-01",{"$f":"'Unvisible Servis'!$V$2-N50","v":18},{"$f":"'Unvisible Servis'!$W$2-O50","v":-10},{"$f":"'Unvisible Servis'!$X$2-(P50&Q50)","v":20},"Шлем",null,null,"Юсупов Багавдин Ахмедович",2,"Юсупов","(Ш)","Юсупов (Ш)"]
["10 вес 65,8",1,10,null,"г. Нижневартовск","Бадабиев Р.С.,Халитов В.Р.","Магомедов","Бурагим","Магомедович",null,1,null,"Магомедов Бурагим","9","7","19","96",65.8,"65,8",0,"1996-07-09",{"$f":"'Unvisible Servis'!$V$2-N51","v":10},{"$f":"'Unvisible Servis'!$W$2-O51","v":-5},{"$f":"'Unvisible Servis'!$X$2-(P51&Q51)","v":22},"",null,null,"Магомедов Бурагим Магомедович",3,"Магомедов","","Магомедов "]
["10 вес 61,2",7,10,null,"г. Нижневартовск (СБЕ КОБРА)","Казбеков Т.Г.","Гимаев","Ильвир","Ильгизович",null,1,null,"Гимаев Ильвир","4","6","19","88",61.2,"61,2",0,"1988-06-04",{"$f":"'Unvisible Servis'!$V$2-N52","v":15},{"$f":"'Unvisible Servis'!$W$2-O52","v":-4},{"$f":"'Unvisible Servis'!$X$2-(P52&Q52)","v":30},"",null,null,"Гимаев Ильвир Ильгизович",1,"","","Гимаев "]
["10 вес 77,1",22,10,null,"г. Сургут","Кучкин А.В.","Ахмедов","Равидин","Ахмедович","КМС",1,null,"Ахмедов Равидин","28","05","19","89",77.099999999999994,"77,1",0,"1989-05-28",{"$f":"'Unvisible Servis'!$V$2-N53","v":-9},{"$f":"'Unvisible Servis'!$W$2-O53","v":-3},{"$f":"'Unvisible Servis'!$X$2-(P53&Q53)","v":29},"",null,null,"Ахмедов Равидин Ахмедович",1,"","","Ахмедов "]
["11 вес 77,1",11,11,null,"г. Сургут","Изабеков А.З.","Сальников","Ярослав","Викторович","КМС",1,null,"Сальников Ярослав","4","9","19","90",77.099999999999994,"77,1",0,"1990-09-04",{"$f":"'Unvisible Servis'!$V$2-N54","v":15},{"$f":"'Unvisible Servis'!$W$2-O54","v":-7},{"$f":"'Unvisible Servis'!$X$2-(P54&Q54)","v":28},"",null,null,"Сальников Ярослав Викторович",1,"","","Сальников "]
["",50,null,null,null,null,null,null,null,null,null,null," ",null,null,"19",null,null,"","","",{"$f":"'Unvisible Servis'!$V$2-N55","v":19},{"$f":"'Unvisible Servis'!$W$2-O55","v":2},{"$f":"'Unvisible Servis'!$X$2-(P55&Q55)","v":1999},"",null,null,"  ",0,"",""," "]

{"sheet":"Исходные данные по чемпионату","index":47,"n_rows":84,"n_cols":9,"rows_kept":84,"cut":false,"hidden":false,"merged":[]}
[null,"Исходные данные по чемпионату",null,null,"(зелёные поля попадают в отчёт)"]
[]
[null,"Наименование соревнований:","Чемпионат ХМАО-Югры по СБЕ (ММА) среди муж. 18лет и старше,первенство среди юношей 16-17лет"]
[null,"Сроки проведения:","с16 по 19 февраля 2018г."]
[null,"Место проведения:","Югра-Атлетикс"]
[null,"Город проведения:","г. Ханты-Мансийск"]
[null,"Адрес проведения:","ул. Отрадная 9"]
[null,"Организатор:","Общероссийская общественная организация «Союз смешанных боевых единоборств «ММА» России»"]
[]
[null,"Коллегия судей"]
[null,"Должность","ФИО","Страна","Область/край","Страна/Регион/Город","Регион","Город","Категория"]
[null,"Главный судья соревнований","Карташков К.В.","Россия",null,{"$f":"D12&\"   \"&G12&\"   \"&H12","v":"Россия      Челябинск"},null,"Челябинск","ВК (всероссийская)"]
[null,"Главный секретарь","Толстыгин А.Ю.","Россия",null,{"$f":"D13&\"   \"&G13&\"   \"&H13","v":"Россия      Ханты-Мансийск"},null,"Ханты-Мансийск","ВК (всероссийская)"]
[null,"Руководитель ринга1","Басарыгин Д","Россия",null,"Россия      Магнитогорск",null,"Магнитогорск"]
[null,"Руководитель ринга2","Щербакова Н.","Россия",null,{"$f":"D15&\"   \"&G15&\"   \"&H15","v":"Россия      Тюмень"},null,"Тюмень"]
[null,"Рефери","Панфилов А.","Россия",null,"Россия      Тюмень",null,"Тюмень"]
[null,"Рефери","Бебеев М.","Россия",null,{"$f":"D17&\"   \"&G17&\"   \"&H17","v":"Россия      Тюмень"},null,"Тюмень"]
[null,"Рефери","Пучинкин И.","Россия",null,"Россия      Сургут",null,"Сургут"]
[null,"Боковой судья","Юлмухаметов Д.","Россия",null,"Россия      Челябинск",null,"Челябинск"]
[null,"Боковой судья","Завьялов А.","Россия",null,"Россия      Сургут",null,"Сургут"]
[null,"Боковой судья","Фокин Н.","Россия",null,{"$f":"D21&\"   \"&G21&\"   \"&H21","v":"Россия      Сургут"},null,"Сургут"]
[null,"Боковой судья","Гаджиханов Р.","Россия",null,"Россия      Сургут",null,"Сургут"]
[null,"Боковой судья",null,"Россия",null,"Россия      "]
[null,"Боковой судья",null,"Россия",null,"Россия      "]
[null,"Судья-секондуметрист",null,"Россия",null,{"$f":"D25&\"   \"&G25&\"   \"&H25","v":"Россия      "}]
[null,"Судья-секондуметрист",null,"Россия",null,"Россия      "]
[null,null,null,null,null,"      "]
[null,null,null,null,null,"      "]
[null,null,null,null,null,"      "]
[]
[null,"Справочная информация (возможно удалить если не будет востребована)"]
[null,"Тренера команд"]
[null,"Должность","ФИО (список)","Страна","Область/край",null,"Регион","Город"]
[null,"Тренер",null,"Россия",null,{"$f":"D34&\"   \"&G34","v":"Россия   "}]
[null,"Тренер",null,"Россия",null,{"$f":"D35&\"   \"&G35","v":"Россия   "}]
[null,"Тренер",null,"Россия",null,"Россия   "]
[null,"Тренер",null,"Россия",null,"Россия   "]
[null,"Тренер",null,"Россия",null,"Россия   "]
[null,"Тренер",null,"Россия",null,"Россия   "]
[null,"Тренер",null,"Россия",null,"Россия   "]
[null,"Тренер",null,"Россия",null,"Россия   "]
[null,"Тренер",null,"Россия",null,"Россия   "]
[null,"Тренер",null,"Россия",null,"Россия   "]
[null,"Тренер",null,"Россия",null,"Россия   "]
[null,"Тренер",null,"Россия",null,"Россия   "]
[null,"Тренер",null,"Россия",null,"Россия   "]
[null,"Тренер",null,"Россия",null,"Россия   "]
[null,"Тренер",null,"Россия",null,"Россия   "]
[null,"Тренер",null,"Россия",null,"Россия   "]
[null,"Тренер",null,"Россия",null,"Россия   "]
[null,"Тренер",null,"Россия",null,"Россия   "]
[null,"Тренер",null,"Россия",null,"Россия   "]
[null,"Тренер",null,"Россия",null,"Россия   "]
[null,"Тренер",null,"Россия",null,"Россия   "]
[null,"Тренер",null,"Россия",null,"Россия   "]
[null,"Тренер",null,"Россия",null,"Россия   "]
[null,"Тренер",null,"Россия",null,"Россия   "]
[null,"Справочная информация (возможно удалить если не будет востребована)"]
[null,"Представители команд"]
[null,"Должность","ФИО","Страна","Область/край",null,"Регион","Город"]
[null,"Представитель",null,null,null,{"$f":"D61&\"   \"&G61","v":"   "}]
[null,"Представитель",null,null,null,"   "]
[null,"Представитель",null,null,null,"   "]
[null,"Представитель",null,null,null,"   "]
[null,"Представитель",null,null,null,"   "]
[null,"Представитель",null,null,null,"   "]
[null,"Представитель",null,null,null,"   "]
[null,"Представитель",null,null,null,"   "]
[null,"Представитель",null,null,null,"   "]
[null,"Представитель",null,null,null,"   "]
[null,"Представитель",null,null,null,"   "]
[null,"Представитель",null,null,null,"   "]
[null,"Представитель",null,null,null,"   "]
[null,"Представитель",null,null,null,"   "]
[null,"Представитель",null,null,null,"   "]
[null,"Представитель",null,null,null,"   "]
[null,"Представитель",null,null,null,"   "]
[null,"Представитель",null,null,null,"   "]
[null,"Представитель",null,null,null,"   "]
[null,"Представитель",null,null,null,"   "]
[null,"Представитель",null,null,null,"   "]
[null,"Представитель",null,null,null,"   "]
[null,"Представитель",null,null,null,"   "]
[null,"Представитель",null,null,null,"   "]

{"sheet":"Unvisible Servis","index":48,"n_rows":40,"n_cols":32,"rows_kept":40,"cut":false,"hidden":true,"merged":[[38,9,38,11],[39,9,39,11],[33,9,33,11],[34,9,34,11],[35,9,35,11],[36,9,36,11],[37,9,37,11],[28,9,28,11],[29,9,29,11],[30,9,30,11],[31,9,31,11],[32,9,32,11],[23,9,23,11],[24,9,24,11],[25,9,25,11],[26,9,26,11],[27,9,27,11],[18,9,18,11],[19,9,19,11],[20,9,20,11],[21,9,21,11],[22,9,22,11],[13,9,13,11],[14,9,14,11],[15,9,15,11],[16,9,16,11],[17,9,17,11],[8,9,8,11],[9,9,9,11],[10,9,10,11],[11,9,11,11],[12,9,12,11],[3,13,3,16],[3,20,4,20],[3,21,3,23],[3,17,4,17],[3,18,4,18],[3,19,4,19]]}
[null,"Участники чемпионата - Servis",null,null,null,null,null,null,null,null,null,"Скрыть - Servis","Скрыть - Servis",null,null,"Скрыть - Servis",null,null,null,null,"Скрыть - Servis","Скрыть - Servis","Скрыть - Servis","Скрыть - Servis"]
[null,null,null,null,null,null,null,null,null,null,null,null,"Метка дя сортировки при жеребъевки:",2,null,null,null,null,null,"Завтра",{"$f":"TODAY()+1","v":"2018-02-19"},{"$f":"DAY($U$2)","v":19},{"$f":"MONTH($U$2)","v":2},{"$f":"YEAR($U$2)","v":2018}]
[]
[null,null,null,null,null,null,null,null,null,null,null,null,null,"Ввод даты рождения",null,null,null,"Вес","Категория","∆","Дата рождения","Возраст"]
["Мулька\nсцепка","№ порядковый","№ в категории","Область/край","Регион","ФИО тренера","Фамилия","Имя","Отчество","Разряд","Страховка","Взнос","ФИО","День","Месяц","Год","Год",null,null,null,null,"Дней","Месяцев","Лет","Шлем","Рейтинг","С/Клуб","ФИО\n(полное)","Совпадение","Совпадение",null,"Фамилия + Шлем"]
[{"$f":"IF(C6=\"\",\"\",CONCATENATE(C6,\" вес \",S6))","v":""},null,null,null,null,null,null,null,null,null,null,null,{"$f":"G6&\" \"&H6","v":" "},null,null,"19",null,null,{"$f":"IF(R6=\"\",\"\",IF(R6<=61.2,\"61,2\",IF(R6<=65.8,\"65,8\",IF(R6<=70.3,\"70,3\",IF(R6<=77.1,\"77,1\",IF(R6<=84,\"84\",IF(R6<=93,\"93\",IF(R6>93,\"93+\",0))))))))","v":""},{"$f":"IF(R6=\"\",\"\",IF(R6<93,S6-R6,IF(R6>=93,R6-93,0)))","v":""},{"$f":"IF(Q6=\"\",\"\",DATE((VALUE(P6&Q6)),O6,N6))","v":""},{"$f":"'Unvisible Servis'!$V$2-N6","v":19},{"$f":"'Unvisible Servis'!$W$2-O6","v":2},{"$f":"'Unvisible Servis'!$X$2-(P6&Q6)","v":1999},{"$f":"IF(X6<21,\"Шлем\",IF(X6>21,\"\",IF(AND(X6=21,W6>0),\"\",IF(OR(W6<0,V6<0),\"Шлем\",\"\"))))","v":""},null,null,{"$f":"G6&\" \"&H6&\" \"&I6","v":"  "},{"$f":"COUNTIF(G:G,G6)","v":0},{"$f":"IF(AC6>1,G6,\"\")","v":""},{"$f":"IF(Y6=\"\",\"\",\"(Ш)\")","v":""},{"$f":"CONCATENATE(G6,\" \",AE6)","v":" "}]
[]
[{"$f":"IF(C6=\"\",\"\",CONCATENATE(C6,\" вес \",S6))","v":""},null,null,null,null,null,null,null,"Не удалять учавствует в подсчёте очков",null,null,null,null,null,null,null,null,null,"ЕСЛИ(R10<21;\"Шлем\";ЕСЛИ(R10>21;\"\";ЕСЛИ(И(R10=21;Q10>0);\"\";ЕСЛИ(ИЛИ(Q10<0;P10<0);\"Шлем\";\"\"))))"]
[null,null,null,null,null,null,null,null,1,1]
[null,null,null,null,null,null,null,null,2,2]
[null,null,null,null,null,null,null,null,3,3]
[null,null,null,null,null,null,null,null,4,3]
[null,null,null,null,null,null,null,null,5,"5-8"]
[null,null,null,null,null,null,null,null,6,"5-8"]
[null,null,null,null,null,null,null,null,7,"5-8"]
[null,null,null,null,null,null,null,null,8,"5-8"]
[null,null,null,null,null,null,null,null,9,"9-16"]
[null,null,null,null,null,null,null,null,10,"9-16"]
[null,null,null,null,null,null,null,null,11,"9-16"]
[null,null,null,null,null,null,null,null,12,"9-16"]
[null,null,null,null,null,null,null,null,13,"9-16"]
[null,null,null,null,null,null,null,null,14,"9-16"]
[null,null,null,null,null,null,null,null,15,"9-16"]
[null,null,null,null,null,null,null,null,16,"9-16"]
[null,null,null,null,null,null,null,null,17,"17-32"]
[null,null,null,null,null,null,null,null,18,"17-32"]
[null,null,null,null,null,null,null,null,19,"17-32"]
[null,null,null,null,null,null,null,null,20,"17-32"]
[null,null,null,null,null,null,null,null,21,"17-32"]
[null,null,null,null,null,null,null,null,22,"17-32"]
[null,null,null,null,null,null,null,null,23,"17-32"]
[null,null,null,null,null,null,null,null,24,"17-32"]
[null,null,null,null,null,null,null,null,25,"17-32"]
[null,null,null,null,null,null,null,null,26,"17-32"]
[null,null,null,null,null,null,null,null,27,"17-32"]
[null,null,null,null,null,null,null,null,28,"17-32"]
[null,null,null,null,null,null,null,null,29,"17-32"]
[null,null,null,null,null,null,null,null,30,"17-32"]
[null,null,null,null,null,null,null,null,31,"17-32"]
[null,null,null,null,null,null,null,null,32,"17-32"]

{"sheet":"Unvisible Списки","index":49,"n_rows":97,"n_cols":32,"rows_kept":97,"cut":false,"hidden":true,"merged":[]}
[null,"Unvisible Списки",null,null,null,null,null,"***Если работать на уровне Области => есть смысл создать двойной список своей области с городами которые в своею очередь подет подтягиваться в сетку (в листе участники соревнований столбцы Регион/Край и Регион/Город)"]
[null,null,null,null,null,null,null,null,null,null,null,null,null,null,null,"На момент","2014-06-27"]
[null,"Категории","Сетка","День","Месяц","Год","Метка","Город","Страна","Округ","Должность","Разряд","Очки в круговой",null,"Код ","Название региона","Столица","Округ",null,"Дальневосточный","Забайкальский_край","Иркутская_обл.","Камчатский_край","Красноярский_край","Крымский","Приволжский","Северо_Западный","Северо_Кавказский","Сибирский","Уральский","Центральный","Южный"]
[null,61.2,"Олимпийская",1,1,{"$f":"RIGHT(YEAR(TODAY())-18,2)","v":"00"},1,"Абакан","Россия","Дальневосточный","Представитель","КМС",3,null,14,"Республика Саха (Якутия)","Якутск","Дальневосточный",null,"Республика Саха (Якутия)","Агинский Бурятский АО","Усть-Ордынский Бурятский АО","Корякский АО","Таймырский (Долгано-Ненецкий) АО","Республика Крым","Республика Башкортостан","Республика Коми","Республика Дагестан","Республика Бурятия","Курганская область","Белгородская область","Республика Адыгея"]
[null,65.8,"Круговая",2,2,{"$f":"F4-1","v":-1},null,"Анадырь","Испания","Забайкальский_край","Тренер","МС",2,null,25,"Приморский край","Владивосток","Дальневосточный",null,"Приморский край","Читинская область",null,"Камчатская область","Эвенкийский АО","г.Севастополь","Республика Марий Эл","Архангельская область","Республика Ингушетия","Республика Алтай","Свердловская область","Брянская область","Республика Калмыкия"]
[null,70.3,null,3,3,{"$f":"F5-1","v":-2},null,"Архангельск",null,"Иркутская_обл.",null,"МСМК",1,null,27,"Хабаровский край","Хабаровск","Дальневосточный",null,"Хабаровский край",null,null,null,null,null,"Республика Мордовия","Вологодская область","Кабардино-Балкарская Республика","Республика Тыва","Тюменская область","Владимирская область","Краснодарский край"]
[null,77.099999999999994,null,4,4,-3,null,"Астрахань",null,"Камчатский_край",null,null,null,null,28,"Амурская область","Благовещенск","Дальневосточный",null,"Амурская область",null,null,null,null,null,"Республика Татарстан","Калининградская область","Республика Карачаево-Черкесия","Республика Хакасия","Челябинская область","Воронежская область","Астраханская область"]
[null,84,"Результат_боя",5,5,-4,null,"Барнаул",null,"Красноярский_край",null,null,null,null,41,"Камчатский край","Петропавловск-Камчатский","Дальневосточный",null,"Камчатский край",null,null,null,null,null,"Удмуртская Республика","Ленинградская область","Республика Северная Осетия-Алания","Алтайский край","Ханты-Мансийский АО - Югра","Ивановская область","Волгоградская область"]
[null,93,"(ПО)",6,6,-5,null,"Белгород",null,"Крымский",null,null,null,null,49,"Магаданская область","Магадан","Дальневосточный",null,"Магаданская область",null,null,null,null,null,"Чувашская Республика","Мурманская область","Ставропольский край","Красноярский край","Ямало-Ненецкий АО","Калужская область","Ростовская область"]
[null,"93+","(КО)",7,7,-6,null,"Биробиджан",null,"Приволжский",null,null,null,null,65,"Сахалинская область","Южно-Сахалинск","Дальневосточный",null,"Сахалинская область",null,null,null,null,null,"Кировская область","Новгородская область","Чеченская Республика","Иркутская область",null,"Костромская область"]
[null,null,"(БЛ)",8,8,-7,null,"Благовещенск",null,"Северо_Западный",null,null,null,null,79,"Еврейская автономная область","Биробиджан","Дальневосточный",null,"Еврейская АО",null,null,null,null,null,"Нижегородская область","Псковская область",null,"Кемеровская область",null,"Курская область"]
[null,"Категории_Судей","(ТКО)",9,9,-8,null,"Брянск",null,"Северо_Кавказский",null,null,null,null,87,"Чукотский автономный округ","Анадырь","Дальневосточный",null,"Чукотский АО",null,null,null,null,null,"Оренбургская область","г. Санкт-Петербург",null,"Новосибирская область",null,"Липецкая область"]
[null,"МК (международная)","(СН)",10,10,-9,null,"Великий Новгород",null,"Сибирский",null,null,null,null,80,"Агинский Бурятский автономный округ","пгт Агинское","Забайкальский край",null,null,null,null,null,null,null,"Пензенская область","Ненецкий АО",null,"Омская область",null,"Московская область"]
[null,"ВК (всероссийская)","(ОТК)",11,11,-10,null,"Владивосток",null,"Уральский",null,null,null,null,75,"Читинская область","Чита","Забайкальский край",null,null,null,null,null,null,null,"Пермский край","Республика Карелия",null,"Томская область",null,"Орловская область"]
[null,2,"(ДСК)",12,12,-11,null,"Владикавказ",null,"Центральный",null,null,null,null,85,"Усть-Ордынский Бурятский автономный округ","пгт Усть-Ордынский","Иркутская обл.",null,null,null,null,null,null,null,"Самарская область",null,null,"Забайкальский край",null,"Рязанская область"]
[null,1,"(РГСК)",13,null,-12,null,"Владимир",null,"Южный",null,null,null,null,82,"Корякский автономный округ","пгт Палана","Камчатский край",null,null,null,null,null,null,null,"Саратовская область",null,null,null,null,"Смоленская область"]
[null,null,"(НЯ)",14,null,-13,null,"Волгоград",null,null,null,null,null,null,41,"Камчатская область","Петропавловск-Камчатский","Камчатский край",null,null,null,null,null,null,null,"Ульяновская область",null,null,null,null,"Тамбовская область"]
[null,null,null,15,null,-14,null,"Вологда",null,null,null,null,null,null,84,"Таймырский (Долгано-Ненецкий) автономный округ","Дудинка","Красноярский край",null,null,null,null,null,null,null,null,null,null,null,null,"Тверская область"]
[null,null,"Время_боя",16,null,-15,null,"Воронеж",null,null,null,null,null,null,88,"Эвенкийский автономный округ","пгт Тура","Красноярский край",null,null,null,null,null,null,null,null,null,null,null,null,"Тульская область"]
[null,null,"1р",17,null,-16,null,"Горно-Алтайск",null,null,null,null,null,null,91,"Республика Крым","Симферополь","Крымский",null,null,null,null,null,null,null,null,null,null,null,null,"Ярославская область"]
[null,null,"2р",18,null,-17,null,"Грозный",null,null,null,null,null,null,92,"г.Севастополь","Севастополь","Крымский",null,null,null,null,null,null,null,null,null,null,null,null,"г. Москва"]
[null,null,"Extra",19,null,-18,null,"Дудинка",null,null,null,null,null,null,81,"Коми-Пермяцкий автономный округ","Кудымкар","Пермский край"]
[null,null,null,20,null,-19,null,"Екатеринбург",null,null,null,null,null,null,59,"Пермская область","Пермь","Пермский край"]
[null,null,null,21,null,-20,null,"Иваново",null,null,null,null,null,null,2,"Республика Башкортостан","Уфа","Приволжский"]
[null,null,null,22,null,-21,null,"Ижевск",null,null,null,null,null,null,12,"Республика Марий Эл","Йошкар-Ола","Приволжский"]
[null,"Результат_боя_описание",null,23,null,-22,null,"Йошкар-Ола",null,null,null,null,null,null,13,"Республика Мордовия","Саранск","Приволжский"]
[null,{"$f":"C9","v":"(ПО)"},"по очкам",24,null,null,null,"Иркутск",null,null,null,null,null,null,16,"Республика Татарстан","Казань","Приволжский"]
[null,{"$f":"C10","v":"(КО)"},"нокаут",25,null,null,null,"Казань",null,null,null,null,null,null,18,"Удмуртская Республика","Ижевск","Приволжский"]
[null,"(БЛ)","болевой/удушающий",26,null,null,null,"Калининград",null,null,null,null,null,null,21,"Чувашская Республика","Чебоксары","Приволжский"]
[null,"(ТКО)","технический нокаут",27,null,null,null,"Калуга",null,null,null,null,null,null,43,"Кировская область","Киров","Приволжский"]
[null,"(СН)","снятие врачом",28,null,null,null,"Кемерово",null,null,null,null,null,null,52,"Нижегородская область","Нижний Новгород","Приволжский"]
[null,"(ОТК)","отказ продолжать бой",29,null,null,null,"Киров",null,null,null,null,null,null,56,"Оренбургская область","Оренбург","Приволжский"]
[null,"(ДСК)","Дисквалификация",30,null,null,null,"Кострома",null,null,null,null,null,null,58,"Пензенская область","Пенза","Приволжский"]
[null,"(РГСК)","решение главного судьи СК",31,null,null,null,"Краснодар",null,null,null,null,null,null,59,"Пермский край","Пермь","Приволжский"]
[null,"(НЯ)","неявка",null,null,null,null,"Красноярск",null,null,null,null,null,null,63,"Самарская область","Самара","Приволжский"]
[null,null,null,null,null,null,null,"Кудымкар",null,null,null,null,null,null,64,"Саратовская область","Саратов","Приволжский"]
[null,null,null,null,null,null,null,"Курган",null,null,null,null,null,null,73,"Ульяновская область","Ульяновск","Приволжский"]
[null,null,null,null,null,null,null,"Курск",null,null,null,null,null,null,11,"Республика Коми","Сыктывкар","Северо-Западный"]
[null,null,null,null,null,null,null,"Кызыл",null,null,null,null,null,null,29,"Архангельская область","Архангельск","Северо-Западный"]
[null,null,null,null,null,null,null,"Липецк",null,null,null,null,null,null,35,"Вологодская область","Вологда","Северо-Западный"]
[null,null,null,null,null,null,null,"Магадан",null,null,null,null,null,null,39,"Калининградская область","Калининград","Северо-Западный"]
[null,null,null,null,null,null,null,"Магас",null,null,null,null,null,null,47,"Ленинградская область","Санкт-Петербург","Северо-Западный"]
[null,null,null,null,null,null,null,"Майкоп",null,null,null,null,null,null,51,"Мурманская область","Мурманск","Северо-Западный"]
[null,null,null,null,null,null,null,"Махачкала",null,null,null,null,null,null,53,"Новгородская область","Великий Новгород","Северо-Западный"]
[null,null,null,null,null,null,null,"Москва",null,null,null,null,null,null,60,"Псковская область","Псков","Северо-Западный"]
[null,null,null,null,null,null,null,"Мурманск",null,null,null,null,null,null,78,"г. Санкт-Петербург","Санкт-Петербург","Северо-Западный"]
[null,null,null,null,null,null,null,"Нальчик",null,null,null,null,null,null,83,"Ненецкий автономный округ","Нарьян-Мар","Северо-Западный"]
[null,null,null,null,null,null,null,"Нарьян-Мар",null,null,null,null,null,null,10,"Республика Карелия","Петрозаводск","Северо-Западный "]
[null,null,null,null,null,null,null,"Нижний Новгород",null,null,null,null,null,null,5,"Республика Дагестан","Махачкала","Северо-Кавказский"]
[null,null,null,null,null,null,null,"Новосибирск",null,null,null,null,null,null,6,"Республика Ингушетия","Магас","Северо-Кавказский"]
[null,null,null,null,null,null,null,"Омск",null,null,null,null,null,null,7,"Кабардино-Балкарская Республика","Нальчик","Северо-Кавказский"]
[null,null,null,null,null,null,null,"Орел",null,null,null,null,null,null,9,"Республика Карачаево-Черкесия","Черкесск","Северо-Кавказский"]
[null,null,null,null,null,null,null,"Оренбург",null,null,null,null,null,null,15,"Республика Северная Осетия-Алания","Владикавказ","Северо-Кавказский"]
[null,null,null,null,null,null,null,"пгт Агинское",null,null,null,null,null,null,26,"Ставропольский край","Ставрополь","Северо-Кавказский"]
[null,null,null,null,null,null,null,"пгт Палана",null,null,null,null,null,null,95,"Чеченская Республика","Грозный","Северо-Кавказский"]
[null,null,null,null,null,null,null,"пгт Тура",null,null,null,null,null,null,3,"Республика Бурятия","Улан-Удэ","Сибирский"]
[null,null,null,null,null,null,null,"пгт Усть-Ордынский",null,null,null,null,null,null,4,"Республика Алтай","Горно-Алтайск","Сибирский"]
[null,null,null,null,null,null,null,"Пенза",null,null,null,null,null,null,17,"Республика Тыва","Кызыл","Сибирский"]
[null,null,null,null,null,null,null,"Пермь",null,null,null,null,null,null,19,"Республика Хакасия","Абакан","Сибирский"]
[null,null,null,null,null,null,null,"Петрозаводск",null,null,null,null,null,null,22,"Алтайский край","Барнаул","Сибирский"]
[null,null,null,null,null,null,null,"Петропавловск-Камчатский",null,null,null,null,null,null,24,"Красноярский край","Красноярск","Сибирский"]
[null,null,null,null,null,null,null,"Псков",null,null,null,null,null,null,38,"Иркутская область","Иркутск","Сибирский"]
[null,null,null,null,null,null,null,"Ростов-на-Дону",null,null,null,null,null,null,42,"Кемеровская область","Кемерово","Сибирский"]
[null,null,null,null,null,null,null,"Рязань",null,null,null,null,null,null,54,"Новосибирская область","Новосибирск","Сибирский"]
[null,null,null,null,null,null,null,"Салехард",null,null,null,null,null,null,55,"Омская область","Омск","Сибирский"]
[null,null,null,null,null,null,null,"Самара",null,null,null,null,null,null,70,"Томская область","Томск","Сибирский"]
[null,null,null,null,null,null,null,"Санкт-Петербург",null,null,null,null,null,null,"75 80","Забайкальский край","Чита","Сибирский"]
[null,null,null,null,null,null,null,"Саранск",null,null,null,null,null,null,45,"Курганская область","Курган","Уральский"]
[null,null,null,null,null,null,null,"Саратов",null,null,null,null,null,null,66,"Свердловская область","Екатеринбург","Уральский"]
[null,null,null,null,null,null,null,"Севастополь",null,null,null,null,null,null,72,"Тюменская область","Тюмень","Уральский"]
[null,null,null,null,null,null,null,"Симферополь",null,null,null,null,null,null,74,"Челябинская область","Челябинск","Уральский"]
[null,null,null,null,null,null,null,"Смоленск",null,null,null,null,null,null,86,"Ханты-Мансийский автономный округ - Югра","Ханты-Мансийск","Уральский"]
[null,null,null,null,null,null,null,"Ставрополь",null,null,null,null,null,null,89,"Ямало-Ненецкий автономный округ","Салехард","Уральский"]
[null,null,null,null,null,null,null,"Сыктывкар",null,null,null,null,null,null,31,"Белгородская область","Белгород","Центральный"]
[null,null,null,null,null,null,null,"Тамбов",null,null,null,null,null,null,32,"Брянская область","Брянск","Центральный"]
[null,null,null,null,null,null,null,"Тверь",null,null,null,null,null,null,33,"Владимирская область","Владимир","Центральный"]
[null,null,null,null,null,null,null,"Томск",null,null,null,null,null,null,36,"Воронежская область","Воронеж","Центральный"]
[null,null,null,null,null,null,null,"Тула",null,null,null,null,null,null,37,"Ивановская область","Иваново","Центральный"]
[null,null,null,null,null,null,null,"Тюмень",null,null,null,null,null,null,40,"Калужская область","Калуга","Центральный"]
[null,null,null,null,null,null,null,"Улан-Удэ",null,null,null,null,null,null,44,"Костромская область","Кострома","Центральный"]
[null,null,null,null,null,null,null,"Ульяновск",null,null,null,null,null,null,46,"Курская область","Курск","Центральный"]
[null,null,null,null,null,null,null,"Уфа",null,null,null,null,null,null,48,"Липецкая область","Липецк","Центральный"]
[null,null,null,null,null,null,null,"Хабаровск",null,null,null,null,null,null,50,"Московская область","Москва","Центральный"]
[null,null,null,null,null,null,null,"Ханты-Мансийск",null,null,null,null,null,null,57,"Орловская область","Орел","Центральный"]
[null,null,null,null,null,null,null,"Чебоксары",null,null,null,null,null,null,62,"Рязанская область","Рязань","Центральный"]
[null,null,null,null,null,null,null,"Челябинск",null,null,null,null,null,null,67,"Смоленская область","Смоленск","Центральный"]
[null,null,null,null,null,null,null,"Черкесск",null,null,null,null,null,null,68,"Тамбовская область","Тамбов","Центральный"]
[null,null,null,null,null,null,null,"Чита",null,null,null,null,null,null,69,"Тверская область","Тверь","Центральный"]
[null,null,null,null,null,null,null,"Элиста",null,null,null,null,null,null,71,"Тульская область","Тула","Центральный"]
[null,null,null,null,null,null,null,"Южно-Сахалинск",null,null,null,null,null,null,76,"Ярославская область","Ярославль","Центральный"]
[null,null,null,null,null,null,null,"Якутск",null,null,null,null,null,null,77,"г. Москва","Москва","Центральный"]
[null,null,null,null,null,null,null,"Ярославль",null,null,null,null,null,null,1,"Республика Адыгея","Майкоп","Южный"]
[null,null,null,null,null,null,null,null,null,null,null,null,null,null,8,"Республика Калмыкия","Элиста","Южный"]
[null,null,null,null,null,null,null,null,null,null,null,null,null,null,23,"Краснодарский край","Краснодар","Южный"]
[null,null,null,null,null,null,null,null,null,null,null,null,null,null,30,"Астраханская область","Астрахань","Южный"]
[null,null,null,null,null,null,null,null,null,null,null,null,null,null,34,"Волгоградская область","Волгоград","Южный"]
[null,null,null,null,null,null,null,null,null,null,null,null,null,null,61,"Ростовская область","Ростов-на-Дону","Южный"]

{"sheet":"Финалисты на второй день","index":50,"n_rows":61,"n_cols":46,"rows_kept":61,"cut":false,"hidden":false,"merged":[[40,39,40,45],[40,1,41,1],[41,3,41,15],[41,18,41,23],[41,24,41,38],[41,39,41,45],[0,7,5,46],[6,35,9,46],[7,11,14,34],[10,35,13,46],[17,1,21,1],[17,2,21,2],[17,3,21,15],[17,16,21,16],[17,17,21,17],[17,18,21,23],[23,18,23,23],[23,39,23,45],[17,39,21,45],[22,1,23,1],[22,3,22,15],[22,18,22,23],[22,39,22,45],[23,3,23,15],[25,1,26,1],[25,3,25,15],[25,18,25,23],[25,39,25,45],[26,3,26,15],[26,18,26,23],[26,39,26,45],[28,1,29,1],[28,3,28,15],[28,18,28,23],[28,39,28,45],[29,3,29,15],[29,18,29,23],[29,39,29,45],[31,1,32,1],[31,3,31,15],[31,18,31,23],[31,39,31,45],[32,3,32,15],[32,18,32,23],[32,39,32,45],[34,1,35,1],[34,3,34,15],[34,18,34,23],[34,39,34,45],[35,3,35,15],[35,18,35,23],[35,39,35,45],[34,24,34,38],[35,24,35,38],[60,29,63,34],[60,35,63,35],[60,36,63,44],[60,45,63,45],[37,1,38,1],[37,3,37,15],[37,18,37,23],[37,39,37,45],[38,3,38,15],[38,18,38,23],[38,39,38,45],[37,24,37,38],[38,24,38,38],[40,3,40,15],[40,18,40,23],[40,24,40,38],[65,46,67,46],[17,24,21,38],[22,24,22,38],[23,24,23,38],[25,24,25,38],[26,24,26,38],[28,24,28,38],[29,24,29,38],[31,24,31,38],[32,24,32,38],[52,18,55,28],[52,29,55,34],[52,35,55,35],[52,36,55,44],[52,45,55,45],[60,18,63,28]]}
[null,null,null,null,null,null,null,"Чемпионат ХМАО-Югры по СБЕ (ММА) среди муж. 18лет и старше,первенство среди юношей 16-17лет"]
[]
[]
[]
[]
[]
[null,null,null,null,null,null,null,null,null,null,null,null,null,null,null,null,null,null,null,null,null,null,null,null,null,null,null,null,null,null,null,null,null,null,null,"г. Ханты-Мансийск"]
[null,null,null,null,null,null,null,null,null,null,null,"ФИНАЛИСТЫ НА ВТОРОЙ ДЕНЬ"]
[]
[]
[null,null,null,null,null,null,null,null,null,null,null,null,null,null,null,null,null,null,null,null,null,null,null,null,null,null,null,null,null,null,null,null,null,null,null,"с16 по 19 февраля 2018г."]
[]
[]
[]
[]
[]
[]
[null,"№ ","№ \nкат","Ф.И.О. (полностью)",null,null,null,null,null,null,null,null,null,null,null,null,"Дата рожд.","Разряд","Тренер",null,null,null,null,null,"Команда",null,null,null,null,null,null,null,null,null,null,null,null,null,null,"Клуб"]
[]
[]
[]
[]
[null,61.2,3,"Абдуллаев Элшан",null,null,null,null,null,null,null,null,null,null,null,null,"1992-10-22",0,"Казбеков Т.Г.",null,null,null,null,null,"г. Нижневартовск (СБЕ КОБРА)",null,null,null,null,null,null,null,null,null,null,null,null,null,null,0]
[null,null,2,"Латипов Эльдар",null,null,null,null,null,null,null,null,null,null,null,null,"1994-04-29","КМС","Мамедов Р.А.,Хабибулаев А.Р.",null,null,null,null,null,"Скорпион (г. Лангепас)",null,null,null,null,null,null,null,null,null,null,null,null,null,null,0]
[]
[null,65.8,1,"Мамедов Руслан",null,null,null,null,null,null,null,null,null,null,null,null,"1996-11-02",0,"Мамедов Р.А.,Хабибулаев А.Р.",null,null,null,null,null,"Скорпион (г. Лангепас)",null,null,null,null,null,null,null,null,null,null,null,null,null,null,0]
[null,null,4,"Дадаев Мансур",null,null,null,null,null,null,null,null,null,null,null,null,"1999-01-17","КМС","Бывалин Е.С.",null,null,null,null,null,"г. Ханты-Мансийск",null,null,null,null,null,null,null,null,null,null,null,null,null,null,0]
[]
[null,70.3,1,"Хабибулаев Алибек",null,null,null,null,null,null,null,null,null,null,null,null,"1986-11-14","МС","Мамедов Р.А.,Хабибулаев А.Р.",null,null,null,null,null,"Скорпион (г. Лангепас)",null,null,null,null,null,null,null,null,null,null,null,null,null,null,0]
[null,null,6,"Наврузалиев Камиль",null,null,null,null,null,null,null,null,null,null,null,null,"1995-11-30","КМС","Дибиров М.М.",null,null,null,null,null,"г. Сургут",null,null,null,null,null,null,null,null,null,null,null,null,null,null,0]
[]
[null,77.099999999999994,5,"Шапиев Абдулталип",null,null,null,null,null,null,null,null,null,null,null,null,"1996-05-10",0,"Мамедов Р.А.,Хабибулаев А.Р.",null,null,null,null,null,"Скорпион (г. Лангепас)",null,null,null,null,null,null,null,null,null,null,null,null,null,null,0]
[null,null,2,"Тарикулиев Заур",null,null,null,null,null,null,null,null,null,null,null,null,"1991-06-03","МС","Сиражудинов Р.С.",null,null,null,null,null,"СДЮСШОР \"СПАРТАК\" (г.Нефтеюганск)",null,null,null,null,null,null,null,null,null,null,null,null,null,null,0]
[]
[null,84,3,"Мамедов Нариман",null,null,null,null,null,null,null,null,null,null,null,null,"1998-06-05",0,"Сиражудинов Р.С.",null,null,null,null,null,"СДЮСШОР \"СПАРТАК\" (г.Нефтеюганск)",null,null,null,null,null,null,null,null,null,null,null,null,null,null,0]
[null,null,2,"Хатков Станислав",null,null,null,null,null,null,null,null,null,null,null,null,"1998-02-27","КМС","Кучкин А.В.",null,null,null,null,null,"г. Сургут",null,null,null,null,null,null,null,null,null,null,null,null,null,null,0]
[]
[null,93,1,"Расулов Абдуллатип",null,null,null,null,null,null,null,null,null,null,null,null,"1997-09-18",0,"Мамедов Р.А.,Хабибулаев А.Р.",null,null,null,null,null,"Скорпион (г. Лангепас)",null,null,null,null,null,null,null,null,null,null,null,null,null,null,0]
[null,null,2,"Хебдеев Гаджимурад",null,null,null,null,null,null,null,null,null,null,null,null,"1992-05-01",0,"Сиражудинов Р.С.",null,null,null,null,null,"СДЮСШОР \"СПАРТАК\" (г.Нефтеюганск)",null,null,null,null,null,null,null,null,null,null,null,null,null,null,0]
[]
[null,"93+",3,"Паутов Константин",null,null,null,null,null,null,null,null,null,null,null,null,"1985-09-06",0,"Бывалин Е.С.",null,null,null,null,null,"г. Ханты-Мансийск",null,null,null,null,null,null,null,null,null,null,null,null,null,null,0]
[null,null,1,"Ашурбеков Рустам",null,null,null,null,null,null,null,null,null,null,null,null,"1998-11-30","КМС","Дибиров М.М.",null,null,null,null,null,"г. Сургут",null,null,null,null,null,null,null,null,null,null,null,null,null,null,0]
[]
[]
[]
[]
[]
[]
[]
[]
[]
[]
[null,null,null,null,null,null,null,null,null,null,null,null,null,null,null,null,null,null,"Главный судья соревнований",null,null,null,null,null,null,null,null,null,null,null,null,null,null,null,null,"/","Карташков К.В.",null,null,null,null,null,null,null,null,"/"]
[]
[]
[]
[]
[]
[]
[]
[null,null,null,null,null,null,null,null,null,null,null,null,null,null,null,null,null,null,"Главный секретарь",null,null,null,null,null,null,null,null,null,null,null,null,null,null,null,null,"/","Толстыгин А.Ю.",null,null,null,null,null,null,null,null,"/"]

{"sheet":"Сетка32 Принцип жеребъёки","index":51,"n_rows":105,"n_cols":38,"rows_kept":105,"cut":false,"hidden":true,"merged":[[1,2,1,36],[3,5,3,33],[3,36,4,36],[5,22,5,24],[8,6,8,7],[8,9,8,10],[8,12,8,13],[8,15,8,16],[8,21,8,22],[8,24,8,25],[8,27,8,28],[8,30,8,31],[10,6,11,7],[10,30,11,31],[13,9,14,10],[13,27,14,28],[16,6,17,7],[16,30,17,31],[19,12,20,13],[19,24,20,25],[22,6,23,7],[22,30,23,31],[34,30,35,31],[35,16,35,21],[25,9,26,10],[25,27,26,28],[28,6,29,7],[28,17,28,20],[28,30,29,31],[29,16,30,21],[31,15,32,16],[31,18,32,19],[31,21,32,22],[34,6,35,7],[34,16,34,21],[37,9,38,10],[37,27,38,28],[40,6,41,7],[40,30,41,31],[43,12,44,13],[43,24,44,25],[46,6,47,7],[46,30,47,31],[49,9,50,10],[49,27,50,28],[52,6,53,7],[52,30,53,31],[67,3,67,4],[55,6,55,7],[55,9,55,10],[55,12,55,13],[55,15,55,16],[55,27,55,28],[55,30,55,31],[57,20,57,21],[61,3,61,4],[64,3,64,4],[55,21,55,22],[55,24,55,25],[85,3,85,4],[68,3,68,4],[73,3,73,4],[74,3,74,4],[75,3,75,4],[76,3,76,4],[79,3,79,4],[80,3,80,4],[81,3,81,4],[82,3,82,4],[83,3,83,4],[84,3,84,4],[99,3,99,4],[86,3,86,4],[89,3,89,4],[90,3,90,4],[91,3,91,4],[92,3,92,4],[93,3,93,4],[94,3,94,4],[95,3,95,4],[96,3,96,4],[97,3,97,4],[98,3,98,4],[100,3,100,4],[101,3,101,4],[102,3,102,4],[103,3,103,4],[104,3,104,4]]}
[]
[null,null,{"$f":"'Исходные данные по чемпионату'!C3","v":"Чемпионат ХМАО-Югры по СБЕ (ММА) среди муж. 18лет и старше,первенство среди юношей 16-17лет"}]
[]
[null,null,null,null,null,"ПРОТОКОЛ СОРЕВНОВАНИЙ",null,null,null,null,null,null,null,null,null,null,null,null,null,null,null,null,null,null,null,null,null,null,null,null,null,null,null,null,null,null,{"$f":"'Исходные данные по чемпионату'!C6","v":"г. Ханты-Мансийск"}]
[]
[null,null,null,null,null,null,null,null,null,null,null,null,null,null,null,null,null,null,null,null,null,"Весовая категория до","84",null,null,"кг",null,null,null,null,null,null,null,null,null,null,{"$f":"'Исходные данные по чемпионату'!C4","v":"с16 по 19 февраля 2018г."}]
[]
[]
[null,"№","Спортсмен","Шлем","Регион",null,"1/8",null,null,"1/4",null,null,"1/2",null,null,"Финал",null,null,null,null,null,"Финал",null,null,"1/2",null,null,"1/4",null,null,"1/8",null,null,"№","Спортсмен","Шлем","Регион"]
[]
[null,1,{"$f":"IFERROR(VLOOKUP(CONCATENATE(B11,\" вес \",$W$6),'Участники чемпионата'!$A:$AA,13,0),\"\")","v":"Багаутдинов Гамзатда"},{"$f":"IF(IFERROR(VLOOKUP(CONCATENATE(B11,\" вес \",$W$6),'Участники чемпионата'!$A:$AA,25,0),\"\")=\"Шлем\",\"Ш\",\"\")","v":""},{"$f":"IFERROR(VLOOKUP(CONCATENATE(B11,\" вес \",$W$6),'Участники чемпионата'!$A:$AA,5,0),\"\")","v":"г. Нижневартовск"},null,"1",null,{"$f":"IFERROR(VLOOKUP(CONCATENATE(G11,\" вес \",$W$6),'Участники чемпионата'!$A:$AA,7,0),\"\")","v":"Багаутдинов"},null,null,null,null,null,null,null,null,null,null,null,null,null,null,null,null,null,null,null,null,{"$f":"IFERROR(VLOOKUP(CONCATENATE(AE11,\" вес \",$W$6),'Участники чемпионата'!$A:$AA,7,0),\"\")","v":"Мамедов"},"3",null,null,3,{"$f":"IFERROR(VLOOKUP(CONCATENATE(AH11,\" вес \",$W$6),'Участники чемпионата'!$A:$AA,13,0),\"\")","v":"Мамедов Нариман"},{"$f":"IF(IFERROR(VLOOKUP(CONCATENATE(AH11,\" вес \",$W$6),'Участники чемпионата'!$A:$AA,25,0),\"\")=\"Шлем\",\"Ш\",\"\")","v":"Ш"},{"$f":"IFERROR(VLOOKUP(CONCATENATE(AH11,\" вес \",$W$6),'Участники чемпионата'!$A:$AA,5,0),\"\")","v":"СДЮСШОР \"СПАРТАК\" (г.Нефтеюганск)"}]
[null,32,{"$f":"IFERROR(VLOOKUP(CONCATENATE(B12,\" вес \",$W$6),'Участники чемпионата'!$A:$AA,13,0),\"\")","v":""},{"$f":"IF(IFERROR(VLOOKUP(CONCATENATE(B12,\" вес \",$W$6),'Участники чемпионата'!$A:$AA,25,0),\"\")=\"Шлем\",\"Ш\",\"\")","v":""},{"$f":"IFERROR(VLOOKUP(CONCATENATE(B12,\" вес \",$W$6),'Участники чемпионата'!$A:$AA,5,0),\"\")","v":""},null,null,null,null,null,null,null,null,null,null,null,null,null,null,null,null,null,null,null,null,null,null,null,null,null,null,null,null,30,{"$f":"IFERROR(VLOOKUP(CONCATENATE(AH12,\" вес \",$W$6),'Участники чемпионата'!$A:$AA,13,0),\"\")","v":""},{"$f":"IF(IFERROR(VLOOKUP(CONCATENATE(AH12,\" вес \",$W$6),'Участники чемпионата'!$A:$AA,25,0),\"\")=\"Шлем\",\"Ш\",\"\")","v":""},{"$f":"IFERROR(VLOOKUP(CONCATENATE(AH12,\" вес \",$W$6),'Участники чемпионата'!$A:$AA,5,0),\"\")","v":""}]
[]
[null,null,null,null,null,null,null,null,null,"1",null,{"$f":"IFERROR(VLOOKUP(CONCATENATE(J14,\" вес \",$W$6),'Участники чемпионата'!$A:$AA,7,0),\"\")","v":"Багаутдинов"},null,null,null,null,null,null,null,null,null,null,null,null,null,null,{"$f":"IFERROR(VLOOKUP(CONCATENATE(AB14,\" вес \",$W$6),'Участники чемпионата'!$A:$AA,7,0),\"\")","v":"Хатков"},"2"]
[]
[]
[null,9,{"$f":"IFERROR(VLOOKUP(CONCATENATE(B17,\" вес \",$W$6),'Участники чемпионата'!$A:$AA,13,0),\"\")","v":""},{"$f":"IF(IFERROR(VLOOKUP(CONCATENATE(B17,\" вес \",$W$6),'Участники чемпионата'!$A:$AA,25,0),\"\")=\"Шлем\",\"Ш\",\"\")","v":""},{"$f":"IFERROR(VLOOKUP(CONCATENATE(B17,\" вес \",$W$6),'Участники чемпионата'!$A:$AA,5,0),\"\")","v":""},null,"1",null,null,null,null,null,null,null,null,null,null,null,null,null,null,null,null,null,null,null,null,null,null,null,"2",null,null,11,{"$f":"IFERROR(VLOOKUP(CONCATENATE(AH17,\" вес \",$W$6),'Участники чемпионата'!$A:$AA,13,0),\"\")","v":""},{"$f":"IF(IFERROR(VLOOKUP(CONCATENATE(AH17,\" вес \",$W$6),'Участники чемпионата'!$A:$AA,25,0),\"\")=\"Шлем\",\"Ш\",\"\")","v":""},{"$f":"IFERROR(VLOOKUP(CONCATENATE(AH17,\" вес \",$W$6),'Участники чемпионата'!$A:$AA,5,0),\"\")","v":""}]
[null,24,{"$f":"IFERROR(VLOOKUP(CONCATENATE(B18,\" вес \",$W$6),'Участники чемпионата'!$A:$AA,13,0),\"\")","v":""},{"$f":"IF(IFERROR(VLOOKUP(CONCATENATE(B18,\" вес \",$W$6),'Участники чемпионата'!$A:$AA,25,0),\"\")=\"Шлем\",\"Ш\",\"\")","v":""},{"$f":"IFERROR(VLOOKUP(CONCATENATE(B18,\" вес \",$W$6),'Участники чемпионата'!$A:$AA,5,0),\"\")","v":""},null,null,null,{"$f":"IFERROR(VLOOKUP(CONCATENATE(G17,\" вес \",$W$6),'Участники чемпионата'!$A:$AA,7,0),\"\")","v":"Багаутдинов"},null,null,null,null,null,null,null,null,null,null,null,null,null,null,null,null,null,null,null,null,{"$f":"IFERROR(VLOOKUP(CONCATENATE(AE17,\" вес \",$W$6),'Участники чемпионата'!$A:$AA,7,0),\"\")","v":"Хатков"},null,null,null,22,{"$f":"IFERROR(VLOOKUP(CONCATENATE(AH18,\" вес \",$W$6),'Участники чемпионата'!$A:$AA,13,0),\"\")","v":""},{"$f":"IF(IFERROR(VLOOKUP(CONCATENATE(AH18,\" вес \",$W$6),'Участники чемпионата'!$A:$AA,25,0),\"\")=\"Шлем\",\"Ш\",\"\")","v":""},{"$f":"IFERROR(VLOOKUP(CONCATENATE(AH18,\" вес \",$W$6),'Участники чемпионата'!$A:$AA,5,0),\"\")","v":""}]
[]
[null,null,null,null,null,null,null,null,null,null,null,null,"1",null,{"$f":"IFERROR(VLOOKUP(CONCATENATE(M20,\" вес \",$W$6),'Участники чемпионата'!$A:$AA,7,0),\"\")","v":"Багаутдинов"},null,null,null,null,null,null,null,null,{"$f":"IFERROR(VLOOKUP(CONCATENATE(Y20,\" вес \",$W$6),'Участники чемпионата'!$A:$AA,7,0),\"\")","v":"Хатков"},"2"]
[]
[]
[null,13,{"$f":"IFERROR(VLOOKUP(CONCATENATE(B23,\" вес \",$W$6),'Участники чемпионата'!$A:$AA,13,0),\"\")","v":""},{"$f":"IF(IFERROR(VLOOKUP(CONCATENATE(B23,\" вес \",$W$6),'Участники чемпионата'!$A:$AA,25,0),\"\")=\"Шлем\",\"Ш\",\"\")","v":""},{"$f":"IFERROR(VLOOKUP(CONCATENATE(B23,\" вес \",$W$6),'Участники чемпионата'!$A:$AA,5,0),\"\")","v":""},null,"1",null,{"$f":"IFERROR(VLOOKUP(CONCATENATE(G23,\" вес \",$W$6),'Участники чемпионата'!$A:$AA,7,0),\"\")","v":"Багаутдинов"},null,null,null,null,null,null,null,null,null,null,null,null,null,null,null,null,null,null,null,null,{"$f":"IFERROR(VLOOKUP(CONCATENATE(AE23,\" вес \",$W$6),'Участники чемпионата'!$A:$AA,7,0),\"\")","v":"Мамедов"},"3",null,null,14,{"$f":"IFERROR(VLOOKUP(CONCATENATE(AH23,\" вес \",$W$6),'Участники чемпионата'!$A:$AA,13,0),\"\")","v":""},{"$f":"IF(IFERROR(VLOOKUP(CONCATENATE(AH23,\" вес \",$W$6),'Участники чемпионата'!$A:$AA,25,0),\"\")=\"Шлем\",\"Ш\",\"\")","v":""},{"$f":"IFERROR(VLOOKUP(CONCATENATE(AH23,\" вес \",$W$6),'Участники чемпионата'!$A:$AA,5,0),\"\")","v":""}]
[null,17,{"$f":"IFERROR(VLOOKUP(CONCATENATE(B24,\" вес \",$W$6),'Участники чемпионата'!$A:$AA,13,0),\"\")","v":""},{"$f":"IF(IFERROR(VLOOKUP(CONCATENATE(B24,\" вес \",$W$6),'Участники чемпионата'!$A:$AA,25,0),\"\")=\"Шлем\",\"Ш\",\"\")","v":""},{"$f":"IFERROR(VLOOKUP(CONCATENATE(B24,\" вес \",$W$6),'Участники чемпионата'!$A:$AA,5,0),\"\")","v":""},null,null,null,null,null,null,null,null,null,null,null,null,null,null,null,null,null,null,null,null,null,null,null,null,null,null,null,null,18,{"$f":"IFERROR(VLOOKUP(CONCATENATE(AH24,\" вес \",$W$6),'Участники чемпионата'!$A:$AA,13,0),\"\")","v":""},{"$f":"IF(IFERROR(VLOOKUP(CONCATENATE(AH24,\" вес \",$W$6),'Участники чемпионата'!$A:$AA,25,0),\"\")=\"Шлем\",\"Ш\",\"\")","v":""},{"$f":"IFERROR(VLOOKUP(CONCATENATE(AH24,\" вес \",$W$6),'Участники чемпионата'!$A:$AA,5,0),\"\")","v":""}]
[]
[null,null,null,null,null,null,null,null,null,"1",null,null,null,null,null,null,null,null,null,null,null,null,null,null,null,null,null,"2"]
[null,null,null,null,null,null,null,null,null,null,null,{"$f":"IFERROR(VLOOKUP(CONCATENATE(J26,\" вес \",$W$6),'Участники чемпионата'!$A:$AA,7,0),\"\")","v":"Багаутдинов"},null,null,null,null,null,null,null,null,null,null,null,null,null,null,{"$f":"IFERROR(VLOOKUP(CONCATENATE(AB26,\" вес \",$W$6),'Участники чемпионата'!$A:$AA,7,0),\"\")","v":"Хатков"}]
[]
[null,7,{"$f":"IFERROR(VLOOKUP(CONCATENATE(B29,\" вес \",$W$6),'Участники чемпионата'!$A:$AA,13,0),\"\")","v":""},{"$f":"IF(IFERROR(VLOOKUP(CONCATENATE(B29,\" вес \",$W$6),'Участники чемпионата'!$A:$AA,25,0),\"\")=\"Шлем\",\"Ш\",\"\")","v":""},{"$f":"IFERROR(VLOOKUP(CONCATENATE(B29,\" вес \",$W$6),'Участники чемпионата'!$A:$AA,5,0),\"\")","v":""},null,"1",null,null,null,null,null,null,null,null,null,null,"Чемпион",null,null,null,null,null,null,null,null,null,null,null,null,"2",null,null,6,{"$f":"IFERROR(VLOOKUP(CONCATENATE(AH29,\" вес \",$W$6),'Участники чемпионата'!$A:$AA,13,0),\"\")","v":""},{"$f":"IF(IFERROR(VLOOKUP(CONCATENATE(AH29,\" вес \",$W$6),'Участники чемпионата'!$A:$AA,25,0),\"\")=\"Шлем\",\"Ш\",\"\")","v":""},{"$f":"IFERROR(VLOOKUP(CONCATENATE(AH29,\" вес \",$W$6),'Участники чемпионата'!$A:$AA,5,0),\"\")","v":""}]
[null,26,{"$f":"IFERROR(VLOOKUP(CONCATENATE(B30,\" вес \",$W$6),'Участники чемпионата'!$A:$AA,13,0),\"\")","v":""},{"$f":"IF(IFERROR(VLOOKUP(CONCATENATE(B30,\" вес \",$W$6),'Участники чемпионата'!$A:$AA,25,0),\"\")=\"Шлем\",\"Ш\",\"\")","v":""},{"$f":"IFERROR(VLOOKUP(CONCATENATE(B30,\" вес \",$W$6),'Участники чемпионата'!$A:$AA,5,0),\"\")","v":""},null,null,null,{"$f":"IFERROR(VLOOKUP(CONCATENATE(G29,\" вес \",$W$6),'Участники чемпионата'!$A:$AA,7,0),\"\")","v":"Багаутдинов"},null,null,null,null,null,null,null,{"$f":"IFERROR(VLOOKUP(CONCATENATE(S32,\" вес \",$W$6),'Участники чемпионата'!$A:$AA,7,0),\"\")","v":"Багаутдинов"},null,null,null,null,null,null,null,null,null,null,null,null,{"$f":"IFERROR(VLOOKUP(CONCATENATE(AE29,\" вес \",$W$6),'Участники чемпионата'!$A:$AA,7,0),\"\")","v":"Хатков"},null,null,null,27,{"$f":"IFERROR(VLOOKUP(CONCATENATE(AH30,\" вес \",$W$6),'Участники чемпионата'!$A:$AA,13,0),\"\")","v":""},{"$f":"IF(IFERROR(VLOOKUP(CONCATENATE(AH30,\" вес \",$W$6),'Участники чемпионата'!$A:$AA,25,0),\"\")=\"Шлем\",\"Ш\",\"\")","v":""},{"$f":"IFERROR(VLOOKUP(CONCATENATE(AH30,\" вес \",$W$6),'Участники чемпионата'!$A:$AA,5,0),\"\")","v":""}]
[]
[null,null,null,null,null,null,null,null,null,null,null,null,null,null,{"$f":"IFERROR(VLOOKUP(CONCATENATE(P32,\" вес \",$W$6),'Участники чемпионата'!$A:$AA,7,0),\"\")","v":"Багаутдинов"},"1",null,null,"1",null,null,"2",null,{"$f":"IFERROR(VLOOKUP(CONCATENATE(V32,\" вес \",$W$6),'Участники чемпионата'!$A:$AA,7,0),\"\")","v":"Хатков"}]
[]
[]
[null,5,{"$f":"IFERROR(VLOOKUP(CONCATENATE(B35,\" вес \",$W$6),'Участники чемпионата'!$A:$AA,13,0),\"\")","v":""},{"$f":"IF(IFERROR(VLOOKUP(CONCATENATE(B35,\" вес \",$W$6),'Участники чемпионата'!$A:$AA,25,0),\"\")=\"Шлем\",\"Ш\",\"\")","v":""},{"$f":"IFERROR(VLOOKUP(CONCATENATE(B35,\" вес \",$W$6),'Участники чемпионата'!$A:$AA,5,0),\"\")","v":""},null,"2",null,{"$f":"IFERROR(VLOOKUP(CONCATENATE(G35,\" вес \",$W$6),'Участники чемпионата'!$A:$AA,7,0),\"\")","v":"Хатков"},null,null,null,null,null,null,null,null,null,null,null,null,null,null,null,null,null,null,null,null,{"$f":"IFERROR(VLOOKUP(CONCATENATE(AE35,\" вес \",$W$6),'Участники чемпионата'!$A:$AA,7,0),\"\")","v":"Мамедов"},"3",null,null,8,{"$f":"IFERROR(VLOOKUP(CONCATENATE(AH35,\" вес \",$W$6),'Участники чемпионата'!$A:$AA,13,0),\"\")","v":""},{"$f":"IF(IFERROR(VLOOKUP(CONCATENATE(AH35,\" вес \",$W$6),'Участники чемпионата'!$A:$AA,25,0),\"\")=\"Шлем\",\"Ш\",\"\")","v":""},{"$f":"IFERROR(VLOOKUP(CONCATENATE(AH35,\" вес \",$W$6),'Участники чемпионата'!$A:$AA,5,0),\"\")","v":""}]
[null,28,{"$f":"IFERROR(VLOOKUP(CONCATENATE(B36,\" вес \",$W$6),'Участники чемпионата'!$A:$AA,13,0),\"\")","v":""},{"$f":"IF(IFERROR(VLOOKUP(CONCATENATE(B36,\" вес \",$W$6),'Участники чемпионата'!$A:$AA,25,0),\"\")=\"Шлем\",\"Ш\",\"\")","v":""},{"$f":"IFERROR(VLOOKUP(CONCATENATE(B36,\" вес \",$W$6),'Участники чемпионата'!$A:$AA,5,0),\"\")","v":""},null,null,null,null,null,null,null,null,null,null,null,null,null,null,null,null,null,null,null,null,null,null,null,null,null,null,null,null,25,{"$f":"IFERROR(VLOOKUP(CONCATENATE(AH36,\" вес \",$W$6),'Участники чемпионата'!$A:$AA,13,0),\"\")","v":""},{"$f":"IF(IFERROR(VLOOKUP(CONCATENATE(AH36,\" вес \",$W$6),'Участники чемпионата'!$A:$AA,25,0),\"\")=\"Шлем\",\"Ш\",\"\")","v":""},{"$f":"IFERROR(VLOOKUP(CONCATENATE(AH36,\" вес \",$W$6),'Участники чемпионата'!$A:$AA,5,0),\"\")","v":""}]
[]
[null,null,null,null,null,null,null,null,null,"2",null,{"$f":"IFERROR(VLOOKUP(CONCATENATE(J38,\" вес \",$W$6),'Участники чемпионата'!$A:$AA,7,0),\"\")","v":"Хатков"},null,null,null,null,null,null,null,null,null,null,null,null,null,null,{"$f":"IFERROR(VLOOKUP(CONCATENATE(AB38,\" вес \",$W$6),'Участники чемпионата'!$A:$AA,7,0),\"\")","v":"Хатков"},"2"]
[]
[]
[null,15,{"$f":"IFERROR(VLOOKUP(CONCATENATE(B41,\" вес \",$W$6),'Участники чемпионата'!$A:$AA,13,0),\"\")","v":""},{"$f":"IF(IFERROR(VLOOKUP(CONCATENATE(B41,\" вес \",$W$6),'Участники чемпионата'!$A:$AA,25,0),\"\")=\"Шлем\",\"Ш\",\"\")","v":""},{"$f":"IFERROR(VLOOKUP(CONCATENATE(B41,\" вес \",$W$6),'Участники чемпионата'!$A:$AA,5,0),\"\")","v":""},null,"2",null,null,null,null,null,null,null,null,null,null,null,null,null,null,null,null,null,null,null,null,null,null,null,"2",null,null,16,{"$f":"IFERROR(VLOOKUP(CONCATENATE(AH41,\" вес \",$W$6),'Участники чемпионата'!$A:$AA,13,0),\"\")","v":""},{"$f":"IF(IFERROR(VLOOKUP(CONCATENATE(AH41,\" вес \",$W$6),'Участники чемпионата'!$A:$AA,25,0),\"\")=\"Шлем\",\"Ш\",\"\")","v":""},{"$f":"IFERROR(VLOOKUP(CONCATENATE(AH41,\" вес \",$W$6),'Участники чемпионата'!$A:$AA,5,0),\"\")","v":""}]
[null,19,{"$f":"IFERROR(VLOOKUP(CONCATENATE(B42,\" вес \",$W$6),'Участники чемпионата'!$A:$AA,13,0),\"\")","v":""},{"$f":"IF(IFERROR(VLOOKUP(CONCATENATE(B42,\" вес \",$W$6),'Участники чемпионата'!$A:$AA,25,0),\"\")=\"Шлем\",\"Ш\",\"\")","v":""},{"$f":"IFERROR(VLOOKUP(CONCATENATE(B42,\" вес \",$W$6),'Участники чемпионата'!$A:$AA,5,0),\"\")","v":""},null,null,null,{"$f":"IFERROR(VLOOKUP(CONCATENATE(G41,\" вес \",$W$6),'Участники чемпионата'!$A:$AA,7,0),\"\")","v":"Хатков"},null,null,null,null,null,null,null,null,null,null,null,null,null,null,null,null,null,null,null,null,{"$f":"IFERROR(VLOOKUP(CONCATENATE(AE41,\" вес \",$W$6),'Участники чемпионата'!$A:$AA,7,0),\"\")","v":"Хатков"},null,null,null,20,{"$f":"IFERROR(VLOOKUP(CONCATENATE(AH42,\" вес \",$W$6),'Участники чемпионата'!$A:$AA,13,0),\"\")","v":""},{"$f":"IF(IFERROR(VLOOKUP(CONCATENATE(AH42,\" вес \",$W$6),'Участники чемпионата'!$A:$AA,25,0),\"\")=\"Шлем\",\"Ш\",\"\")","v":""},{"$f":"IFERROR(VLOOKUP(CONCATENATE(AH42,\" вес \",$W$6),'Участники чемпионата'!$A:$AA,5,0),\"\")","v":""}]
[]
[null,null,null,null,null,null,null,null,null,null,null,null,"3",null,null,null,null,null,null,null,null,null,null,null,"2"]
[null,null,null,null,null,null,null,null,null,null,null,null,null,null,{"$f":"IFERROR(VLOOKUP(CONCATENATE(M44,\" вес \",$W$6),'Участники чемпионата'!$A:$AA,7,0),\"\")","v":"Мамедов"},null,null,null,null,null,null,null,null,{"$f":"IFERROR(VLOOKUP(CONCATENATE(Y44,\" вес \",$W$6),'Участники чемпионата'!$A:$AA,7,0),\"\")","v":"Хатков"}]
[]
[null,12,{"$f":"IFERROR(VLOOKUP(CONCATENATE(B47,\" вес \",$W$6),'Участники чемпионата'!$A:$AA,13,0),\"\")","v":""},{"$f":"IF(IFERROR(VLOOKUP(CONCATENATE(B47,\" вес \",$W$6),'Участники чемпионата'!$A:$AA,25,0),\"\")=\"Шлем\",\"Ш\",\"\")","v":""},{"$f":"IFERROR(VLOOKUP(CONCATENATE(B47,\" вес \",$W$6),'Участники чемпионата'!$A:$AA,5,0),\"\")","v":""},null,"3",null,{"$f":"IFERROR(VLOOKUP(CONCATENATE(G47,\" вес \",$W$6),'Участники чемпионата'!$A:$AA,7,0),\"\")","v":"Мамедов"},null,null,null,null,null,null,null,null,null,null,null,null,null,null,null,null,null,null,null,null,{"$f":"IFERROR(VLOOKUP(CONCATENATE(AE47,\" вес \",$W$6),'Участники чемпионата'!$A:$AA,7,0),\"\")","v":"Мамедов"},"3",null,null,10,{"$f":"IFERROR(VLOOKUP(CONCATENATE(AH47,\" вес \",$W$6),'Участники чемпионата'!$A:$AA,13,0),\"\")","v":""},{"$f":"IF(IFERROR(VLOOKUP(CONCATENATE(AH47,\" вес \",$W$6),'Участники чемпионата'!$A:$AA,25,0),\"\")=\"Шлем\",\"Ш\",\"\")","v":""},{"$f":"IFERROR(VLOOKUP(CONCATENATE(AH47,\" вес \",$W$6),'Участники чемпионата'!$A:$AA,5,0),\"\")","v":""}]
[null,21,{"$f":"IFERROR(VLOOKUP(CONCATENATE(B48,\" вес \",$W$6),'Участники чемпионата'!$A:$AA,13,0),\"\")","v":""},{"$f":"IF(IFERROR(VLOOKUP(CONCATENATE(B48,\" вес \",$W$6),'Участники чемпионата'!$A:$AA,25,0),\"\")=\"Шлем\",\"Ш\",\"\")","v":""},{"$f":"IFERROR(VLOOKUP(CONCATENATE(B48,\" вес \",$W$6),'Участники чемпионата'!$A:$AA,5,0),\"\")","v":""},null,null,null,null,null,null,null,null,null,null,null,null,null,null,null,null,null,null,null,null,null,null,null,null,null,null,null,null,23,{"$f":"IFERROR(VLOOKUP(CONCATENATE(AH48,\" вес \",$W$6),'Участники чемпионата'!$A:$AA,13,0),\"\")","v":""},{"$f":"IF(IFERROR(VLOOKUP(CONCATENATE(AH48,\" вес \",$W$6),'Участники чемпионата'!$A:$AA,25,0),\"\")=\"Шлем\",\"Ш\",\"\")","v":""},{"$f":"IFERROR(VLOOKUP(CONCATENATE(AH48,\" вес \",$W$6),'Участники чемпионата'!$A:$AA,5,0),\"\")","v":""}]
[]
[null,null,null,null,null,null,null,null,null,"3",null,null,null,null,null,null,null,null,null,null,null,null,null,null,null,null,null,"2"]
[null,null,null,null,null,null,null,null,null,null,null,{"$f":"IFERROR(VLOOKUP(CONCATENATE(J50,\" вес \",$W$6),'Участники чемпионата'!$A:$AA,7,0),\"\")","v":"Мамедов"},null,null,null,null,null,null,null,null,null,null,null,null,null,null,{"$f":"IFERROR(VLOOKUP(CONCATENATE(AB50,\" вес \",$W$6),'Участники чемпионата'!$A:$AA,7,0),\"\")","v":"Хатков"}]
[]
[null,4,{"$f":"IFERROR(VLOOKUP(CONCATENATE(B53,\" вес \",$W$6),'Участники чемпионата'!$A:$AA,13,0),\"\")","v":"Солтанов Нариман"},{"$f":"IF(IFERROR(VLOOKUP(CONCATENATE(B53,\" вес \",$W$6),'Участники чемпионата'!$A:$AA,25,0),\"\")=\"Шлем\",\"Ш\",\"\")","v":""},{"$f":"IFERROR(VLOOKUP(CONCATENATE(B53,\" вес \",$W$6),'Участники чемпионата'!$A:$AA,5,0),\"\")","v":"СДЮСШОР \"СПАРТАК\" (г.Нефтеюганск)"},null,"3",null,null,null,null,null,null,null,null,null,null,null,null,null,null,null,null,null,null,null,null,null,null,null,"2",null,null,2,{"$f":"IFERROR(VLOOKUP(CONCATENATE(AH53,\" вес \",$W$6),'Участники чемпионата'!$A:$AA,13,0),\"\")","v":"Хатков Станислав"},{"$f":"IF(IFERROR(VLOOKUP(CONCATENATE(AH53,\" вес \",$W$6),'Участники чемпионата'!$A:$AA,25,0),\"\")=\"Шлем\",\"Ш\",\"\")","v":"Ш"},{"$f":"IFERROR(VLOOKUP(CONCATENATE(AH53,\" вес \",$W$6),'Участники чемпионата'!$A:$AA,5,0),\"\")","v":"г. Сургут"}]
[null,29,{"$f":"IFERROR(VLOOKUP(CONCATENATE(B54,\" вес \",$W$6),'Участники чемпионата'!$A:$AA,13,0),\"\")","v":""},{"$f":"IF(IFERROR(VLOOKUP(CONCATENATE(B54,\" вес \",$W$6),'Участники чемпионата'!$A:$AA,25,0),\"\")=\"Шлем\",\"Ш\",\"\")","v":""},{"$f":"IFERROR(VLOOKUP(CONCATENATE(B54,\" вес \",$W$6),'Участники чемпионата'!$A:$AA,5,0),\"\")","v":""},null,null,null,{"$f":"IFERROR(VLOOKUP(CONCATENATE(G53,\" вес \",$W$6),'Участники чемпионата'!$A:$AA,7,0),\"\")","v":"Мамедов"},null,null,null,null,null,null,null,null,null,null,null,null,null,null,null,null,null,null,null,null,{"$f":"IFERROR(VLOOKUP(CONCATENATE(AE53,\" вес \",$W$6),'Участники чемпионата'!$A:$AA,7,0),\"\")","v":"Хатков"},null,null,null,31,{"$f":"IFERROR(VLOOKUP(CONCATENATE(AH54,\" вес \",$W$6),'Участники чемпионата'!$A:$AA,13,0),\"\")","v":""},{"$f":"IF(IFERROR(VLOOKUP(CONCATENATE(AH54,\" вес \",$W$6),'Участники чемпионата'!$A:$AA,25,0),\"\")=\"Шлем\",\"Ш\",\"\")","v":""},{"$f":"IFERROR(VLOOKUP(CONCATENATE(AH54,\" вес \",$W$6),'Участники чемпионата'!$A:$AA,5,0),\"\")","v":""}]
[]
[null,null,null,null,null,null,"1/8",null,null,"1/4",null,null,"1/2",null,null,"Финал",null,null,null,null,null,"Финал",null,null,"1/2",null,null,"1/4",null,null,"1/8"]
[]
[null,null,null,null,null,null,null,null,null,null,null,null,null,null,null,null,null,null,null,"Участников:",{"$f":"HLOOKUP(W6,Мандатка!$C$4:$H$5,2,0)","v":4}]
[]
[]
[null,null,"1 место",null,null,null,null,null,null,null,null,null,null,null,null,null,null,null,null,null,null,null,null,null,null,null,null,null,null,null,null,null,null,"Главный судья соревнований",null,"/",{"$f":"IF(VLOOKUP(AH61,'Исходные данные по чемпионату'!B:C,2,0)=0,\"\",VLOOKUP(AH61,'Исходные данные по чемпионату'!B:C,2,0))","v":"Карташков К.В."},"/"]
[null,{"$f":"IF(S32=\"\",\"\",S32)","v":"1"},{"$f":"IF(B62=\"\",\"\",IFERROR(VLOOKUP(CONCATENATE(B62,\" вес \",$W$6),'Участники чемпионата'!$A:$AA,13,0),\"\"))","v":"Багаутдинов Гамзатда"},{"$f":"IF(B62=\"\",\"\",IFERROR(VLOOKUP(CONCATENATE(B62,\" вес \",$W$6),'Участники чемпионата'!$A:$AA,5,0),\"\"))","v":"г. Нижневартовск"}]
[]
[null,null,"2 место"]
[null,{"$f":"IF(S32=\"\",\"\",IF(S32=V32,P32,V32))","v":"2"},{"$f":"IF(B65=\"\",\"\",IFERROR(VLOOKUP(CONCATENATE(B65,\" вес \",$W$6),'Участники чемпионата'!$A:$AA,13,0),\"\"))","v":"Хатков Станислав"},{"$f":"IF(B65=\"\",\"\",IFERROR(VLOOKUP(CONCATENATE(B65,\" вес \",$W$6),'Участники чемпионата'!$A:$AA,5,0),\"\"))","v":"г. Сургут"},null,null,null,null,null,null,null,null,null,null,null,null,null,null,null,null,null,null,null,null,null,null,null,null,null,null,null,null,null,"Главный секретарь",null,"/",{"$f":"IF(VLOOKUP(AH65,'Исходные данные по чемпионату'!B:C,2,0)=0,\"\",VLOOKUP(AH65,'Исходные данные по чемпионату'!B:C,2,0))","v":"Толстыгин А.Ю."},"/"]
[]
[null,null,"3 место"]
[null,{"$f":"IF(G59=\"\",IF(P32=\"\",\"\",IF(P32=M44,M20,M44)),G59)","v":"3"},{"$f":"IF(B68=\"\",\"\",IFERROR(VLOOKUP(CONCATENATE(B68,\" вес \",$W$6),'Участники чемпионата'!$A:$AA,13,0),\"\"))","v":"Мамедов Нариман"},{"$f":"IF(B68=\"\",\"\",IFERROR(VLOOKUP(CONCATENATE(B68,\" вес \",$W$6),'Участники чемпионата'!$A:$AA,5,0),\"\"))","v":"СДЮСШОР \"СПАРТАК\" (г.Нефтеюганск)"}]
[null,{"$f":"IF(G59=\"\",IF(V32=\"\",\"\",IF(V32=Y44,Y20,Y44)),\"\")","v":"2"},{"$f":"IF(B69=\"\",\"\",IFERROR(VLOOKUP(CONCATENATE(B69,\" вес \",$W$6),'Участники чемпионата'!$A:$AA,13,0),\"\"))","v":"Хатков Станислав"},{"$f":"IF(B69=\"\",\"\",IFERROR(VLOOKUP(CONCATENATE(B69,\" вес \",$W$6),'Участники чемпионата'!$A:$AA,5,0),\"\"))","v":"г. Сургут"},null,null,null,null,null,null,null,null,null,null,null,null,null,null,null,null,null,null,null,null,null,null,null,null,null,null,null,null,null,"Руководитель ринга",null,"/",null,"/"]
[]
[]
[]
[null,null,"5-8 места"]
[null,{"$f":"IF(S32=\"\",\"\",IF(OR(J14-M20=0),J26,J14))","v":"1"},{"$f":"IF(B74=\"\",\"\",IFERROR(VLOOKUP(CONCATENATE(B74,\" вес \",$W$6),'Участники чемпионата'!$A:$AA,13,0),\"\"))","v":"Багаутдинов Гамзатда"},{"$f":"IF(B74=\"\",\"\",IFERROR(VLOOKUP(CONCATENATE(B74,\" вес \",$W$6),'Участники чемпионата'!$A:$AA,5,0),\"\"))","v":"г. Нижневартовск"}]
[null,{"$f":"IF(S32=\"\",\"\",IF(OR(J38-M44=0),J50,J38))","v":"2"},{"$f":"IF(B75=\"\",\"\",IFERROR(VLOOKUP(CONCATENATE(B75,\" вес \",$W$6),'Участники чемпионата'!$A:$AA,13,0),\"\"))","v":"Хатков Станислав"},{"$f":"IF(B75=\"\",\"\",IFERROR(VLOOKUP(CONCATENATE(B75,\" вес \",$W$6),'Участники чемпионата'!$A:$AA,5,0),\"\"))","v":"г. Сургут"}]
[null,{"$f":"IF(S32=\"\",\"\",IF(OR(AB14-Y20=0),AB26,AB14))","v":"2"},{"$f":"IF(B76=\"\",\"\",IFERROR(VLOOKUP(CONCATENATE(B76,\" вес \",$W$6),'Участники чемпионата'!$A:$AA,13,0),\"\"))","v":"Хатков Станислав"},{"$f":"IF(B76=\"\",\"\",IFERROR(VLOOKUP(CONCATENATE(B76,\" вес \",$W$6),'Участники чемпионата'!$A:$AA,5,0),\"\"))","v":"г. Сургут"}]
[null,{"$f":"IF(S32=\"\",\"\",IF(OR(AB38-Y44=0),AB50,AB38))","v":"2"},{"$f":"IF(B77=\"\",\"\",IFERROR(VLOOKUP(CONCATENATE(B77,\" вес \",$W$6),'Участники чемпионата'!$A:$AA,13,0),\"\"))","v":"Хатков Станислав"},{"$f":"IF(B77=\"\",\"\",IFERROR(VLOOKUP(CONCATENATE(B77,\" вес \",$W$6),'Участники чемпионата'!$A:$AA,5,0),\"\"))","v":"г. Сургут"}]
[]
[null,null,"9-16 места"]
[null,{"$f":"IF(S32=\"\",\"\",IF(OR(G11-J14=0),G17,G11))","v":"1"},{"$f":"IF(B80=\"\",\"\",IFERROR(VLOOKUP(CONCATENATE(B80,\" вес \",$W$6),'Участники чемпионата'!$A:$AA,13,0),\"\"))","v":"Багаутдинов Гамзатда"},{"$f":"IF(B80=\"\",\"\",IFERROR(VLOOKUP(CONCATENATE(B80,\" вес \",$W$6),'Участники чемпионата'!$A:$AA,5,0),\"\"))","v":"г. Нижневартовск"}]
[null,{"$f":"IF(S32=\"\",\"\",IF(OR(G23-J26=0),G29,G23))","v":"1"},{"$f":"IF(B81=\"\",\"\",IFERROR(VLOOKUP(CONCATENATE(B81,\" вес \",$W$6),'Участники чемпионата'!$A:$AA,13,0),\"\"))","v":"Багаутдинов Гамзатда"},{"$f":"IF(B81=\"\",\"\",IFERROR(VLOOKUP(CONCATENATE(B81,\" вес \",$W$6),'Участники чемпионата'!$A:$AA,5,0),\"\"))","v":"г. Нижневартовск"}]
[null,{"$f":"IF(S32=\"\",\"\",IF(OR(G35-J38=0),G41,G35))","v":"2"},{"$f":"IF(B82=\"\",\"\",IFERROR(VLOOKUP(CONCATENATE(B82,\" вес \",$W$6),'Участники чемпионата'!$A:$AA,13,0),\"\"))","v":"Хатков Станислав"},{"$f":"IF(B82=\"\",\"\",IFERROR(VLOOKUP(CONCATENATE(B82,\" вес \",$W$6),'Участники чемпионата'!$A:$AA,5,0),\"\"))","v":"г. Сургут"}]
[null,{"$f":"IF(S32=\"\",\"\",IF(OR(G47-J50=0),G53,G47))","v":"3"},{"$f":"IF(B83=\"\",\"\",IFERROR(VLOOKUP(CONCATENATE(B83,\" вес \",$W$6),'Участники чемпионата'!$A:$AA,13,0),\"\"))","v":"Мамедов Нариман"},{"$f":"IF(B83=\"\",\"\",IFERROR(VLOOKUP(CONCATENATE(B83,\" вес \",$W$6),'Участники чемпионата'!$A:$AA,5,0),\"\"))","v":"СДЮСШОР \"СПАРТАК\" (г.Нефтеюганск)"}]
[null,{"$f":"IF(S32=\"\",\"\",IF(OR(AE11-AB14=0),AE17,AE11))","v":"3"},{"$f":"IF(B84=\"\",\"\",IFERROR(VLOOKUP(CONCATENATE(B84,\" вес \",$W$6),'Участники чемпионата'!$A:$AA,13,0),\"\"))","v":"Мамедов Нариман"},{"$f":"IF(B84=\"\",\"\",IFERROR(VLOOKUP(CONCATENATE(B84,\" вес \",$W$6),'Участники чемпионата'!$A:$AA,5,0),\"\"))","v":"СДЮСШОР \"СПАРТАК\" (г.Нефтеюганск)"}]
[null,{"$f":"IF(S32=\"\",\"\",IF(OR(AE23-AB26=0),AE29,AE23))","v":"3"},{"$f":"IF(B85=\"\",\"\",IFERROR(VLOOKUP(CONCATENATE(B85,\" вес \",$W$6),'Участники чемпионата'!$A:$AA,13,0),\"\"))","v":"Мамедов Нариман"},{"$f":"IF(B85=\"\",\"\",IFERROR(VLOOKUP(CONCATENATE(B85,\" вес \",$W$6),'Участники чемпионата'!$A:$AA,5,0),\"\"))","v":"СДЮСШОР \"СПАРТАК\" (г.Нефтеюганск)"}]
[null,{"$f":"IF(S32=\"\",\"\",IF(OR(AE35-AB38=0),AE41,AE35))","v":"3"},{"$f":"IF(B86=\"\",\"\",IFERROR(VLOOKUP(CONCATENATE(B86,\" вес \",$W$6),'Участники чемпионата'!$A:$AA,13,0),\"\"))","v":"Мамедов Нариман"},{"$f":"IF(B86=\"\",\"\",IFERROR(VLOOKUP(CONCATENATE(B86,\" вес \",$W$6),'Участники чемпионата'!$A:$AA,5,0),\"\"))","v":"СДЮСШОР \"СПАРТАК\" (г.Нефтеюганск)"}]
[null,{"$f":"IF(S32=\"\",\"\",IF(OR(AE47-AB50=0),AE53,AE47))","v":"3"},{"$f":"IF(B87=\"\",\"\",IFERROR(VLOOKUP(CONCATENATE(B87,\" вес \",$W$6),'Участники чемпионата'!$A:$AA,13,0),\"\"))","v":"Мамедов Нариман"},{"$f":"IF(B87=\"\",\"\",IFERROR(VLOOKUP(CONCATENATE(B87,\" вес \",$W$6),'Участники чемпионата'!$A:$AA,5,0),\"\"))","v":"СДЮСШОР \"СПАРТАК\" (г.Нефтеюганск)"}]
[]
[null,null,"17-32 места"]
[null,{"$f":"IF(S32=\"\",\"\",IF(OR(B11-G11=0),B12,B11))","v":32},{"$f":"IF(B90=\"\",\"\",IFERROR(VLOOKUP(CONCATENATE(B90,\" вес \",$W$6),'Участники чемпионата'!$A:$AA,13,0),\"\"))","v":""},{"$f":"IF(B90=\"\",\"\",IFERROR(VLOOKUP(CONCATENATE(B90,\" вес \",$W$6),'Участники чемпионата'!$A:$AA,5,0),\"\"))","v":""}]
[null,{"$f":"IF(S32=\"\",\"\",IF(OR(B17-G17=0),B18,B17))","v":9},{"$f":"IF(B91=\"\",\"\",IFERROR(VLOOKUP(CONCATENATE(B91,\" вес \",$W$6),'Участники чемпионата'!$A:$AA,13,0),\"\"))","v":""},{"$f":"IF(B91=\"\",\"\",IFERROR(VLOOKUP(CONCATENATE(B91,\" вес \",$W$6),'Участники чемпионата'!$A:$AA,5,0),\"\"))","v":""}]
[null,{"$f":"IF(S32=\"\",\"\",IF(OR(B23-G23=0),B24,B23))","v":13},{"$f":"IF(B92=\"\",\"\",IFERROR(VLOOKUP(CONCATENATE(B92,\" вес \",$W$6),'Участники чемпионата'!$A:$AA,13,0),\"\"))","v":""},{"$f":"IF(B92=\"\",\"\",IFERROR(VLOOKUP(CONCATENATE(B92,\" вес \",$W$6),'Участники чемпионата'!$A:$AA,5,0),\"\"))","v":""}]
[null,{"$f":"IF(S32=\"\",\"\",IF(S32=\"\",\"\",IF(OR(B29-G29=0),B30,B29)))","v":7},{"$f":"IF(B93=\"\",\"\",IFERROR(VLOOKUP(CONCATENATE(B93,\" вес \",$W$6),'Участники чемпионата'!$A:$AA,13,0),\"\"))","v":""},{"$f":"IF(B93=\"\",\"\",IFERROR(VLOOKUP(CONCATENATE(B93,\" вес \",$W$6),'Участники чемпионата'!$A:$AA,5,0),\"\"))","v":""}]
[null,{"$f":"IF(S32=\"\",\"\",IF(OR(B35-G35=0),B36,B35))","v":5},{"$f":"IF(B94=\"\",\"\",IFERROR(VLOOKUP(CONCATENATE(B94,\" вес \",$W$6),'Участники чемпионата'!$A:$AA,13,0),\"\"))","v":""},{"$f":"IF(B94=\"\",\"\",IFERROR(VLOOKUP(CONCATENATE(B94,\" вес \",$W$6),'Участники чемпионата'!$A:$AA,5,0),\"\"))","v":""}]
[null,{"$f":"IF(S32=\"\",\"\",IF(OR(B41-G41=0),B42,B41))","v":15},{"$f":"IF(B95=\"\",\"\",IFERROR(VLOOKUP(CONCATENATE(B95,\" вес \",$W$6),'Участники чемпионата'!$A:$AA,13,0),\"\"))","v":""},{"$f":"IF(B95=\"\",\"\",IFERROR(VLOOKUP(CONCATENATE(B95,\" вес \",$W$6),'Участники чемпионата'!$A:$AA,5,0),\"\"))","v":""}]
[null,{"$f":"IF(S32=\"\",\"\",IF(OR(B47-G47=0),B48,B47))","v":12},{"$f":"IF(B96=\"\",\"\",IFERROR(VLOOKUP(CONCATENATE(B96,\" вес \",$W$6),'Участники чемпионата'!$A:$AA,13,0),\"\"))","v":""},{"$f":"IF(B96=\"\",\"\",IFERROR(VLOOKUP(CONCATENATE(B96,\" вес \",$W$6),'Участники чемпионата'!$A:$AA,5,0),\"\"))","v":""}]
[null,{"$f":"IF(S32=\"\",\"\",IF(OR(B53-G53=0),B54,B53))","v":4},{"$f":"IF(B97=\"\",\"\",IFERROR(VLOOKUP(CONCATENATE(B97,\" вес \",$W$6),'Участники чемпионата'!$A:$AA,13,0),\"\"))","v":"Солтанов Нариман"},{"$f":"IF(B97=\"\",\"\",IFERROR(VLOOKUP(CONCATENATE(B97,\" вес \",$W$6),'Участники чемпионата'!$A:$AA,5,0),\"\"))","v":"СДЮСШОР \"СПАРТАК\" (г.Нефтеюганск)"}]
[null,{"$f":"IF(S32=\"\",\"\",IF(OR(AH11-AE11=0),AH12,AH11))","v":30},{"$f":"IF(B98=\"\",\"\",IFERROR(VLOOKUP(CONCATENATE(B98,\" вес \",$W$6),'Участники чемпионата'!$A:$AA,13,0),\"\"))","v":""},{"$f":"IF(B98=\"\",\"\",IFERROR(VLOOKUP(CONCATENATE(B98,\" вес \",$W$6),'Участники чемпионата'!$A:$AA,5,0),\"\"))","v":""}]
[null,{"$f":"IF(S32=\"\",\"\",IF(OR(AH17-AE17=0),AH18,AH17))","v":11},{"$f":"IF(B99=\"\",\"\",IFERROR(VLOOKUP(CONCATENATE(B99,\" вес \",$W$6),'Участники чемпионата'!$A:$AA,13,0),\"\"))","v":""},{"$f":"IF(B99=\"\",\"\",IFERROR(VLOOKUP(CONCATENATE(B99,\" вес \",$W$6),'Участники чемпионата'!$A:$AA,5,0),\"\"))","v":""}]
[null,{"$f":"IF(S32=\"\",\"\",IF(OR(AH23-AE23=0),AH24,AH23))","v":14},{"$f":"IF(B100=\"\",\"\",IFERROR(VLOOKUP(CONCATENATE(B100,\" вес \",$W$6),'Участники чемпионата'!$A:$AA,13,0),\"\"))","v":""},{"$f":"IF(B100=\"\",\"\",IFERROR(VLOOKUP(CONCATENATE(B100,\" вес \",$W$6),'Участники чемпионата'!$A:$AA,5,0),\"\"))","v":""}]
[null,{"$f":"IF(S32=\"\",\"\",IF(OR(AH29-AE29=0),AH30,AH29))","v":6},{"$f":"IF(B101=\"\",\"\",IFERROR(VLOOKUP(CONCATENATE(B101,\" вес \",$W$6),'Участники чемпионата'!$A:$AA,13,0),\"\"))","v":""},{"$f":"IF(B101=\"\",\"\",IFERROR(VLOOKUP(CONCATENATE(B101,\" вес \",$W$6),'Участники чемпионата'!$A:$AA,5,0),\"\"))","v":""}]
[null,{"$f":"IF(S32=\"\",\"\",IF(OR(AH35-AE35=0),AH36,AH35))","v":8},{"$f":"IF(B102=\"\",\"\",IFERROR(VLOOKUP(CONCATENATE(B102,\" вес \",$W$6),'Участники чемпионата'!$A:$AA,13,0),\"\"))","v":""},{"$f":"IF(B102=\"\",\"\",IFERROR(VLOOKUP(CONCATENATE(B102,\" вес \",$W$6),'Участники чемпионата'!$A:$AA,5,0),\"\"))","v":""}]
[null,{"$f":"IF(S32=\"\",\"\",IF(OR(AH41-AE41=0),AH42,AH41))","v":16},{"$f":"IF(B103=\"\",\"\",IFERROR(VLOOKUP(CONCATENATE(B103,\" вес \",$W$6),'Участники чемпионата'!$A:$AA,13,0),\"\"))","v":""},{"$f":"IF(B103=\"\",\"\",IFERROR(VLOOKUP(CONCATENATE(B103,\" вес \",$W$6),'Участники чемпионата'!$A:$AA,5,0),\"\"))","v":""}]
[null,{"$f":"IF(S32=\"\",\"\",IF(OR(AH47-AE47=0),AH48,AH47))","v":10},{"$f":"IF(B104=\"\",\"\",IFERROR(VLOOKUP(CONCATENATE(B104,\" вес \",$W$6),'Участники чемпионата'!$A:$AA,13,0),\"\"))","v":""},{"$f":"IF(B104=\"\",\"\",IFERROR(VLOOKUP(CONCATENATE(B104,\" вес \",$W$6),'Участники чемпионата'!$A:$AA,5,0),\"\"))","v":""}]
[null,{"$f":"IF(S32=\"\",\"\",IF(OR(AH53-AE53=0),AH54,AH53))","v":31},{"$f":"IF(B105=\"\",\"\",IFERROR(VLOOKUP(CONCATENATE(B105,\" вес \",$W$6),'Участники чемпионата'!$A:$AA,13,0),\"\"))","v":""},{"$f":"IF(B105=\"\",\"\",IFERROR(VLOOKUP(CONCATENATE(B105,\" вес \",$W$6),'Участники чемпионата'!$A:$AA,5,0),\"\"))","v":""}]